BEGIN:VCALENDAR
VERSION:2.0
PRODID:-//Cancer Support Community VVSB - ECPv6.15.18//NONSGML v1.0//EN
CALSCALE:GREGORIAN
METHOD:PUBLISH
X-ORIGINAL-URL:https://cancersupportvvsb.org
X-WR-CALDESC:Events for Cancer Support Community VVSB
REFRESH-INTERVAL;VALUE=DURATION:PT1H
X-Robots-Tag:noindex
X-PUBLISHED-TTL:PT1H
BEGIN:VTIMEZONE
TZID:America/Los_Angeles
BEGIN:DAYLIGHT
TZOFFSETFROM:-0800
TZOFFSETTO:-0700
TZNAME:PDT
DTSTART:20220313T100000
END:DAYLIGHT
BEGIN:STANDARD
TZOFFSETFROM:-0700
TZOFFSETTO:-0800
TZNAME:PST
DTSTART:20221106T090000
END:STANDARD
BEGIN:DAYLIGHT
TZOFFSETFROM:-0800
TZOFFSETTO:-0700
TZNAME:PDT
DTSTART:20230312T100000
END:DAYLIGHT
BEGIN:STANDARD
TZOFFSETFROM:-0700
TZOFFSETTO:-0800
TZNAME:PST
DTSTART:20231105T090000
END:STANDARD
BEGIN:DAYLIGHT
TZOFFSETFROM:-0800
TZOFFSETTO:-0700
TZNAME:PDT
DTSTART:20240310T100000
END:DAYLIGHT
BEGIN:STANDARD
TZOFFSETFROM:-0700
TZOFFSETTO:-0800
TZNAME:PST
DTSTART:20241103T090000
END:STANDARD
BEGIN:DAYLIGHT
TZOFFSETFROM:-0800
TZOFFSETTO:-0700
TZNAME:PDT
DTSTART:20250309T100000
END:DAYLIGHT
BEGIN:STANDARD
TZOFFSETFROM:-0700
TZOFFSETTO:-0800
TZNAME:PST
DTSTART:20251102T090000
END:STANDARD
BEGIN:DAYLIGHT
TZOFFSETFROM:-0800
TZOFFSETTO:-0700
TZNAME:PDT
DTSTART:20260308T100000
END:DAYLIGHT
BEGIN:STANDARD
TZOFFSETFROM:-0700
TZOFFSETTO:-0800
TZNAME:PST
DTSTART:20261101T090000
END:STANDARD
END:VTIMEZONE
BEGIN:VEVENT
DTSTART;TZID=America/Los_Angeles:20250531T090000
DTEND;TZID=America/Los_Angeles:20250531T120000
DTSTAMP:20260423T014433
CREATED:20250501T222300Z
LAST-MODIFIED:20250505T153532Z
UID:10012814-1748682000-1748692800@cancersupportvvsb.org
SUMMARY:Hope Walk Social!
DESCRIPTION:Join us on Saturday\, May 31st for the last Hope Walk Social before the walk! Come for breakfast\, make your team signs or other crafts\, pick up your fundraising incentive prize\, and socialize with other participants. All attendees will be entered in a fun raffle!
URL:https://cancersupportvvsb.org/event/hope-walk-social-final/
LOCATION:Cancer Support Community\, 4195 E Thousand Oaks Blvd #107\, Westlake Village\, CA\, 91362\, United States
CATEGORIES:Special Event
ATTACH;FMTTYPE=image/png:https://cancersupportvvsb.org/wp-content/uploads/2025/01/HopeWalk2025-e1746459321620.png
END:VEVENT
BEGIN:VEVENT
DTSTART;VALUE=DATE:20250526
DTEND;VALUE=DATE:20250527
DTSTAMP:20260423T014433
CREATED:20250825T152911Z
LAST-MODIFIED:20250826T183927Z
UID:10013106-1748217600-1748303999@cancersupportvvsb.org
SUMMARY:Holiday: Office Closed (Memorial Day)
DESCRIPTION:
URL:https://cancersupportvvsb.org/event/holiday-office-closed-9/2025-05-26/
CATEGORIES:Special Event
ATTACH;FMTTYPE=image/png:https://cancersupportvvsb.org/wp-content/uploads/2023/05/Memorial-Day-Closure.png
END:VEVENT
BEGIN:VEVENT
DTSTART;TZID=America/Los_Angeles:20250512T160000
DTEND;TZID=America/Los_Angeles:20250512T180000
DTSTAMP:20260423T014433
CREATED:20250422T213102Z
LAST-MODIFIED:20250422T213259Z
UID:10012812-1747065600-1747072800@cancersupportvvsb.org
SUMMARY:Tacos and Trivia – May Hope Walk Social!
DESCRIPTION:Interested in learning more about the Hope Walk\, want to meet fellow walkers\, or just enjoy Tacos and Trivia?! Join us at the next Hope Walk Social\, Tacos and Trivia! RSVP today!
URL:https://cancersupportvvsb.org/event/may-hope-walk-social/
LOCATION:Cancer Support Community\, 4195 E Thousand Oaks Blvd #107\, Westlake Village\, CA\, 91362\, United States
CATEGORIES:Special Event
END:VEVENT
BEGIN:VEVENT
DTSTART;TZID=America/Los_Angeles:20250407T160000
DTEND;TZID=America/Los_Angeles:20250407T180000
DTSTAMP:20260423T014433
CREATED:20250312T185811Z
LAST-MODIFIED:20250312T185811Z
UID:10012278-1744041600-1744048800@cancersupportvvsb.org
SUMMARY:April Hope Walk Social!
DESCRIPTION:Interested in learning more about the Hope Walk\, want to meet fellow walkers\, or just enjoy pizza and bingo?! Join us at the next Hope Walk Social\, Pizza Party! RSVP today!
URL:https://cancersupportvvsb.org/event/april-hope-walk-social/
LOCATION:Cancer Support Community\, 4195 E Thousand Oaks Blvd #107\, Westlake Village\, CA\, 91362\, United States
CATEGORIES:Special Event
END:VEVENT
BEGIN:VEVENT
DTSTART;TZID=America/Los_Angeles:20250303T160000
DTEND;TZID=America/Los_Angeles:20250303T180000
DTSTAMP:20260423T014433
CREATED:20250219T201530Z
LAST-MODIFIED:20250219T201530Z
UID:10011704-1741017600-1741024800@cancersupportvvsb.org
SUMMARY:March Hope Walk Social!
DESCRIPTION:Have questions or want to meet fellow walkers before the Hope Walk in June? Join us at the next Hope Walk Social for some delicious bites\, event updates\, and socialize with participants and staff. Plus\, rock your Hope Walk t-shirt from previous years for a chance to win a fun prize! RSVP today!
URL:https://cancersupportvvsb.org/event/hope-walk-social/
LOCATION:Tarantula Hill Brewing Co.\, 244 Thousand Oaks Blvd\, Thousand Oaks\, CA\, 91360\, United States
CATEGORIES:Special Event
END:VEVENT
BEGIN:VEVENT
DTSTART;TZID=America/Los_Angeles:20250210T160000
DTEND;TZID=America/Los_Angeles:20250210T180000
DTSTAMP:20260423T014433
CREATED:20250128T012053Z
LAST-MODIFIED:20250128T012053Z
UID:10011702-1739203200-1739210400@cancersupportvvsb.org
SUMMARY:2025 Hope Walk Kick-Off!
DESCRIPTION:Join us on Monday\, February 10 for the 2025 Hope Walk Kick-Off! Hear about this year’s event\, ask questions\, socialize with other participants\, enjoy snacks and drinks\, and win fun prizes!
URL:https://cancersupportvvsb.org/event/hope-walk-kick-off-2025/
CATEGORIES:Special Event
END:VEVENT
BEGIN:VEVENT
DTSTART;TZID=America/Los_Angeles:20250208T123000
DTEND;TZID=America/Los_Angeles:20250208T153000
DTSTAMP:20260423T014433
CREATED:20240110T191331Z
LAST-MODIFIED:20250120T234645Z
UID:10007255-1739017800-1739028600@cancersupportvvsb.org
SUMMARY:Bowl to Strike Out Cancer
DESCRIPTION:Saturday\, February 8th\, 12:30 – 3:30PM\nBuena Lanes\, Ventura \nJoin us on Saturday\, February 8\, at this year’s Bowl to Strike Out Cancer presented by Ventura Downtown Lions Club at Buena Lanes in Ventura. Tickets are $35/each and include 3 casual games of bowling\, BBQ lunch\, event t-shirt\, raffle ticket\, and more! All levels are welcome! A portion of the event proceeds to benefit Cancer Support Community Valley/Ventura/Santa Barbara. \nTo register for tickets click here and when checking out add CSC and/or your team’s name under “Order Notes.” \nDownload the flyer for more information.  
URL:https://cancersupportvvsb.org/event/bowl-to-strike-out-cancer/
CATEGORIES:Special Event
END:VEVENT
BEGIN:VEVENT
DTSTART;VALUE=DATE:20241223
DTEND;VALUE=DATE:20250104
DTSTAMP:20260423T014433
CREATED:20221221T232806Z
LAST-MODIFIED:20240828T162458Z
UID:10002962-1734912000-1735948799@cancersupportvvsb.org
SUMMARY:Winter Holiday Closure
DESCRIPTION:  \n\nOur office will be closed from December 23\, 2024\, through January 6\, 2024. We will reopen on Monday\, January 6th. Weekly Orientations for newcomers will resume on Monday\, January 6th. If you have questions\, please contact us at programs@cancersupportvvsb.org and we will return your message once we reopen. \n\n\n\n\n\n\n\n\n\n\n\n\n\n\n\n 
URL:https://cancersupportvvsb.org/event/winter-holiday-closure/
CATEGORIES:Special Event
ATTACH;FMTTYPE=image/png:https://cancersupportvvsb.org/wp-content/uploads/2022/12/Closed-for-the-Holidays.png
END:VEVENT
BEGIN:VEVENT
DTSTART;TZID=America/Los_Angeles:20241206T170000
DTEND;TZID=America/Los_Angeles:20241206T190000
DTSTAMP:20260423T014433
CREATED:20241113T205447Z
LAST-MODIFIED:20241113T205447Z
UID:10011069-1733504400-1733511600@cancersupportvvsb.org
SUMMARY:12/6 Holiday Party
DESCRIPTION:Date: Friday December 6\, 2024Time: 5:00 – 7:00 pmLocation: Cancer Support Community\, 4195 E. Thousand Oaks Blvd. #107\, WLV 91362RSVP: mhale@cancersupportvvsb.org or 805-379-4777 \n\n\n\n\n\nDownload the flyer here. \n\n\n\nJoin us for food\, drinks\, games\, and music.  \n\n\n\n\n\n\n\n\n\n\n\n\n\n\n\n\n\n\n\n \n\n\n\n\n\n 
URL:https://cancersupportvvsb.org/event/holiday-party-2024/
CATEGORIES:Special Event
END:VEVENT
BEGIN:VEVENT
DTSTART;VALUE=DATE:20241128
DTEND;VALUE=DATE:20241130
DTSTAMP:20260423T014433
CREATED:20230517T002232Z
LAST-MODIFIED:20240828T162205Z
UID:10003614-1732752000-1732924799@cancersupportvvsb.org
SUMMARY:Holiday: Office Closed
DESCRIPTION:
URL:https://cancersupportvvsb.org/event/holiday-office-closed-4/
CATEGORIES:Special Event
ATTACH;FMTTYPE=image/png:https://cancersupportvvsb.org/wp-content/uploads/2023/05/Thanksgiving-closure-e1686603705526.png
END:VEVENT
BEGIN:VEVENT
DTSTART;TZID=America/Los_Angeles:20241107T173000
DTEND;TZID=America/Los_Angeles:20241107T190000
DTSTAMP:20260423T014433
CREATED:20241010T172959Z
LAST-MODIFIED:20241010T172959Z
UID:10010993-1731000600-1731006000@cancersupportvvsb.org
SUMMARY:Evening of Remembrance
DESCRIPTION:Evening of RemembranceDate: Thursday\, November 7\, 2024Time: 5:30 – 7:00 pmLocation: CSCVVSB office; 4195 E. Thousand Oaks Blvd.\, #107\, WLV 91362 RSVP: mhale@cancersupportvvsb.org or 805-379-4777 \n\n\n\nJoin us for a special evening for those who have lost a loved one to cancer. Through readings and sharing\, this will be a time to remember\, reflect\, and celebrate the lives of those no longer here\, but never forgotten. Bring your loved ones’ photos for the Remembrance Table. If you have flameless candles\, please bring those as well. Refreshments will be served. \nRegistration: 5:30 pm \nProgram: 6-7:00 pm
URL:https://cancersupportvvsb.org/event/evening-of-remembrance-3/
CATEGORIES:Special Event
END:VEVENT
BEGIN:VEVENT
DTSTART;TZID=America/Los_Angeles:20240915T150000
DTEND;TZID=America/Los_Angeles:20240915T200000
DTSTAMP:20260423T014433
CREATED:20240701T194910Z
LAST-MODIFIED:20240701T195253Z
UID:10009905-1726412400-1726430400@cancersupportvvsb.org
SUMMARY:Celebration of Hope Garden Party
DESCRIPTION:Join us for the Celebration of Hope Garden Party on Sunday\, September 15th at 3:00PM at Los Robles Greens in Thousand Oaks. Guests will enjoy a bountiful dinner\, abundant silent auction\, spirited live auction\, popular wine pull\, and the NEW Golden Ticket raffle\, along with plenty of relationship building with colleagues\, friends and loved ones. \nThe NEW Golden Ticket raffle is your chance to win an exciting package valued at $1\,500-$7\,500+! Purchase your Golden Ticket for $100 and you’ll be entered in for a chance to win and take home one of the available Live Auction packages before they are auctioned off! Hurry! Only 100 are available! Restrictions: the winner must be present and tickets are non-transferable. \nWe anticipate a sell-out event.  \nClick here to get your tickets today! \n  \n\n\n\n\n\n\n\n\n\n\n\n\n\n\n\n 
URL:https://cancersupportvvsb.org/event/celebration-of-hope-garden-party-2/
LOCATION:Los Robles Greens\, 299 S. Moorpark Road\, Thousand Oaks\, CA\, 91361\, United States
CATEGORIES:Special Event
ATTACH;FMTTYPE=image/png:https://cancersupportvvsb.org/wp-content/uploads/2022/12/2023-COH-logo-e1686603739711.png
END:VEVENT
BEGIN:VEVENT
DTSTART;VALUE=DATE:20240902
DTEND;VALUE=DATE:20240903
DTSTAMP:20260423T014433
CREATED:20230516T235712Z
LAST-MODIFIED:20240828T161700Z
UID:10003610-1725235200-1725321599@cancersupportvvsb.org
SUMMARY:Holiday: Office Closed
DESCRIPTION:
URL:https://cancersupportvvsb.org/event/holiday-office-closed-3/
CATEGORIES:Special Event
ATTACH;FMTTYPE=image/png:https://cancersupportvvsb.org/wp-content/uploads/2023/05/Labor-Day-closure-e1686603790187.png
END:VEVENT
BEGIN:VEVENT
DTSTART;VALUE=DATE:20240704
DTEND;VALUE=DATE:20240705
DTSTAMP:20260423T014433
CREATED:20230517T002105Z
LAST-MODIFIED:20240626T172846Z
UID:10003613-1720051200-1720137599@cancersupportvvsb.org
SUMMARY:Holiday: Office Closed
DESCRIPTION:
URL:https://cancersupportvvsb.org/event/holiday-office-closed-2/
CATEGORIES:Special Event
ATTACH;FMTTYPE=image/png:https://cancersupportvvsb.org/wp-content/uploads/2023/05/Independence-Day-closure-e1686603824304.png
END:VEVENT
BEGIN:VEVENT
DTSTART;TZID=America/Los_Angeles:20240623T090000
DTEND;TZID=America/Los_Angeles:20240623T130000
DTSTAMP:20260423T014433
CREATED:20240208T203441Z
LAST-MODIFIED:20240701T194704Z
UID:10008291-1719133200-1719147600@cancersupportvvsb.org
SUMMARY:Caravan for Cancer
DESCRIPTION:Come show off your car and join us for a canyon drive through Malibu. Afterwards\, enjoy a BBQ lunch and exciting raffle prizes!  \nClick here to download the flyer. \n\n\n\n\n\n\n\n\n\n\n\n  \n\n\n\n\n\n\n\n\n\n\n\n\n\n\n\n 
URL:https://cancersupportvvsb.org/event/caravan-for-cancer/
CATEGORIES:Special Event
ATTACH;FMTTYPE=image/png:https://cancersupportvvsb.org/wp-content/uploads/2023/04/drive-logo-Facebook-Post-Landscape-1-e1686603865809.png
END:VEVENT
BEGIN:VEVENT
DTSTART;TZID=America/Los_Angeles:20240608T080000
DTEND;TZID=America/Los_Angeles:20240608T080000
DTSTAMP:20260423T014433
CREATED:20240205T203325Z
LAST-MODIFIED:20240701T194624Z
UID:10008290-1717833600-1717833600@cancersupportvvsb.org
SUMMARY:Hope Walk
DESCRIPTION:Join us for our 6th Annual Hope Walk on Saturday\, June 8th at California Lutheran University. Register (for free!)\, join a team\, and donate today. Fundraise to win exciting and exclusive incentive prizes this year! \n\n\n\n\n\n\n\n\n\n\n\n\n\n\n\n 
URL:https://cancersupportvvsb.org/event/hope-walk-2/
CATEGORIES:Special Event
ATTACH;FMTTYPE=image/jpeg:https://cancersupportvvsb.org/wp-content/uploads/2024/02/HopeWalk2024-e1708646472452.jpg
END:VEVENT
BEGIN:VEVENT
DTSTART;TZID=America/Los_Angeles:20240601T090000
DTEND;TZID=America/Los_Angeles:20240601T120000
DTSTAMP:20260423T014433
CREATED:20240515T152223Z
LAST-MODIFIED:20240515T215018Z
UID:10009732-1717232400-1717243200@cancersupportvvsb.org
SUMMARY:Hope Walk Mixer!
DESCRIPTION:  \n\nJoin us on Saturday\, June 1st for the last Hope Walk Mixer before the walk! Come for breakfast\, make your team signs\, pick up your fundraising incentive prize\, and socialize with other participants. All attendees will be entered in our raffle! \n\n\n\n\n\n\n\n\n\n\n\n\n\n\n\n\n\n 
URL:https://cancersupportvvsb.org/event/hope-walk-mixer-4/
CATEGORIES:Special Event
ATTACH;FMTTYPE=image/jpeg:https://cancersupportvvsb.org/wp-content/uploads/2024/02/HopeWalk2024-e1708646472452.jpg
END:VEVENT
BEGIN:VEVENT
DTSTART;VALUE=DATE:20240527
DTEND;VALUE=DATE:20240528
DTSTAMP:20260423T014433
CREATED:20250825T152911Z
LAST-MODIFIED:20250826T183927Z
UID:10013105-1716768000-1716854399@cancersupportvvsb.org
SUMMARY:Holiday: Office Closed (Memorial Day)
DESCRIPTION:
URL:https://cancersupportvvsb.org/event/holiday-office-closed-9/2024-05-27/
CATEGORIES:Special Event
ATTACH;FMTTYPE=image/png:https://cancersupportvvsb.org/wp-content/uploads/2023/05/Memorial-Day-Closure.png
END:VEVENT
BEGIN:VEVENT
DTSTART;VALUE=DATE:20240527
DTEND;VALUE=DATE:20240528
DTSTAMP:20260423T014433
CREATED:20240516T200207Z
LAST-MODIFIED:20240516T200207Z
UID:10009759-1716768000-1716854399@cancersupportvvsb.org
SUMMARY:Holiday: Office Closed
DESCRIPTION:
URL:https://cancersupportvvsb.org/event/holiday-office-closed-7/
CATEGORIES:Special Event
ATTACH;FMTTYPE=image/png:https://cancersupportvvsb.org/wp-content/uploads/2023/05/Memorial-Day-Closure.png
END:VEVENT
BEGIN:VEVENT
DTSTART;TZID=America/Los_Angeles:20240506T160000
DTEND;TZID=America/Los_Angeles:20240506T180000
DTSTAMP:20260423T014433
CREATED:20240424T172304Z
LAST-MODIFIED:20240426T160001Z
UID:10009718-1715011200-1715018400@cancersupportvvsb.org
SUMMARY:Hope Walk Mixer!
DESCRIPTION:  \n\nJoin us on Monday\, May 6th for the next Hope Walk Mixer! Enjoy food and drinks\, a fun game\, and mix and mingle with other participants! Every attendee will be entered into a raffle! Additionally\, bring a guest and you could win an exciting prize!  \n\n\n\n\n\n\n\n\n\n\n\n\n\n\n\n\n\n 
URL:https://cancersupportvvsb.org/event/hope-walk-mixer-3/
CATEGORIES:Special Event
ATTACH;FMTTYPE=image/jpeg:https://cancersupportvvsb.org/wp-content/uploads/2024/02/HopeWalk2024-e1708646472452.jpg
END:VEVENT
BEGIN:VEVENT
DTSTART;TZID=America/Los_Angeles:20240415T160000
DTEND;TZID=America/Los_Angeles:20240415T180000
DTSTAMP:20260423T014433
CREATED:20240403T184556Z
LAST-MODIFIED:20240403T184556Z
UID:10009136-1713196800-1713204000@cancersupportvvsb.org
SUMMARY:Hope Walk Mixer!
DESCRIPTION:  \n\nJoin us on Monday\, April 15th for the next Hope Walk Mixer! Register for the event\, ask questions\, socialize with other teams\, and learn fun fundraising tips. \n\n\n\n\n\n\n\n\n\n\n\n\n\n\n\n\n\n 
URL:https://cancersupportvvsb.org/event/hope-walk-mixer-2/
CATEGORIES:Special Event
ATTACH;FMTTYPE=image/jpeg:https://cancersupportvvsb.org/wp-content/uploads/2024/02/HopeWalk2024-e1708646472452.jpg
END:VEVENT
BEGIN:VEVENT
DTSTART;TZID=America/Los_Angeles:20240318T160000
DTEND;TZID=America/Los_Angeles:20240318T180000
DTSTAMP:20260423T014433
CREATED:20240222T231620Z
LAST-MODIFIED:20240223T000122Z
UID:10008558-1710777600-1710784800@cancersupportvvsb.org
SUMMARY:Hope Walk Kick-Off!
DESCRIPTION:  \n\nJoin us on Monday\, March 18 for the Hope Walk Kick-Off! Hear about this year’s event\, ask questions\, socialize with other teams\, preview our exclusive incentive prizes\, and take a tour of our new office. \n\n\n\n\n\n\n\n\n\n\n\n\n\n\n\n\n\n 
URL:https://cancersupportvvsb.org/event/hope-walk-kick-off/
CATEGORIES:Special Event
ATTACH;FMTTYPE=image/jpeg:https://cancersupportvvsb.org/wp-content/uploads/2024/02/HopeWalk2024-e1708646472452.jpg
END:VEVENT
BEGIN:VEVENT
DTSTART;VALUE=DATE:20231224
DTEND;VALUE=DATE:20240102
DTSTAMP:20260423T014433
CREATED:20230517T003329Z
LAST-MODIFIED:20230612T210123Z
UID:10003615-1703376000-1704153599@cancersupportvvsb.org
SUMMARY:Holiday: Office Closed
DESCRIPTION:
URL:https://cancersupportvvsb.org/event/holiday-office-closed-5/
CATEGORIES:Special Event
ATTACH;FMTTYPE=image/png:https://cancersupportvvsb.org/wp-content/uploads/2023/05/Winter-Holiday-closure-e1686603672797.png
END:VEVENT
BEGIN:VEVENT
DTSTART;TZID=America/Los_Angeles:20231208T170000
DTEND;TZID=America/Los_Angeles:20231208T190000
DTSTAMP:20260423T014433
CREATED:20231113T220318Z
LAST-MODIFIED:20231113T220318Z
UID:10006408-1702054800-1702062000@cancersupportvvsb.org
SUMMARY:Winter Wonderland Holiday Party
DESCRIPTION:Winter Wonderland Holiday Party \nDate: Friday December 8\, 2023Time: 5:00 – 7:00 pmLocation: CSCVVSB office; 4195 E. Thousand Oaks Blvd.\, #107\, WLV 91362RSVP: programs@cancersupportvvsb.org or 805-379-4777 \n\n\n\n\n\nDownload the flyer here. \n\n\n\nJoin us for food\, drinks\, games\, and music.  \n\n\n\n\n\n\n\n  \n\n\n\n\n\n\n\n\n\n\n\n \n\n\n\n\n\n 
URL:https://cancersupportvvsb.org/event/winter-wonderland-holiday-party/
CATEGORIES:Special Event
END:VEVENT
BEGIN:VEVENT
DTSTART;TZID=America/Los_Angeles:20231102T173000
DTEND;TZID=America/Los_Angeles:20231102T190000
DTSTAMP:20260423T014433
CREATED:20231011T160735Z
LAST-MODIFIED:20231016T214439Z
UID:10006165-1698946200-1698951600@cancersupportvvsb.org
SUMMARY:Evening of Remembrance
DESCRIPTION:Evening of Remembrance  \nDate: Thursday November 2\, 2023Time: 5:30 – 7:00 pmLocation: CSCVVSB office; 4195 E. Thousand Oaks Blvd.\, #107\, WLV 91362RSVP: 805-379-4777 \nDownload the flyer. \nJoin us for a special evening for those who have lost a loved one to cancer. Through readings and sharing\, this is a chance to remember\, reflect\, and celebrate the lives of those no longer here\, but never forgotten. Bring your loved ones’ photos for the Remembrance Table. If you have flameless candles\, please bring those as well. Refreshments will be served. \nRegistration: 5:30 pm \nProgram: 6-7:00 pm
URL:https://cancersupportvvsb.org/event/evening-of-remembrance-2/
CATEGORIES:Special Event
END:VEVENT
BEGIN:VEVENT
DTSTART;TZID=America/Los_Angeles:20231005T163000
DTEND;TZID=America/Los_Angeles:20231005T173000
DTSTAMP:20260423T014433
CREATED:20230727T210520Z
LAST-MODIFIED:20230913T161222Z
UID:10005154-1696523400-1696527000@cancersupportvvsb.org
SUMMARY:Re-Grand Opening Celebration
DESCRIPTION:We are at capacity for our grand opening. Please keep an eye on the weekly Community Connect for our end of year Holiday Open House!
URL:https://cancersupportvvsb.org/event/re-grand-opening-celebration/
CATEGORIES:Special Event
END:VEVENT
BEGIN:VEVENT
DTSTART;TZID=America/Los_Angeles:20230918T180000
DTEND;TZID=America/Los_Angeles:20230918T190000
DTSTAMP:20260423T014433
CREATED:20230831T153929Z
LAST-MODIFIED:20230831T153929Z
UID:10005441-1695060000-1695063600@cancersupportvvsb.org
SUMMARY:Online Event: Comedy Night!
DESCRIPTION:  \n\nComedy Night!! \n\n\n\nDate: Monday\, September 18thTime: 6:00 – 7:00 pmLocation: Online (Zoom) \n\n\n\nEvent Description:Laugh the night away as professional stand-up comedians entertain you and your friends coordinated by CSCVVSB friend & supporter Jason Love \n\n\n\nDownload the flyer here
URL:https://cancersupportvvsb.org/event/online-event-comedy-night-2/
CATEGORIES:Special Event
END:VEVENT
BEGIN:VEVENT
DTSTART;TZID=America/Los_Angeles:20230917T160000
DTEND;TZID=America/Los_Angeles:20230917T200000
DTSTAMP:20260423T014433
CREATED:20221213T222357Z
LAST-MODIFIED:20230727T155000Z
UID:10002840-1694966400-1694980800@cancersupportvvsb.org
SUMMARY:Celebration of Hope Garden Party & Awards Dinners
DESCRIPTION:We invite you to join us for this memorable evening that continues its tradition of bringing guests a bountiful dinner\, abundant silent auction\, spirited live auction\, and popular wine pull\, along with plenty of relationship building with colleagues\, friends\, and loved ones. And this year\, we’ve created some new and wonderful experiences\, including “Mystery Boxes” brimming with swag from national brands and a special tribute to our local Oncology Heroes working in a supportive care capacity. We anticipate a sell-out event.  \nClick here to get your tickets today! \n  \n\n\n\n\n\n\n\n\n\n\n\n\n\n\n\n 
URL:https://cancersupportvvsb.org/event/celebrationofhope-2023/
LOCATION:Los Robles Greens\, 299 S. Moorpark Road\, Thousand Oaks\, CA\, 91361\, United States
CATEGORIES:Special Event
END:VEVENT
BEGIN:VEVENT
DTSTART;VALUE=DATE:20230703
DTEND;VALUE=DATE:20230704
DTSTAMP:20260423T014433
CREATED:20230629T205128Z
LAST-MODIFIED:20230629T205128Z
UID:10004732-1688342400-1688428799@cancersupportvvsb.org
SUMMARY:Holiday: Office Closed
DESCRIPTION:
URL:https://cancersupportvvsb.org/event/holiday-office-closed-6/
CATEGORIES:Special Event
ATTACH;FMTTYPE=image/png:https://cancersupportvvsb.org/wp-content/uploads/2023/05/Independence-Day-closure-e1686603824304.png
END:VEVENT
BEGIN:VEVENT
DTSTART;TZID=America/Los_Angeles:20230625T090000
DTEND;TZID=America/Los_Angeles:20230625T130000
DTSTAMP:20260423T014433
CREATED:20230404T193741Z
LAST-MODIFIED:20230613T170451Z
UID:10003391-1687683600-1687698000@cancersupportvvsb.org
SUMMARY:Caravan for Cancer
DESCRIPTION:Location: Begins and ends at CSCVVSB office\, drive through the canyons to Malibu. \n$100 Registration per car includes continental breakfast\, goodie bag\, post-drive tailgate lunch. Event hosted by John Cofiell\, CSC Board of Directors. Proceeds support CSCVVSB’s programs helping people overcome the challenges of a cancer diagnosis with emotional support\, education\, and community. For more information\, email Monica Merryman\, Executive Director. \nPlease note: proof of car insurance will be needed the day of event. \nCars registered as of June 8th: 1961 Chevrolet Corvette\, 1962 Chevrolet Corvette\, 1987 Porsche 911 coupe\, 1991 Acura NSX\, 1997 Rolls Royce Silver Spur\, 2003 Thunderbird\, 2009 Corvette\, 2019 Chevrolet Corvette Grand Sport\, 2020 Porsche 911 Carrera S\, 2022 BMW 540i\, Dodge Challenger\, Mercedes 350SL\, Polestar 2\, Subaru WRX STI \n\n\n\n\n\n\n\n\n\n\n\n  \n\n\n\n\n\n\n\n\n\n\n\n\n\n\n\n 
URL:https://cancersupportvvsb.org/event/car-fun-raising-drive/
CATEGORIES:Special Event
ATTACH;FMTTYPE=image/png:https://cancersupportvvsb.org/wp-content/uploads/2023/04/drive-logo-Facebook-Post-Landscape-1-e1686603865809.png
END:VEVENT
END:VCALENDAR