BEGIN:VCALENDAR
VERSION:2.0
PRODID:-//Cancer Support Community VVSB - ECPv6.15.18//NONSGML v1.0//EN
CALSCALE:GREGORIAN
METHOD:PUBLISH
X-WR-CALNAME:Cancer Support Community VVSB
X-ORIGINAL-URL:https://cancersupportvvsb.org
X-WR-CALDESC:Events for Cancer Support Community VVSB
REFRESH-INTERVAL;VALUE=DURATION:PT1H
X-Robots-Tag:noindex
X-PUBLISHED-TTL:PT1H
BEGIN:VTIMEZONE
TZID:America/Los_Angeles
BEGIN:DAYLIGHT
TZOFFSETFROM:-0800
TZOFFSETTO:-0700
TZNAME:PDT
DTSTART:20210314T100000
END:DAYLIGHT
BEGIN:STANDARD
TZOFFSETFROM:-0700
TZOFFSETTO:-0800
TZNAME:PST
DTSTART:20211107T090000
END:STANDARD
BEGIN:DAYLIGHT
TZOFFSETFROM:-0800
TZOFFSETTO:-0700
TZNAME:PDT
DTSTART:20220313T100000
END:DAYLIGHT
BEGIN:STANDARD
TZOFFSETFROM:-0700
TZOFFSETTO:-0800
TZNAME:PST
DTSTART:20221106T090000
END:STANDARD
BEGIN:DAYLIGHT
TZOFFSETFROM:-0800
TZOFFSETTO:-0700
TZNAME:PDT
DTSTART:20230312T100000
END:DAYLIGHT
BEGIN:STANDARD
TZOFFSETFROM:-0700
TZOFFSETTO:-0800
TZNAME:PST
DTSTART:20231105T090000
END:STANDARD
BEGIN:DAYLIGHT
TZOFFSETFROM:-0800
TZOFFSETTO:-0700
TZNAME:PDT
DTSTART:20240310T100000
END:DAYLIGHT
BEGIN:STANDARD
TZOFFSETFROM:-0700
TZOFFSETTO:-0800
TZNAME:PST
DTSTART:20241103T090000
END:STANDARD
END:VTIMEZONE
BEGIN:VEVENT
DTSTART;TZID=America/Los_Angeles:20231102T173000
DTEND;TZID=America/Los_Angeles:20231102T190000
DTSTAMP:20260421T105752
CREATED:20231011T160735Z
LAST-MODIFIED:20231016T214439Z
UID:10006165-1698946200-1698951600@cancersupportvvsb.org
SUMMARY:Evening of Remembrance
DESCRIPTION:Evening of Remembrance  \nDate: Thursday November 2\, 2023Time: 5:30 – 7:00 pmLocation: CSCVVSB office; 4195 E. Thousand Oaks Blvd.\, #107\, WLV 91362RSVP: 805-379-4777 \nDownload the flyer. \nJoin us for a special evening for those who have lost a loved one to cancer. Through readings and sharing\, this is a chance to remember\, reflect\, and celebrate the lives of those no longer here\, but never forgotten. Bring your loved ones’ photos for the Remembrance Table. If you have flameless candles\, please bring those as well. Refreshments will be served. \nRegistration: 5:30 pm \nProgram: 6-7:00 pm
URL:https://cancersupportvvsb.org/event/evening-of-remembrance-2/
LOCATION:CA
CATEGORIES:Special Event
END:VEVENT
BEGIN:VEVENT
DTSTART;TZID=America/Los_Angeles:20231005T163000
DTEND;TZID=America/Los_Angeles:20231005T173000
DTSTAMP:20260421T105752
CREATED:20230727T210520Z
LAST-MODIFIED:20230913T161222Z
UID:10005154-1696523400-1696527000@cancersupportvvsb.org
SUMMARY:Re-Grand Opening Celebration
DESCRIPTION:We are at capacity for our grand opening. Please keep an eye on the weekly Community Connect for our end of year Holiday Open House!
URL:https://cancersupportvvsb.org/event/re-grand-opening-celebration/
LOCATION:CA
CATEGORIES:Special Event
END:VEVENT
BEGIN:VEVENT
DTSTART;TZID=America/Los_Angeles:20230918T180000
DTEND;TZID=America/Los_Angeles:20230918T190000
DTSTAMP:20260421T105752
CREATED:20230831T153929Z
LAST-MODIFIED:20230831T153929Z
UID:10005441-1695060000-1695063600@cancersupportvvsb.org
SUMMARY:Online Event: Comedy Night!
DESCRIPTION:  \n\nComedy Night!! \n\n\n\nDate: Monday\, September 18thTime: 6:00 – 7:00 pmLocation: Online (Zoom) \n\n\n\nEvent Description:Laugh the night away as professional stand-up comedians entertain you and your friends coordinated by CSCVVSB friend & supporter Jason Love \n\n\n\nDownload the flyer here
URL:https://cancersupportvvsb.org/event/online-event-comedy-night-2/
LOCATION:CA
CATEGORIES:Special Event
END:VEVENT
BEGIN:VEVENT
DTSTART;TZID=America/Los_Angeles:20230917T160000
DTEND;TZID=America/Los_Angeles:20230917T200000
DTSTAMP:20260421T105752
CREATED:20221213T222357Z
LAST-MODIFIED:20230727T155000Z
UID:10002840-1694966400-1694980800@cancersupportvvsb.org
SUMMARY:Celebration of Hope Garden Party & Awards Dinners
DESCRIPTION:We invite you to join us for this memorable evening that continues its tradition of bringing guests a bountiful dinner\, abundant silent auction\, spirited live auction\, and popular wine pull\, along with plenty of relationship building with colleagues\, friends\, and loved ones. And this year\, we’ve created some new and wonderful experiences\, including “Mystery Boxes” brimming with swag from national brands and a special tribute to our local Oncology Heroes working in a supportive care capacity. We anticipate a sell-out event.  \nClick here to get your tickets today! \n  \n\n\n\n\n\n\n\n\n\n\n\n\n\n\n\n 
URL:https://cancersupportvvsb.org/event/celebrationofhope-2023/
LOCATION:Los Robles Greens\, 299 S. Moorpark Road\, Thousand Oaks\, CA\, 91361\, United States
CATEGORIES:Special Event
END:VEVENT
BEGIN:VEVENT
DTSTART;VALUE=DATE:20230703
DTEND;VALUE=DATE:20230704
DTSTAMP:20260421T105752
CREATED:20230629T205128Z
LAST-MODIFIED:20230629T205128Z
UID:10004732-1688342400-1688428799@cancersupportvvsb.org
SUMMARY:Holiday: Office Closed
DESCRIPTION:
URL:https://cancersupportvvsb.org/event/holiday-office-closed-6/
LOCATION:CA
CATEGORIES:Special Event
ATTACH;FMTTYPE=image/png:https://cancersupportvvsb.org/wp-content/uploads/2023/05/Independence-Day-closure-e1686603824304.png
END:VEVENT
BEGIN:VEVENT
DTSTART;TZID=America/Los_Angeles:20230625T090000
DTEND;TZID=America/Los_Angeles:20230625T130000
DTSTAMP:20260421T105752
CREATED:20230404T193741Z
LAST-MODIFIED:20230613T170451Z
UID:10003391-1687683600-1687698000@cancersupportvvsb.org
SUMMARY:Caravan for Cancer
DESCRIPTION:Location: Begins and ends at CSCVVSB office\, drive through the canyons to Malibu. \n$100 Registration per car includes continental breakfast\, goodie bag\, post-drive tailgate lunch. Event hosted by John Cofiell\, CSC Board of Directors. Proceeds support CSCVVSB’s programs helping people overcome the challenges of a cancer diagnosis with emotional support\, education\, and community. For more information\, email Monica Merryman\, Executive Director. \nPlease note: proof of car insurance will be needed the day of event. \nCars registered as of June 8th: 1961 Chevrolet Corvette\, 1962 Chevrolet Corvette\, 1987 Porsche 911 coupe\, 1991 Acura NSX\, 1997 Rolls Royce Silver Spur\, 2003 Thunderbird\, 2009 Corvette\, 2019 Chevrolet Corvette Grand Sport\, 2020 Porsche 911 Carrera S\, 2022 BMW 540i\, Dodge Challenger\, Mercedes 350SL\, Polestar 2\, Subaru WRX STI \n\n\n\n\n\n\n\n\n\n\n\n  \n\n\n\n\n\n\n\n\n\n\n\n\n\n\n\n 
URL:https://cancersupportvvsb.org/event/car-fun-raising-drive/
LOCATION:CA
CATEGORIES:Special Event
ATTACH;FMTTYPE=image/png:https://cancersupportvvsb.org/wp-content/uploads/2023/04/drive-logo-Facebook-Post-Landscape-1-e1686603865809.png
END:VEVENT
BEGIN:VEVENT
DTSTART;TZID=America/Los_Angeles:20230619T180000
DTEND;TZID=America/Los_Angeles:20230619T190000
DTSTAMP:20260421T105752
CREATED:20230601T221035Z
LAST-MODIFIED:20230608T163135Z
UID:10003638-1687197600-1687201200@cancersupportvvsb.org
SUMMARY:Online Event: Comedy Night!
DESCRIPTION:Comedy Night!! \n\n\n\nDate: Monday\, June 19thTime: 6:00 – 7:00 pmLocation: Online (Zoom) \n\n\n\nEvent Description:Laugh the night away as professional stand-up comedians entertain you and your friends coordinated by CSCVVSB friend & supporter Jason Love \n\n\n\nDownload the flyer here
URL:https://cancersupportvvsb.org/event/online-event-comedy-night/
LOCATION:CA
CATEGORIES:Special Event
END:VEVENT
BEGIN:VEVENT
DTSTART;TZID=America/Los_Angeles:20230610T080000
DTEND;TZID=America/Los_Angeles:20230610T080000
DTSTAMP:20260421T105752
CREATED:20221213T222627Z
LAST-MODIFIED:20230302T003817Z
UID:10002841-1686384000-1686384000@cancersupportvvsb.org
SUMMARY:Hope Walk
DESCRIPTION:Join us for our 5th Annual Hope Walk on Saturday\, June 10th at California Lutheran University. Check-in begins at 8am. Register (for free!)\, join a team\, and donate today by clicking here. Fundraise to win exciting and exclusive incentive prizes this year!
URL:https://cancersupportvvsb.org/event/hope-walk/
LOCATION:CA
CATEGORIES:Special Event
END:VEVENT
BEGIN:VEVENT
DTSTART;VALUE=DATE:20230529
DTEND;VALUE=DATE:20230530
DTSTAMP:20260421T105752
CREATED:20230517T002023Z
LAST-MODIFIED:20230517T002029Z
UID:10003612-1685318400-1685404799@cancersupportvvsb.org
SUMMARY:Holiday: Office Closed
DESCRIPTION:
URL:https://cancersupportvvsb.org/event/holiday-office-closed/
LOCATION:CA
CATEGORIES:Special Event
ATTACH;FMTTYPE=image/png:https://cancersupportvvsb.org/wp-content/uploads/2023/05/Memorial-Day-Closure.png
END:VEVENT
BEGIN:VEVENT
DTSTART;TZID=America/Los_Angeles:20230417T173000
DTEND;TZID=America/Los_Angeles:20230417T183000
DTSTAMP:20260421T105752
CREATED:20230404T202436Z
LAST-MODIFIED:20230404T202907Z
UID:10003392-1681752600-1681756200@cancersupportvvsb.org
SUMMARY:Hope Walk Mixer
DESCRIPTION:Join us online for the next Hope Walk Mixer and Information Session. Hear about this year’s event\, meet the planning committee\, website overview\, see the fundraising incentive prizes and ask questions.
URL:https://cancersupportvvsb.org/event/hope-walk-mixer/
LOCATION:CA
CATEGORIES:Special Event
END:VEVENT
BEGIN:VEVENT
DTSTART;TZID=America/Los_Angeles:20230330T173000
DTEND;TZID=America/Los_Angeles:20230330T190000
DTSTAMP:20260421T105752
CREATED:20230301T220446Z
LAST-MODIFIED:20230302T003247Z
UID:10003027-1680197400-1680202800@cancersupportvvsb.org
SUMMARY:Hope Walk Halfway Mixer
DESCRIPTION:Join us on March 30th for a Halfway Mixer! Socialize with other teams\, preview our exclusive incentive prizes\, and take a tour of the CSCVVSB building. Plus\, meet our 2023 Hope Walk Ambassador Mel Ramsey.
URL:https://cancersupportvvsb.org/event/hope-walk-halfway-mixer/
LOCATION:CA
CATEGORIES:Special Event
END:VEVENT
BEGIN:VEVENT
DTSTART;TZID=America/Los_Angeles:20230320T180000
DTEND;TZID=America/Los_Angeles:20230320T190000
DTSTAMP:20260421T105752
CREATED:20230307T202016Z
LAST-MODIFIED:20230307T202017Z
UID:10003028-1679335200-1679338800@cancersupportvvsb.org
SUMMARY:Online: Comedy Night!!
DESCRIPTION:Comedy Night!! \n\n\n\nDate: Monday\, March 20thTime: 6:00 – 7:00 pmLocation: Online (Zoom) \n\n\n\nEvent Description:Laugh the night away as professional stand-up comedians entertain you and your friends coordinated by CSCVVSB friend & supporter Jason Love \n\n\n\nDownload the flyer here \n\n\n\n \n\n\n\nRegistration Details
URL:https://cancersupportvvsb.org/event/online-comedy-night/
LOCATION:CA
CATEGORIES:Special Event
END:VEVENT
BEGIN:VEVENT
DTSTART;TZID=America/Los_Angeles:20230228T093000
DTEND;TZID=America/Los_Angeles:20230228T103000
DTSTAMP:20260421T105752
CREATED:20230119T172940Z
LAST-MODIFIED:20230123T181643Z
UID:10003012-1677576600-1677580200@cancersupportvvsb.org
SUMMARY:Coffee with the ED
DESCRIPTION:Date: Tuesday\, February 28\, 2023Time: 9:30 – 10:30 amLocation: Cancer Support Community VVSB office – 530 Hampshire Road\, Westlake Village\, CA 91361 \n\n\n\nEvent Description: \n\n\n\nPlease join us for coffee and conversation with Executive Director Monica Merryman\, including 2023 updates and plans\, followed by a Q&A session.
URL:https://cancersupportvvsb.org/event/coffee-with-the-ed/
LOCATION:CA
CATEGORIES:Special Event
END:VEVENT
BEGIN:VEVENT
DTSTART;TZID=America/Los_Angeles:20221209T170000
DTEND;TZID=America/Los_Angeles:20221209T190000
DTSTAMP:20260421T105752
CREATED:20221104T180527Z
LAST-MODIFIED:20221109T225507Z
UID:10002774-1670605200-1670612400@cancersupportvvsb.org
SUMMARY:Holiday Open House
DESCRIPTION:Holiday Open House \n\n\n\nDate: Friday\, December 9thTime: 5:00 – 7:00 pmLocation: Cancer Support Community VVSB RSVP: programs@cancersupportvvsb.org or 805-379-4777 \n\n\n\nEvent Description:Dive into the holiday spirit at our Holiday Open House on December 9th! The theme of the Holiday Open House is Ugly Sweater! So please wear your ugliest sweater to be entered into our ugliest sweater contest. We will also have food\, drinks\, live music\, and tree trimming. Hope to see you there!  \n\n\n\n \n\n\n\n \n\n\n\nRegistration Details
URL:https://cancersupportvvsb.org/event/holiday-open-house/
LOCATION:CA
CATEGORIES:Special Event
END:VEVENT
BEGIN:VEVENT
DTSTART;TZID=America/Los_Angeles:20221103T180000
DTEND;TZID=America/Los_Angeles:20221103T190000
DTSTAMP:20260421T105752
CREATED:20221007T195741Z
LAST-MODIFIED:20221008T001826Z
UID:10002769-1667498400-1667502000@cancersupportvvsb.org
SUMMARY:Evening of Remembrance
DESCRIPTION:Evening of RemembranceDate: Thursday\, November 3rdTime: 6:00 – 7:00 pmLocation: Cancer Support Community VVSB Garden of HopeRSVP: programs@cancersupportvvsb.org or 805-379-4777 \n\n\n\nEvent Description:“Evening of Remembrance” is  a  special  event  for  those who have lost a loved one to cancer. Through healing music\, readings\, and sharing\, it is a chance to remember\, reflect\, and celebrate the lives of those no longer here but never forgotten. \n\n\n\nRegistration Details
URL:https://cancersupportvvsb.org/event/evening-of-remembrance/
LOCATION:CA
CATEGORIES:Special Event
END:VEVENT
BEGIN:VEVENT
DTSTART;TZID=America/Los_Angeles:20220916T180000
DTEND;TZID=America/Los_Angeles:20220916T220000
DTSTAMP:20260421T105752
CREATED:20220919T212318Z
LAST-MODIFIED:20220919T213008Z
UID:10002752-1663351200-1663365600@cancersupportvvsb.org
SUMMARY:CELEBRATION OF HOPE – GARDEN PARTY
DESCRIPTION:Join us for an outdoor evening honoring our previous “Dear Cancer\, It’s Me” essay winners.The evening will also include special speakers\, a live auction\, dancing and more. \n\n\n\nFriday\, September 16\, 2022Los Robles Greens\, Thousand Oaks \n\n\n\n6:00 PMCocktails and mingling \n\n\n\n7:30 PMEvent program with special speakers\,live auction\, dancing and more \n\n\n\nTickets are $150 per person.
URL:https://cancersupportvvsb.org/event/celebration-of-hope-garden-party/
LOCATION:CA
CATEGORIES:Special Event
END:VEVENT
END:VCALENDAR