BEGIN:VCALENDAR
VERSION:2.0
PRODID:-//Cancer Support Community VVSB - ECPv6.15.18//NONSGML v1.0//EN
CALSCALE:GREGORIAN
METHOD:PUBLISH
X-ORIGINAL-URL:https://cancersupportvvsb.org
X-WR-CALDESC:Events for Cancer Support Community VVSB
REFRESH-INTERVAL;VALUE=DURATION:PT1H
X-Robots-Tag:noindex
X-PUBLISHED-TTL:PT1H
BEGIN:VTIMEZONE
TZID:America/Los_Angeles
BEGIN:DAYLIGHT
TZOFFSETFROM:-0800
TZOFFSETTO:-0700
TZNAME:PDT
DTSTART:20250309T100000
END:DAYLIGHT
BEGIN:STANDARD
TZOFFSETFROM:-0700
TZOFFSETTO:-0800
TZNAME:PST
DTSTART:20251102T090000
END:STANDARD
BEGIN:DAYLIGHT
TZOFFSETFROM:-0800
TZOFFSETTO:-0700
TZNAME:PDT
DTSTART:20260308T100000
END:DAYLIGHT
BEGIN:STANDARD
TZOFFSETFROM:-0700
TZOFFSETTO:-0800
TZNAME:PST
DTSTART:20261101T090000
END:STANDARD
BEGIN:DAYLIGHT
TZOFFSETFROM:-0800
TZOFFSETTO:-0700
TZNAME:PDT
DTSTART:20270314T100000
END:DAYLIGHT
BEGIN:STANDARD
TZOFFSETFROM:-0700
TZOFFSETTO:-0800
TZNAME:PST
DTSTART:20271107T090000
END:STANDARD
END:VTIMEZONE
BEGIN:VEVENT
DTSTART;TZID=America/Los_Angeles:20260302T180000
DTEND;TZID=America/Los_Angeles:20260302T193000
DTSTAMP:20260424T042823
CREATED:20251103T183157Z
LAST-MODIFIED:20251103T183158Z
UID:10009798-1772474400-1772479800@cancersupportvvsb.org
SUMMARY:ONLINE GROUP: Blood Cancer Networking Group
DESCRIPTION:Program Type: ONLINE Support GroupDay & Time: 1st Monday (Monthly)\, 6:00 pm-7:30 pmLocation: ONLINE (Zoom)Phone: 805-379-4777 \n\n\n\n\n\nPlease contact Programs@cancersupportvvsb.org or 805-379-4777 to register. \nThis group meets in-person/online quarterly at St. Johns Cancer Center\, 1700 Rose Ave.\, STE 380 Oxnard CA. \n\n\n\n\n\n\n\n\n\n\n\n\n\n\n\n 
URL:https://cancersupportvvsb.org/event/online-group-blood-cancer-networking-group-2-2/2026-03-02/
CATEGORIES:Support Group
END:VEVENT
BEGIN:VEVENT
DTSTART;TZID=America/Los_Angeles:20260303T093000
DTEND;TZID=America/Los_Angeles:20260303T110000
DTSTAMP:20260424T042823
CREATED:20240227T000322Z
LAST-MODIFIED:20240716T223912Z
UID:10008591-1772530200-1772535600@cancersupportvvsb.org
SUMMARY:ONLINE GROUP: Gynecological Cancer Support Group
DESCRIPTION:  \n\nProgram Type: ONLINE Support GroupDay & Time: 1st & 3rd Tuesday\, 9:30 am – 11 amLocation: ONLINE (Zoom) Phone: 805-379-4777 \n\n\n\n\n\nPlease contact Programs@cancersupportvvsb.org to register. \n\n\n\n\n\n\n\n\n\n\n\n\n\n\n\n 
URL:https://cancersupportvvsb.org/event/online-group-gynecological-cancer-support-group-2-2/2026-03-03/
CATEGORIES:Support Group
END:VEVENT
BEGIN:VEVENT
DTSTART;TZID=America/Los_Angeles:20260303T100000
DTEND;TZID=America/Los_Angeles:20260303T113000
DTSTAMP:20260424T042823
CREATED:20241220T013303Z
LAST-MODIFIED:20241220T013303Z
UID:10011461-1772532000-1772537400@cancersupportvvsb.org
SUMMARY:IN-PERSON GROUP: All Cancer
DESCRIPTION:  \n\nProgram Type: IN-PERSON All Cancer Support GroupDay & Time: Tuesday Weekly\, 10:00 am – 11:30 amLocation: Rancho Simi Activity Center 4201 Guardian Street Simi Valley\, CA 93063Phone: 805-379-4777 \n\n\n\n\n\nPlease contact Programs@cancersupportvvsb.org or 805-379-4777 to register. \n\n\n\n\n\n\n\n\n\n\n\n\n\n\n\n 
URL:https://cancersupportvvsb.org/event/in-person-group-all-cancer/2026-03-03/
CATEGORIES:Support Group
END:VEVENT
BEGIN:VEVENT
DTSTART;TZID=America/Los_Angeles:20260303T110000
DTEND;TZID=America/Los_Angeles:20260303T123000
DTSTAMP:20260424T042823
CREATED:20250227T232520Z
LAST-MODIFIED:20250227T232820Z
UID:10011783-1772535600-1772541000@cancersupportvvsb.org
SUMMARY:GRUPO HÍBRIDO: Grupo de Apoyo para Latinas con Cáncer
DESCRIPTION:Tipo de programa: Grupo de apoyo híbrido\nDía y hora: 1er y 3er martes\, 11:00 am – 12:30 pm\nUbicación: En persona/en línea\nSt. John’s Cancer Center\n1700 Rose Ave.\, Ste 380 Oxnard CA 93030 \nEste grupo está abierto a Latinas con cualquier tipo de cáncer. El grupo ofrece un lugar seguro para compartir pensamientos\, sentimientos\, y preocupaciones con otras pacientes de cáncer que entienden; y para intercambiar información acerca de cómo enfrentar cáncer. \nNadie tiene que batallar el cáncer por si solo. \nPor favor llama al Centro de Cáncer en el Hospital de San Juan\, para más información: 805-988-2641\, Gracias.
URL:https://cancersupportvvsb.org/event/grupo-hibrido-grupo-de-apoyo-para-latinas-con-cancer/2026-03-03/
CATEGORIES:Support Group
END:VEVENT
BEGIN:VEVENT
DTSTART;TZID=America/Los_Angeles:20260303T113000
DTEND;TZID=America/Los_Angeles:20260303T130000
DTSTAMP:20260424T042823
CREATED:20220916T233614Z
LAST-MODIFIED:20241030T211537Z
UID:10000786-1772537400-1772542800@cancersupportvvsb.org
SUMMARY:ONLINE GROUP: Advanced Stage Breast Cancer Support Group
DESCRIPTION:Program Type: ONLINE Support GroupDay & Time: Tuesday (Weekly)\, 11:30 am-1:00 pmLocation: ONLINE (Zoom)Phone: 805-379-4777 \n\n\n\n\n\nPlease contact Programs@cancersupportvvsb.org or 805-379-4777 to register. \n\n\n\n\n\n\n\n\n\n\n\n\n\n\n\n 
URL:https://cancersupportvvsb.org/event/online-group-advanced-stage-breast-cancer-support-group/2026-03-03/
CATEGORIES:Support Group
END:VEVENT
BEGIN:VEVENT
DTSTART;TZID=America/Los_Angeles:20260303T170000
DTEND;TZID=America/Los_Angeles:20260303T183000
DTSTAMP:20260424T042823
CREATED:20251103T183711Z
LAST-MODIFIED:20251103T183712Z
UID:10004388-1772557200-1772562600@cancersupportvvsb.org
SUMMARY:ONLINE GROUP: All Cancers Support Group
DESCRIPTION:Program Type: ONLINE Support GroupDay & Time: Tuesday (Weekly)\, 5:00 pm-6:30 pmLocation: ONLINE (Zoom)Phone: 805-379-4777 \n\n\n\n\n\nPlease contact Programs@cancersupportvvsb.org or 805-379-4777 to register. \n\n\n\n\n\n\n\n\n\n\n\n\n\n\n\n 
URL:https://cancersupportvvsb.org/event/online-group-all-cancers-support-group-3/2026-03-03/
CATEGORIES:Support Group
END:VEVENT
BEGIN:VEVENT
DTSTART;TZID=America/Los_Angeles:20260303T170000
DTEND;TZID=America/Los_Angeles:20260303T183000
DTSTAMP:20260424T042823
CREATED:20251103T184450Z
LAST-MODIFIED:20251103T184451Z
UID:10001047-1772557200-1772562600@cancersupportvvsb.org
SUMMARY:ONLINE GROUP: Newly Diagnosed Early Stage Breast Cancer Support Group
DESCRIPTION:Program Type: ONLINE Support GroupDay & Time: Tuesday (Weekly)\, 5:00 pm-6:30 pmLocation: ONLINE (Zoom)Phone: 805-379-4777 \n\n\n\n\n\nPlease contact Programs@cancersupportvvsb.org or 805-379-4777 to register. \n\n\n\n\n\n\n\n\n\n\n\n\n\n\n\n 
URL:https://cancersupportvvsb.org/event/online-group-newly-diagnosed-early-stage-breast-cancer-support-group-2/2026-03-03/
CATEGORIES:Support Group
END:VEVENT
BEGIN:VEVENT
DTSTART;TZID=America/Los_Angeles:20260303T183000
DTEND;TZID=America/Los_Angeles:20260303T200000
DTSTAMP:20260424T042823
CREATED:20230406T175224Z
LAST-MODIFIED:20230710T231523Z
UID:10004610-1772562600-1772568000@cancersupportvvsb.org
SUMMARY:ONLINE GROUP: Friends & Family Support Group
DESCRIPTION:Program Type: ONLINE Support GroupDay & Time: Tuesday (Weekly)\, 6:30 pm-8:00 pmLocation: ONLINE (Zoom)Phone: 805-379-4777 \n\n\n\nPLEASE NOTE: Support groups conducted online use a HIPAA compliant online video conferencing format and are facilitated by a licensed mental health professional. \n\n\n\nThis is a Support Group for caregivers (family and friends) of people living with cancer\, facilitated by a licensed mental health professional. To attend this group\, an Orientation attendance is required. \n\n\n\nPlease contact Programs@cancersupportvvsb.org or 805-379-4777 to register. \n\n\n\n\n\n\n\n\n\n\n\n\n\n\n\n 
URL:https://cancersupportvvsb.org/event/online-group-friends-family-support-group-2/2026-03-03/
CATEGORIES:Support Group
END:VEVENT
BEGIN:VEVENT
DTSTART;TZID=America/Los_Angeles:20260304T100000
DTEND;TZID=America/Los_Angeles:20260304T113000
DTSTAMP:20260424T042823
CREATED:20220916T235030Z
LAST-MODIFIED:20240802T202329Z
UID:10001569-1772618400-1772623800@cancersupportvvsb.org
SUMMARY:ONLINE GROUP: All Cancers Support Group
DESCRIPTION:  \n\nProgram Type: ONLINE Support GroupDay & Time: Wednesday (Weekly)\, 10:00 am-11:30 amLocation: ONLINE (Zoom)Phone: 805-379-4777 \n\n\n\n\n\nPlease contact Programs@cancersupportvvsb.org or 805-379-4777 to register. \n\n\n\n\n\n\n\n\n\n\n\n\n\n\n\n 
URL:https://cancersupportvvsb.org/event/online-group-all-cancers-support-group-2/2026-03-04/
CATEGORIES:Support Group
END:VEVENT
BEGIN:VEVENT
DTSTART;TZID=America/Los_Angeles:20260304T100000
DTEND;TZID=America/Los_Angeles:20260304T113000
DTSTAMP:20260424T042823
CREATED:20240802T201643Z
LAST-MODIFIED:20240802T202441Z
UID:10010079-1772618400-1772623800@cancersupportvvsb.org
SUMMARY:IN-PERSON GROUP: Caregivers- Family & Friends
DESCRIPTION:Program Type: IN-PERSON Support GroupDay & Time: Wednesday Weekly\, 10:00 pm – 11:30 pmLocation: CSCVVSB: 4195 E Thousand Oaks Blvd.\, #107 Westlake Village\, CA 91362Phone: 805-379-4777 \n\n\n\n\n\nPlease contact Programs@cancersupportvvsb.org or 805-379-4777 to register. \n\n\n\n\n\n\n\n\n\n\n\n\n\n\n\n 
URL:https://cancersupportvvsb.org/event/in-person-group-caregivers-family-friends/2026-03-04/
CATEGORIES:Support Group
END:VEVENT
BEGIN:VEVENT
DTSTART;TZID=America/Los_Angeles:20260304T100000
DTEND;TZID=America/Los_Angeles:20260304T113000
DTSTAMP:20260424T042823
CREATED:20260211T194749Z
LAST-MODIFIED:20260211T195251Z
UID:10014161-1772618400-1772623800@cancersupportvvsb.org
SUMMARY:IN-PERSON GROUP: Writing Alone Together
DESCRIPTION:  \n\nProgram Type: IN-PERSON Writing Alone Together: 6 Week Journaling Support Group \nDay & Time: March 4th through April 8th from 10-11:30am (6 sessions) \nLocation: CSC Office 4195 Thousand Oaks Blvd.\, #107\, WLV 91362 \nIn the safe environment of this group\, participants who have lost a loved one to cancer will spend some time quietly journaling and then sharing as much of their writing as they choose with others in the group. The combination of journaling and sharing with others can help increase resilience\, deepen compassion for ourselves and others\, and provide an opportunity to share cherished memories. \n\n\n\n\n\nClick here to view the flyer. Please email Programs@cancersupportvvsb.org to register. \n\n\n\n\n\n\n\n\n\n\n\n\n\n\n\n 
URL:https://cancersupportvvsb.org/event/in-person-group-writing-alone-together-2/2026-03-04/
CATEGORIES:Support Group
END:VEVENT
BEGIN:VEVENT
DTSTART;TZID=America/Los_Angeles:20260304T180000
DTEND;TZID=America/Los_Angeles:20260304T193000
DTSTAMP:20260424T042823
CREATED:20230418T213946Z
LAST-MODIFIED:20230710T231416Z
UID:10005069-1772647200-1772652600@cancersupportvvsb.org
SUMMARY:ONLINE GROUP: Bereavement Support Group: Moving Ahead Together
DESCRIPTION:Program Type: ONLINE Support GroupDay & Time: 1st Wednesday\, 6:00 pm – 7:30 pmLocation: ONLINE (Zoom)Phone: 805-379-4777 \n\n\n\n\n\nThis is a Support Group for those who have moved through the initial rawness of grief. It is a place for members to share hopes and fears and to offer each other strength and support in moving forward toward the future. Members of this group are also welcome to attend the Thursday weekly group. \nThis group is facilitated by Anne Gessert\, LMFT\, who has facilitated CSCVVSB bereavement groups for over 20 years. \n\n\n\nPlease contact Programs@cancersupportvvsb.org or 805-379-4777 to register. \n\n\n\n\n\n\n\n\n\n\n\n\n\n\n\n 
URL:https://cancersupportvvsb.org/event/online-group-bereavement-support-group-moving-ahead-together/2026-03-04/
CATEGORIES:Support Group
END:VEVENT
BEGIN:VEVENT
DTSTART;TZID=America/Los_Angeles:20260304T183000
DTEND;TZID=America/Los_Angeles:20260304T200000
DTSTAMP:20260424T042823
CREATED:20250904T164658Z
LAST-MODIFIED:20251103T184937Z
UID:10013216-1772649000-1772654400@cancersupportvvsb.org
SUMMARY:ONLINE GROUP: Prostate Cancer Support Group
DESCRIPTION:Program Type: ONLINE Support GroupDay & Time: 1st Wednesday\, 6:30 pm-8:00 pmLocation: ONLINE (Zoom)Phone: 805-379-4777 \n\n\n\n\n\nPlease contact Programs@cancersupportvvsb.org or 805-379-4777 to register. \n\n\n\n\n\n\n\n\n\n\n\n\n\n\n\n 
URL:https://cancersupportvvsb.org/event/online-group-prostate-cancer-support-group-2-2/2026-03-04/
CATEGORIES:Support Group
END:VEVENT
BEGIN:VEVENT
DTSTART;TZID=America/Los_Angeles:20260305T100000
DTEND;TZID=America/Los_Angeles:20260305T113000
DTSTAMP:20260424T042823
CREATED:20260105T194338Z
LAST-MODIFIED:20260105T194402Z
UID:10005936-1772704800-1772710200@cancersupportvvsb.org
SUMMARY:IN-PERSON GROUP: All Cancers Support Group
DESCRIPTION:  \n\nProgram Type: IN-PERSON Support GroupDay & Time: Thursday (Weekly)\, 10:00 am – 11:30 amLocation: 4195 E Thousand Oaks Blvd.\, #107 Westlake Village\, CA 91362Phone: 805-379-4777 \n\n\n\n  \n\n\n\nPlease contact Programs@cancersupportvvsb.org or 805-379-4777 to register. \n\n\n\n\n\n\n\n\n\n\n\n\n\n\n\n 
URL:https://cancersupportvvsb.org/event/online-group-all-cancers-support-group-4-2/2026-03-05/
CATEGORIES:Support Group
END:VEVENT
BEGIN:VEVENT
DTSTART;TZID=America/Los_Angeles:20260305T180000
DTEND;TZID=America/Los_Angeles:20260305T193000
DTSTAMP:20260424T042823
CREATED:20240201T184732Z
LAST-MODIFIED:20240201T185052Z
UID:10008137-1772733600-1772739000@cancersupportvvsb.org
SUMMARY:ONLINE GROUP: Bereavement Support Group
DESCRIPTION:Program Type: ONLINE Support GroupDay & Time: Thursdays (Weekly)\, 6:00 pm – 7:30 pmLocation: ONLINE (Zoom)Phone: 805-379-4777 \n\n\n\n\n\nThis is a Support Group for those who have experienced the loss of someone from cancer. Facilitated by a licensed mental health professional\, family and friends who have lost loved ones to cancer\, come together to practice self-care. \n\n\n\nPlease contact Programs@cancersupportvvsb.org or 805-379-4777 to register. \n\n\n\n\n\n\n\n\n\n\n\n\n\n\n\n 
URL:https://cancersupportvvsb.org/event/online-group-bereavement-support-group-3-2/2026-03-05/
CATEGORIES:Support Group
END:VEVENT
BEGIN:VEVENT
DTSTART;TZID=America/Los_Angeles:20260309T100000
DTEND;TZID=America/Los_Angeles:20260309T113000
DTSTAMP:20260424T042823
CREATED:20230908T223118Z
LAST-MODIFIED:20251021T200724Z
UID:10005550-1773050400-1773055800@cancersupportvvsb.org
SUMMARY:IN-PERSON GROUP: Life after Cancer\, Survivorship Group for all Cancers
DESCRIPTION:Program Type: IN-PERSON Support GroupDay & Time: 2nd & 4th Mondays\, 10:00 am – 11:30 amLocation: CSCVVSB OfficePhone: 805-379-4777 \n\n\n\n\n\nPlease contact Programs@cancersupportvvsb.org or 805-379-4777 to register. \n\n\n\n\n\n\n\n\n\n\n\n\n\n\n\n 
URL:https://cancersupportvvsb.org/event/in-person-group-life-after-cancer-survivorship-group-for-all-cancers/2026-03-09/
CATEGORIES:Support Group
END:VEVENT
BEGIN:VEVENT
DTSTART;TZID=America/Los_Angeles:20260309T170000
DTEND;TZID=America/Los_Angeles:20260309T183000
DTSTAMP:20260424T042823
CREATED:20251103T184533Z
LAST-MODIFIED:20251103T184534Z
UID:10000467-1773075600-1773081000@cancersupportvvsb.org
SUMMARY:ONLINE GROUP: Life after Breast Cancer – Survivorship Support Group
DESCRIPTION:Program Type: ONLINE Support GroupDay & Time: 2nd & 4th Mondays\, 5:00 pm -6:30 pmLocation: ONLINE (Zoom)Phone: 805-379-4777 \n\n\n\n\n\nPlease contact Programs@cancersupportvvsb.org or 805-379-4777 to register. \n\n\n\n\n\n\n\n\n\n\n\n\n\n\n\n 
URL:https://cancersupportvvsb.org/event/online-group-life-after-breast-cancer-survivorship-support-group-2-2/2026-03-09/
CATEGORIES:Support Group
END:VEVENT
BEGIN:VEVENT
DTSTART;TZID=America/Los_Angeles:20260310T100000
DTEND;TZID=America/Los_Angeles:20260310T113000
DTSTAMP:20260424T042823
CREATED:20241220T013303Z
LAST-MODIFIED:20241220T013303Z
UID:10011462-1773136800-1773142200@cancersupportvvsb.org
SUMMARY:IN-PERSON GROUP: All Cancer
DESCRIPTION:  \n\nProgram Type: IN-PERSON All Cancer Support GroupDay & Time: Tuesday Weekly\, 10:00 am – 11:30 amLocation: Rancho Simi Activity Center 4201 Guardian Street Simi Valley\, CA 93063Phone: 805-379-4777 \n\n\n\n\n\nPlease contact Programs@cancersupportvvsb.org or 805-379-4777 to register. \n\n\n\n\n\n\n\n\n\n\n\n\n\n\n\n 
URL:https://cancersupportvvsb.org/event/in-person-group-all-cancer/2026-03-10/
CATEGORIES:Support Group
END:VEVENT
BEGIN:VEVENT
DTSTART;TZID=America/Los_Angeles:20260310T110000
DTEND;TZID=America/Los_Angeles:20260310T123000
DTSTAMP:20260424T042823
CREATED:20240213T225147Z
LAST-MODIFIED:20240213T225147Z
UID:10008398-1773140400-1773145800@cancersupportvvsb.org
SUMMARY:IN-PERSON GROUP: All Women’s All Cancers Support Group
DESCRIPTION:Program Type: IN-PERSON Support GroupDay & Time: 2nd & 4th Tuesdays\, 11:00 am – 12:30 pmLocation: Cancer Resource Center St. John’s Camarillo 2309 Antonio Ave. Camarillo\, CA 93010 \n\n\n\n\n\nPlease contact Programs@cancersupportvvsb.org or 805-988-2641 to register. \n\n\n\n\n\n\n\n\n\n\n\n\n\n\n\n 
URL:https://cancersupportvvsb.org/event/in-person-group-all-womens-all-cancers-support-group/2026-03-10/
CATEGORIES:Support Group
END:VEVENT
BEGIN:VEVENT
DTSTART;TZID=America/Los_Angeles:20260310T113000
DTEND;TZID=America/Los_Angeles:20260310T130000
DTSTAMP:20260424T042823
CREATED:20220916T233614Z
LAST-MODIFIED:20241030T211537Z
UID:10000787-1773142200-1773147600@cancersupportvvsb.org
SUMMARY:ONLINE GROUP: Advanced Stage Breast Cancer Support Group
DESCRIPTION:Program Type: ONLINE Support GroupDay & Time: Tuesday (Weekly)\, 11:30 am-1:00 pmLocation: ONLINE (Zoom)Phone: 805-379-4777 \n\n\n\n\n\nPlease contact Programs@cancersupportvvsb.org or 805-379-4777 to register. \n\n\n\n\n\n\n\n\n\n\n\n\n\n\n\n 
URL:https://cancersupportvvsb.org/event/online-group-advanced-stage-breast-cancer-support-group/2026-03-10/
CATEGORIES:Support Group
END:VEVENT
BEGIN:VEVENT
DTSTART;TZID=America/Los_Angeles:20260310T170000
DTEND;TZID=America/Los_Angeles:20260310T183000
DTSTAMP:20260424T042823
CREATED:20251103T184450Z
LAST-MODIFIED:20251103T184451Z
UID:10001048-1773162000-1773167400@cancersupportvvsb.org
SUMMARY:ONLINE GROUP: Newly Diagnosed Early Stage Breast Cancer Support Group
DESCRIPTION:Program Type: ONLINE Support GroupDay & Time: Tuesday (Weekly)\, 5:00 pm-6:30 pmLocation: ONLINE (Zoom)Phone: 805-379-4777 \n\n\n\n\n\nPlease contact Programs@cancersupportvvsb.org or 805-379-4777 to register. \n\n\n\n\n\n\n\n\n\n\n\n\n\n\n\n 
URL:https://cancersupportvvsb.org/event/online-group-newly-diagnosed-early-stage-breast-cancer-support-group-2/2026-03-10/
CATEGORIES:Support Group
END:VEVENT
BEGIN:VEVENT
DTSTART;TZID=America/Los_Angeles:20260310T183000
DTEND;TZID=America/Los_Angeles:20260310T200000
DTSTAMP:20260424T042823
CREATED:20230406T175224Z
LAST-MODIFIED:20230710T231523Z
UID:10004611-1773167400-1773172800@cancersupportvvsb.org
SUMMARY:ONLINE GROUP: Friends & Family Support Group
DESCRIPTION:Program Type: ONLINE Support GroupDay & Time: Tuesday (Weekly)\, 6:30 pm-8:00 pmLocation: ONLINE (Zoom)Phone: 805-379-4777 \n\n\n\nPLEASE NOTE: Support groups conducted online use a HIPAA compliant online video conferencing format and are facilitated by a licensed mental health professional. \n\n\n\nThis is a Support Group for caregivers (family and friends) of people living with cancer\, facilitated by a licensed mental health professional. To attend this group\, an Orientation attendance is required. \n\n\n\nPlease contact Programs@cancersupportvvsb.org or 805-379-4777 to register. \n\n\n\n\n\n\n\n\n\n\n\n\n\n\n\n 
URL:https://cancersupportvvsb.org/event/online-group-friends-family-support-group-2/2026-03-10/
CATEGORIES:Support Group
END:VEVENT
BEGIN:VEVENT
DTSTART;TZID=America/Los_Angeles:20260311T100000
DTEND;TZID=America/Los_Angeles:20260311T113000
DTSTAMP:20260424T042823
CREATED:20220916T235030Z
LAST-MODIFIED:20240802T202329Z
UID:10001570-1773223200-1773228600@cancersupportvvsb.org
SUMMARY:ONLINE GROUP: All Cancers Support Group
DESCRIPTION:  \n\nProgram Type: ONLINE Support GroupDay & Time: Wednesday (Weekly)\, 10:00 am-11:30 amLocation: ONLINE (Zoom)Phone: 805-379-4777 \n\n\n\n\n\nPlease contact Programs@cancersupportvvsb.org or 805-379-4777 to register. \n\n\n\n\n\n\n\n\n\n\n\n\n\n\n\n 
URL:https://cancersupportvvsb.org/event/online-group-all-cancers-support-group-2/2026-03-11/
CATEGORIES:Support Group
END:VEVENT
BEGIN:VEVENT
DTSTART;TZID=America/Los_Angeles:20260311T100000
DTEND;TZID=America/Los_Angeles:20260311T113000
DTSTAMP:20260424T042823
CREATED:20240802T201643Z
LAST-MODIFIED:20240802T202441Z
UID:10010080-1773223200-1773228600@cancersupportvvsb.org
SUMMARY:IN-PERSON GROUP: Caregivers- Family & Friends
DESCRIPTION:Program Type: IN-PERSON Support GroupDay & Time: Wednesday Weekly\, 10:00 pm – 11:30 pmLocation: CSCVVSB: 4195 E Thousand Oaks Blvd.\, #107 Westlake Village\, CA 91362Phone: 805-379-4777 \n\n\n\n\n\nPlease contact Programs@cancersupportvvsb.org or 805-379-4777 to register. \n\n\n\n\n\n\n\n\n\n\n\n\n\n\n\n 
URL:https://cancersupportvvsb.org/event/in-person-group-caregivers-family-friends/2026-03-11/
CATEGORIES:Support Group
END:VEVENT
BEGIN:VEVENT
DTSTART;TZID=America/Los_Angeles:20260311T100000
DTEND;TZID=America/Los_Angeles:20260311T113000
DTSTAMP:20260424T042823
CREATED:20260211T194749Z
LAST-MODIFIED:20260211T195251Z
UID:10014162-1773223200-1773228600@cancersupportvvsb.org
SUMMARY:IN-PERSON GROUP: Writing Alone Together
DESCRIPTION:  \n\nProgram Type: IN-PERSON Writing Alone Together: 6 Week Journaling Support Group \nDay & Time: March 4th through April 8th from 10-11:30am (6 sessions) \nLocation: CSC Office 4195 Thousand Oaks Blvd.\, #107\, WLV 91362 \nIn the safe environment of this group\, participants who have lost a loved one to cancer will spend some time quietly journaling and then sharing as much of their writing as they choose with others in the group. The combination of journaling and sharing with others can help increase resilience\, deepen compassion for ourselves and others\, and provide an opportunity to share cherished memories. \n\n\n\n\n\nClick here to view the flyer. Please email Programs@cancersupportvvsb.org to register. \n\n\n\n\n\n\n\n\n\n\n\n\n\n\n\n 
URL:https://cancersupportvvsb.org/event/in-person-group-writing-alone-together-2/2026-03-11/
CATEGORIES:Support Group
END:VEVENT
BEGIN:VEVENT
DTSTART;TZID=America/Los_Angeles:20260312T100000
DTEND;TZID=America/Los_Angeles:20260312T113000
DTSTAMP:20260424T042823
CREATED:20260105T194338Z
LAST-MODIFIED:20260105T194402Z
UID:10005937-1773309600-1773315000@cancersupportvvsb.org
SUMMARY:IN-PERSON GROUP: All Cancers Support Group
DESCRIPTION:  \n\nProgram Type: IN-PERSON Support GroupDay & Time: Thursday (Weekly)\, 10:00 am – 11:30 amLocation: 4195 E Thousand Oaks Blvd.\, #107 Westlake Village\, CA 91362Phone: 805-379-4777 \n\n\n\n  \n\n\n\nPlease contact Programs@cancersupportvvsb.org or 805-379-4777 to register. \n\n\n\n\n\n\n\n\n\n\n\n\n\n\n\n 
URL:https://cancersupportvvsb.org/event/online-group-all-cancers-support-group-4-2/2026-03-12/
CATEGORIES:Support Group
END:VEVENT
BEGIN:VEVENT
DTSTART;TZID=America/Los_Angeles:20260312T180000
DTEND;TZID=America/Los_Angeles:20260312T193000
DTSTAMP:20260424T042823
CREATED:20240201T184732Z
LAST-MODIFIED:20240201T185052Z
UID:10008138-1773338400-1773343800@cancersupportvvsb.org
SUMMARY:ONLINE GROUP: Bereavement Support Group
DESCRIPTION:Program Type: ONLINE Support GroupDay & Time: Thursdays (Weekly)\, 6:00 pm – 7:30 pmLocation: ONLINE (Zoom)Phone: 805-379-4777 \n\n\n\n\n\nThis is a Support Group for those who have experienced the loss of someone from cancer. Facilitated by a licensed mental health professional\, family and friends who have lost loved ones to cancer\, come together to practice self-care. \n\n\n\nPlease contact Programs@cancersupportvvsb.org or 805-379-4777 to register. \n\n\n\n\n\n\n\n\n\n\n\n\n\n\n\n 
URL:https://cancersupportvvsb.org/event/online-group-bereavement-support-group-3-2/2026-03-12/
CATEGORIES:Support Group
END:VEVENT
BEGIN:VEVENT
DTSTART;TZID=America/Los_Angeles:20260315T103000
DTEND;TZID=America/Los_Angeles:20260315T123000
DTSTAMP:20260424T042823
CREATED:20250513T161711Z
LAST-MODIFIED:20250513T162158Z
UID:10012909-1773570600-1773577800@cancersupportvvsb.org
SUMMARY:HYBRID GROUP: Prostate Cancer Networking Group
DESCRIPTION:Program Type: ONLINE Support GroupDay & Time: 3rd Sunday (Monthly)\, 10:30 am-12:30 pm Location: ONLINE (Zoom) or CSCVVSB OfficePhone: 805-379-4777 \n\n\n\nPLEASE NOTE: Support Groups conducted online use a HIPAA compliant online video conferencing format and are facilitated by a licensed mental health professional. \n\n\n\nPlease contact Programs@cancersupportvvsb.org or 805-379-4777 to register. \n\n\n\n\n\n\n\n\n\n\n\n\n\n\n\n 
URL:https://cancersupportvvsb.org/event/online-group-prostate-cancer-networking-group-3-3/2026-03-15/
CATEGORIES:Support Group
END:VEVENT
BEGIN:VEVENT
DTSTART;TZID=America/Los_Angeles:20260317T093000
DTEND;TZID=America/Los_Angeles:20260317T110000
DTSTAMP:20260424T042823
CREATED:20220916T225207Z
LAST-MODIFIED:20240716T223826Z
UID:10008651-1773739800-1773745200@cancersupportvvsb.org
SUMMARY:ONLINE GROUP: Gynecological Cancer Support Group
DESCRIPTION:Program Type: ONLINE Support GroupDay & Time: 1st & 3rd Tuesday\, 9:30 am – 11 amLocation: ONLINE (Zoom) Phone: 805-379-4777 \n\n\n\n\n\nPlease contact Programs@cancersupportvvsb.org or 805-379-4777 to register. \n\n\n\n\n\n\n\n\n\n\n\n\n\n\n\n 
URL:https://cancersupportvvsb.org/event/online-group-gynecological-cancer-support-group/2026-03-17/
CATEGORIES:Support Group
END:VEVENT
BEGIN:VEVENT
DTSTART;TZID=America/Los_Angeles:20260317T100000
DTEND;TZID=America/Los_Angeles:20260317T113000
DTSTAMP:20260424T042823
CREATED:20241220T013303Z
LAST-MODIFIED:20241220T013303Z
UID:10011463-1773741600-1773747000@cancersupportvvsb.org
SUMMARY:IN-PERSON GROUP: All Cancer
DESCRIPTION:  \n\nProgram Type: IN-PERSON All Cancer Support GroupDay & Time: Tuesday Weekly\, 10:00 am – 11:30 amLocation: Rancho Simi Activity Center 4201 Guardian Street Simi Valley\, CA 93063Phone: 805-379-4777 \n\n\n\n\n\nPlease contact Programs@cancersupportvvsb.org or 805-379-4777 to register. \n\n\n\n\n\n\n\n\n\n\n\n\n\n\n\n 
URL:https://cancersupportvvsb.org/event/in-person-group-all-cancer/2026-03-17/
CATEGORIES:Support Group
END:VEVENT
END:VCALENDAR