BEGIN:VCALENDAR
VERSION:2.0
PRODID:-//Cancer Support Community VVSB - ECPv6.15.18//NONSGML v1.0//EN
CALSCALE:GREGORIAN
METHOD:PUBLISH
X-WR-CALNAME:Cancer Support Community VVSB
X-ORIGINAL-URL:https://cancersupportvvsb.org
X-WR-CALDESC:Events for Cancer Support Community VVSB
REFRESH-INTERVAL;VALUE=DURATION:PT1H
X-Robots-Tag:noindex
X-PUBLISHED-TTL:PT1H
BEGIN:VTIMEZONE
TZID:America/Los_Angeles
BEGIN:DAYLIGHT
TZOFFSETFROM:-0800
TZOFFSETTO:-0700
TZNAME:PDT
DTSTART:20250309T100000
END:DAYLIGHT
BEGIN:STANDARD
TZOFFSETFROM:-0700
TZOFFSETTO:-0800
TZNAME:PST
DTSTART:20251102T090000
END:STANDARD
BEGIN:DAYLIGHT
TZOFFSETFROM:-0800
TZOFFSETTO:-0700
TZNAME:PDT
DTSTART:20260308T100000
END:DAYLIGHT
BEGIN:STANDARD
TZOFFSETFROM:-0700
TZOFFSETTO:-0800
TZNAME:PST
DTSTART:20261101T090000
END:STANDARD
BEGIN:DAYLIGHT
TZOFFSETFROM:-0800
TZOFFSETTO:-0700
TZNAME:PDT
DTSTART:20270314T100000
END:DAYLIGHT
BEGIN:STANDARD
TZOFFSETFROM:-0700
TZOFFSETTO:-0800
TZNAME:PST
DTSTART:20271107T090000
END:STANDARD
END:VTIMEZONE
BEGIN:VEVENT
DTSTART;TZID=America/Los_Angeles:20260427T100000
DTEND;TZID=America/Los_Angeles:20260427T113000
DTSTAMP:20260421T213142
CREATED:20230908T223246Z
LAST-MODIFIED:20251021T200643Z
UID:10005669-1777284000-1777289400@cancersupportvvsb.org
SUMMARY:IN-PERSON GROUP: Life after Cancer\, Survivorship Group for all Cancers
DESCRIPTION:Program Type: IN-PERSON Support GroupDay & Time: 2nd & 4th Mondays\, 10:00 am – 11:30 amLocation: CSCVVSB OfficePhone: 805-379-4777 \n\n\n\n\n\nPlease contact Programs@cancersupportvvsb.org or 805-379-4777 to register. \n\n\n\n\n\n\n\n\n\n\n\n\n\n\n\n 
URL:https://cancersupportvvsb.org/event/in-person-group-life-after-cancer-survivorship-group-for-all-cancers-2/2026-04-27/
CATEGORIES:Support Group
END:VEVENT
BEGIN:VEVENT
DTSTART;TZID=America/Los_Angeles:20260427T170000
DTEND;TZID=America/Los_Angeles:20260427T183000
DTSTAMP:20260421T213142
CREATED:20251103T184612Z
LAST-MODIFIED:20251103T184613Z
UID:10000357-1777309200-1777314600@cancersupportvvsb.org
SUMMARY:ONLINE GROUP: Life after Breast Cancer – Survivorship Support Group
DESCRIPTION:Program Type: ONLINE Support GroupDay & Time: 2nd & 4th Mondays\, 5:00 pm -6:30 pmLocation: ONLINE (Zoom)Phone: 805-379-4777 \n\n\n\n\n\nPlease contact Programs@cancersupportvvsb.org or 805-379-4777 to register. \n\n\n\n\n\n\n\n\n\n\n\n\n\n\n\n 
URL:https://cancersupportvvsb.org/event/online-group-life-after-breast-cancer-survivorship-support-group-3/2026-04-27/
CATEGORIES:Support Group
END:VEVENT
BEGIN:VEVENT
DTSTART;TZID=America/Los_Angeles:20260428T100000
DTEND;TZID=America/Los_Angeles:20260428T113000
DTSTAMP:20260421T213142
CREATED:20241220T013303Z
LAST-MODIFIED:20241220T013303Z
UID:10011469-1777370400-1777375800@cancersupportvvsb.org
SUMMARY:IN-PERSON GROUP: All Cancer
DESCRIPTION:  \n\nProgram Type: IN-PERSON All Cancer Support GroupDay & Time: Tuesday Weekly\, 10:00 am – 11:30 amLocation: Rancho Simi Activity Center 4201 Guardian Street Simi Valley\, CA 93063Phone: 805-379-4777 \n\n\n\n\n\nPlease contact Programs@cancersupportvvsb.org or 805-379-4777 to register. \n\n\n\n\n\n\n\n\n\n\n\n\n\n\n\n 
URL:https://cancersupportvvsb.org/event/in-person-group-all-cancer/2026-04-28/
CATEGORIES:Support Group
END:VEVENT
BEGIN:VEVENT
DTSTART;TZID=America/Los_Angeles:20260428T110000
DTEND;TZID=America/Los_Angeles:20260428T123000
DTSTAMP:20260421T213142
CREATED:20240213T225247Z
LAST-MODIFIED:20240213T225247Z
UID:10008519-1777374000-1777379400@cancersupportvvsb.org
SUMMARY:IN-PERSON GROUP: All Women’s All Cancers Support Group
DESCRIPTION:Program Type: IN-PERSON Support GroupDay & Time: 2nd & 4th Tuesdays\, 11:00 am – 12:30 pmLocation: Cancer Resource Center St. John’s Camarillo 2309 Antonio Ave. Camarillo\, CA 93010 \n\n\n\n\n\nPlease contact Programs@cancersupportvvsb.org or 805-988-2641 to register. \n\n\n\n\n\n\n\n\n\n\n\n\n\n\n\n 
URL:https://cancersupportvvsb.org/event/in-person-group-all-womens-all-cancers-support-group-2/2026-04-28/
CATEGORIES:Support Group
END:VEVENT
BEGIN:VEVENT
DTSTART;TZID=America/Los_Angeles:20260428T113000
DTEND;TZID=America/Los_Angeles:20260428T130000
DTSTAMP:20260421T213142
CREATED:20220916T233614Z
LAST-MODIFIED:20241030T211537Z
UID:10000794-1777375800-1777381200@cancersupportvvsb.org
SUMMARY:ONLINE GROUP: Advanced Stage Breast Cancer Support Group
DESCRIPTION:Program Type: ONLINE Support GroupDay & Time: Tuesday (Weekly)\, 11:30 am-1:00 pmLocation: ONLINE (Zoom)Phone: 805-379-4777 \n\n\n\n\n\nPlease contact Programs@cancersupportvvsb.org or 805-379-4777 to register. \n\n\n\n\n\n\n\n\n\n\n\n\n\n\n\n 
URL:https://cancersupportvvsb.org/event/online-group-advanced-stage-breast-cancer-support-group/2026-04-28/
CATEGORIES:Support Group
END:VEVENT
BEGIN:VEVENT
DTSTART;TZID=America/Los_Angeles:20260428T123000
DTEND;TZID=America/Los_Angeles:20260428T140000
DTSTAMP:20260421T213142
CREATED:20260311T230836Z
LAST-MODIFIED:20260311T234916Z
UID:10014216-1777379400-1777384800@cancersupportvvsb.org
SUMMARY:IN-PERSON GROUP: Finding Calm During Cancer
DESCRIPTION:  \n\nProgram Type: Finding Calm During Cancer: Mindfulness & Emotion Coping Skills Support Group \nDay & Time: Tuesdays April 7th – May 26th from 12:30pm-2:00pm (8 sessions) \nLocation: Cancer Support Community Office 4195 Thousand Oaks Blvd.\, #107\, WLV 91362 \nCancer can bring overwhelming emotions — from fear and uncertainty to frustration and sadness. This supportive group helps participants build practical skills to manage intense feelings and reduce stress during the cancer journey. Using simple mindfulness exercises and tools from Dialectical Behavior Therapy (DBT)\, you’ll learn how to stay grounded\, communicate more effectively with loved ones and healthcare providers\, and respond to challenges with greater balance and confidence. Open to anyone impacted by cancer\, including patients\, survivors\, and caregivers. \nHannah Hoffman is a Licensed Clinical Social Worker with over 10 years of experience in the mental health field. In addition to facilitating caregiver support groups for the past 6 years\, she has led a wide variety of educational and therapeutic groups on topics such as stress management\, interpersonal skills\, and memory loss. \n\n\n\n\n\nClick here to view the flyer. Please email Programs@cancersupportvvsb.org to register. \n\n\n\n\n\n\n\n\n\n\n\n\n\n\n\n 
URL:https://cancersupportvvsb.org/event/in-person-group-finding-calm-during-cancer/2026-04-28/
CATEGORIES:Support Group
END:VEVENT
BEGIN:VEVENT
DTSTART;TZID=America/Los_Angeles:20260428T170000
DTEND;TZID=America/Los_Angeles:20260428T183000
DTSTAMP:20260421T213142
CREATED:20251103T184450Z
LAST-MODIFIED:20251103T184451Z
UID:10001055-1777395600-1777401000@cancersupportvvsb.org
SUMMARY:ONLINE GROUP: Newly Diagnosed Early Stage Breast Cancer Support Group
DESCRIPTION:Program Type: ONLINE Support GroupDay & Time: Tuesday (Weekly)\, 5:00 pm-6:30 pmLocation: ONLINE (Zoom)Phone: 805-379-4777 \n\n\n\n\n\nPlease contact Programs@cancersupportvvsb.org or 805-379-4777 to register. \n\n\n\n\n\n\n\n\n\n\n\n\n\n\n\n 
URL:https://cancersupportvvsb.org/event/online-group-newly-diagnosed-early-stage-breast-cancer-support-group-2/2026-04-28/
CATEGORIES:Support Group
END:VEVENT
BEGIN:VEVENT
DTSTART;TZID=America/Los_Angeles:20260428T183000
DTEND;TZID=America/Los_Angeles:20260428T200000
DTSTAMP:20260421T213142
CREATED:20230406T175224Z
LAST-MODIFIED:20230710T231523Z
UID:10004618-1777401000-1777406400@cancersupportvvsb.org
SUMMARY:ONLINE GROUP: Friends & Family Support Group
DESCRIPTION:Program Type: ONLINE Support GroupDay & Time: Tuesday (Weekly)\, 6:30 pm-8:00 pmLocation: ONLINE (Zoom)Phone: 805-379-4777 \n\n\n\nPLEASE NOTE: Support groups conducted online use a HIPAA compliant online video conferencing format and are facilitated by a licensed mental health professional. \n\n\n\nThis is a Support Group for caregivers (family and friends) of people living with cancer\, facilitated by a licensed mental health professional. To attend this group\, an Orientation attendance is required. \n\n\n\nPlease contact Programs@cancersupportvvsb.org or 805-379-4777 to register. \n\n\n\n\n\n\n\n\n\n\n\n\n\n\n\n 
URL:https://cancersupportvvsb.org/event/online-group-friends-family-support-group-2/2026-04-28/
CATEGORIES:Support Group
END:VEVENT
BEGIN:VEVENT
DTSTART;TZID=America/Los_Angeles:20260429T100000
DTEND;TZID=America/Los_Angeles:20260429T113000
DTSTAMP:20260421T213142
CREATED:20220916T235030Z
LAST-MODIFIED:20240802T202329Z
UID:10001577-1777456800-1777462200@cancersupportvvsb.org
SUMMARY:ONLINE GROUP: All Cancers Support Group
DESCRIPTION:  \n\nProgram Type: ONLINE Support GroupDay & Time: Wednesday (Weekly)\, 10:00 am-11:30 amLocation: ONLINE (Zoom)Phone: 805-379-4777 \n\n\n\n\n\nPlease contact Programs@cancersupportvvsb.org or 805-379-4777 to register. \n\n\n\n\n\n\n\n\n\n\n\n\n\n\n\n 
URL:https://cancersupportvvsb.org/event/online-group-all-cancers-support-group-2/2026-04-29/
CATEGORIES:Support Group
END:VEVENT
BEGIN:VEVENT
DTSTART;TZID=America/Los_Angeles:20260429T100000
DTEND;TZID=America/Los_Angeles:20260429T113000
DTSTAMP:20260421T213142
CREATED:20240802T201643Z
LAST-MODIFIED:20240802T202441Z
UID:10010087-1777456800-1777462200@cancersupportvvsb.org
SUMMARY:IN-PERSON GROUP: Caregivers- Family & Friends
DESCRIPTION:Program Type: IN-PERSON Support GroupDay & Time: Wednesday Weekly\, 10:00 pm – 11:30 pmLocation: CSCVVSB: 4195 E Thousand Oaks Blvd.\, #107 Westlake Village\, CA 91362Phone: 805-379-4777 \n\n\n\n\n\nPlease contact Programs@cancersupportvvsb.org or 805-379-4777 to register. \n\n\n\n\n\n\n\n\n\n\n\n\n\n\n\n 
URL:https://cancersupportvvsb.org/event/in-person-group-caregivers-family-friends/2026-04-29/
CATEGORIES:Support Group
END:VEVENT
BEGIN:VEVENT
DTSTART;TZID=America/Los_Angeles:20260430T100000
DTEND;TZID=America/Los_Angeles:20260430T113000
DTSTAMP:20260421T213142
CREATED:20260105T194338Z
LAST-MODIFIED:20260105T194402Z
UID:10005944-1777543200-1777548600@cancersupportvvsb.org
SUMMARY:IN-PERSON GROUP: All Cancers Support Group
DESCRIPTION:  \n\nProgram Type: IN-PERSON Support GroupDay & Time: Thursday (Weekly)\, 10:00 am – 11:30 amLocation: 4195 E Thousand Oaks Blvd.\, #107 Westlake Village\, CA 91362Phone: 805-379-4777 \n\n\n\n  \n\n\n\nPlease contact Programs@cancersupportvvsb.org or 805-379-4777 to register. \n\n\n\n\n\n\n\n\n\n\n\n\n\n\n\n 
URL:https://cancersupportvvsb.org/event/online-group-all-cancers-support-group-4-2/2026-04-30/
CATEGORIES:Support Group
END:VEVENT
BEGIN:VEVENT
DTSTART;TZID=America/Los_Angeles:20260430T180000
DTEND;TZID=America/Los_Angeles:20260430T193000
DTSTAMP:20260421T213142
CREATED:20240201T184732Z
LAST-MODIFIED:20240201T185052Z
UID:10008145-1777572000-1777577400@cancersupportvvsb.org
SUMMARY:ONLINE GROUP: Bereavement Support Group
DESCRIPTION:Program Type: ONLINE Support GroupDay & Time: Thursdays (Weekly)\, 6:00 pm – 7:30 pmLocation: ONLINE (Zoom)Phone: 805-379-4777 \n\n\n\n\n\nThis is a Support Group for those who have experienced the loss of someone from cancer. Facilitated by a licensed mental health professional\, family and friends who have lost loved ones to cancer\, come together to practice self-care. \n\n\n\nPlease contact Programs@cancersupportvvsb.org or 805-379-4777 to register. \n\n\n\n\n\n\n\n\n\n\n\n\n\n\n\n 
URL:https://cancersupportvvsb.org/event/online-group-bereavement-support-group-3-2/2026-04-30/
CATEGORIES:Support Group
END:VEVENT
END:VCALENDAR