BEGIN:VCALENDAR
VERSION:2.0
PRODID:-//Cancer Support Community VVSB - ECPv6.15.18//NONSGML v1.0//EN
CALSCALE:GREGORIAN
METHOD:PUBLISH
X-WR-CALNAME:Cancer Support Community VVSB
X-ORIGINAL-URL:https://cancersupportvvsb.org
X-WR-CALDESC:Events for Cancer Support Community VVSB
REFRESH-INTERVAL;VALUE=DURATION:PT1H
X-Robots-Tag:noindex
X-PUBLISHED-TTL:PT1H
BEGIN:VTIMEZONE
TZID:America/Los_Angeles
BEGIN:DAYLIGHT
TZOFFSETFROM:-0800
TZOFFSETTO:-0700
TZNAME:PDT
DTSTART:20250309T100000
END:DAYLIGHT
BEGIN:STANDARD
TZOFFSETFROM:-0700
TZOFFSETTO:-0800
TZNAME:PST
DTSTART:20251102T090000
END:STANDARD
BEGIN:DAYLIGHT
TZOFFSETFROM:-0800
TZOFFSETTO:-0700
TZNAME:PDT
DTSTART:20260308T100000
END:DAYLIGHT
BEGIN:STANDARD
TZOFFSETFROM:-0700
TZOFFSETTO:-0800
TZNAME:PST
DTSTART:20261101T090000
END:STANDARD
BEGIN:DAYLIGHT
TZOFFSETFROM:-0800
TZOFFSETTO:-0700
TZNAME:PDT
DTSTART:20270314T100000
END:DAYLIGHT
BEGIN:STANDARD
TZOFFSETFROM:-0700
TZOFFSETTO:-0800
TZNAME:PST
DTSTART:20271107T090000
END:STANDARD
END:VTIMEZONE
BEGIN:VEVENT
DTSTART;TZID=America/Los_Angeles:20260425T140000
DTEND;TZID=America/Los_Angeles:20260425T150000
DTSTAMP:20260421T023808
CREATED:20260325T235742Z
LAST-MODIFIED:20260326T184514Z
UID:10014228-1777125600-1777129200@cancersupportvvsb.org
SUMMARY:Spring Bunny Yoga
DESCRIPTION:  \n\n\nBunny Yoga \n\nDate: Saturday\, April 25\, 2026Time: 2:00 – 2:45 pmLocation: CSCVVSB Office\, 4195 E Thousand Oaks Blvd.\, #107 Westlake Village\, CA 91362RSVP: programs@cancersupportvvsb.org  \n\n\n\n\n\n\nUnwind and enjoy a fun afternoon doing yoga with adorable bunny companions! \n\nParticipation is free and is intended for anyone impacted by cancer\nAttendance is limited to 12 participants\, so sign up while you can!\nRegistration IS required!\nSnacks will be provided \nFamilies with children: Parents/guardians are required to stay in the building during the duration of the event\n\nRegistration is required\, as space is limited! \n\nDownload the flyer here. \n\n\n\n\nWe have reached maximum capacity for this event! Please email programs@cancersupportvvsb.org to be placed on the waitlist. Thank you.
URL:https://cancersupportvvsb.org/event/spring-bunny-yoga/
CATEGORIES:Workshop and Social Activity
END:VEVENT
END:VCALENDAR