BEGIN:VCALENDAR
VERSION:2.0
PRODID:-//Cancer Support Community VVSB - ECPv6.15.18//NONSGML v1.0//EN
CALSCALE:GREGORIAN
METHOD:PUBLISH
X-WR-CALNAME:Cancer Support Community VVSB
X-ORIGINAL-URL:https://cancersupportvvsb.org
X-WR-CALDESC:Events for Cancer Support Community VVSB
REFRESH-INTERVAL;VALUE=DURATION:PT1H
X-Robots-Tag:noindex
X-PUBLISHED-TTL:PT1H
BEGIN:VTIMEZONE
TZID:America/Los_Angeles
BEGIN:DAYLIGHT
TZOFFSETFROM:-0800
TZOFFSETTO:-0700
TZNAME:PDT
DTSTART:20250309T100000
END:DAYLIGHT
BEGIN:STANDARD
TZOFFSETFROM:-0700
TZOFFSETTO:-0800
TZNAME:PST
DTSTART:20251102T090000
END:STANDARD
BEGIN:DAYLIGHT
TZOFFSETFROM:-0800
TZOFFSETTO:-0700
TZNAME:PDT
DTSTART:20260308T100000
END:DAYLIGHT
BEGIN:STANDARD
TZOFFSETFROM:-0700
TZOFFSETTO:-0800
TZNAME:PST
DTSTART:20261101T090000
END:STANDARD
BEGIN:DAYLIGHT
TZOFFSETFROM:-0800
TZOFFSETTO:-0700
TZNAME:PDT
DTSTART:20270314T100000
END:DAYLIGHT
BEGIN:STANDARD
TZOFFSETFROM:-0700
TZOFFSETTO:-0800
TZNAME:PST
DTSTART:20271107T090000
END:STANDARD
END:VTIMEZONE
BEGIN:VEVENT
DTSTART;TZID=America/Los_Angeles:20260423T100000
DTEND;TZID=America/Los_Angeles:20260423T113000
DTSTAMP:20260420T084533
CREATED:20260105T194338Z
LAST-MODIFIED:20260105T194402Z
UID:10005943-1776938400-1776943800@cancersupportvvsb.org
SUMMARY:IN-PERSON GROUP: All Cancers Support Group
DESCRIPTION:  \n\nProgram Type: IN-PERSON Support GroupDay & Time: Thursday (Weekly)\, 10:00 am – 11:30 amLocation: 4195 E Thousand Oaks Blvd.\, #107 Westlake Village\, CA 91362Phone: 805-379-4777 \n\n\n\n  \n\n\n\nPlease contact Programs@cancersupportvvsb.org or 805-379-4777 to register. \n\n\n\n\n\n\n\n\n\n\n\n\n\n\n\n 
URL:https://cancersupportvvsb.org/event/online-group-all-cancers-support-group-4-2/2026-04-23/
CATEGORIES:Support Group
END:VEVENT
BEGIN:VEVENT
DTSTART;TZID=America/Los_Angeles:20260430T100000
DTEND;TZID=America/Los_Angeles:20260430T113000
DTSTAMP:20260420T084533
CREATED:20260105T194338Z
LAST-MODIFIED:20260105T194402Z
UID:10005944-1777543200-1777548600@cancersupportvvsb.org
SUMMARY:IN-PERSON GROUP: All Cancers Support Group
DESCRIPTION:  \n\nProgram Type: IN-PERSON Support GroupDay & Time: Thursday (Weekly)\, 10:00 am – 11:30 amLocation: 4195 E Thousand Oaks Blvd.\, #107 Westlake Village\, CA 91362Phone: 805-379-4777 \n\n\n\n  \n\n\n\nPlease contact Programs@cancersupportvvsb.org or 805-379-4777 to register. \n\n\n\n\n\n\n\n\n\n\n\n\n\n\n\n 
URL:https://cancersupportvvsb.org/event/online-group-all-cancers-support-group-4-2/2026-04-30/
CATEGORIES:Support Group
END:VEVENT
BEGIN:VEVENT
DTSTART;TZID=America/Los_Angeles:20260507T100000
DTEND;TZID=America/Los_Angeles:20260507T113000
DTSTAMP:20260420T084533
CREATED:20260105T194338Z
LAST-MODIFIED:20260105T194402Z
UID:10005945-1778148000-1778153400@cancersupportvvsb.org
SUMMARY:IN-PERSON GROUP: All Cancers Support Group
DESCRIPTION:  \n\nProgram Type: IN-PERSON Support GroupDay & Time: Thursday (Weekly)\, 10:00 am – 11:30 amLocation: 4195 E Thousand Oaks Blvd.\, #107 Westlake Village\, CA 91362Phone: 805-379-4777 \n\n\n\n  \n\n\n\nPlease contact Programs@cancersupportvvsb.org or 805-379-4777 to register. \n\n\n\n\n\n\n\n\n\n\n\n\n\n\n\n 
URL:https://cancersupportvvsb.org/event/online-group-all-cancers-support-group-4-2/2026-05-07/
CATEGORIES:Support Group
END:VEVENT
BEGIN:VEVENT
DTSTART;TZID=America/Los_Angeles:20260514T100000
DTEND;TZID=America/Los_Angeles:20260514T113000
DTSTAMP:20260420T084533
CREATED:20260105T194338Z
LAST-MODIFIED:20260105T194402Z
UID:10005946-1778752800-1778758200@cancersupportvvsb.org
SUMMARY:IN-PERSON GROUP: All Cancers Support Group
DESCRIPTION:  \n\nProgram Type: IN-PERSON Support GroupDay & Time: Thursday (Weekly)\, 10:00 am – 11:30 amLocation: 4195 E Thousand Oaks Blvd.\, #107 Westlake Village\, CA 91362Phone: 805-379-4777 \n\n\n\n  \n\n\n\nPlease contact Programs@cancersupportvvsb.org or 805-379-4777 to register. \n\n\n\n\n\n\n\n\n\n\n\n\n\n\n\n 
URL:https://cancersupportvvsb.org/event/online-group-all-cancers-support-group-4-2/2026-05-14/
CATEGORIES:Support Group
END:VEVENT
BEGIN:VEVENT
DTSTART;TZID=America/Los_Angeles:20260521T100000
DTEND;TZID=America/Los_Angeles:20260521T113000
DTSTAMP:20260420T084533
CREATED:20260105T194338Z
LAST-MODIFIED:20260105T194402Z
UID:10005947-1779357600-1779363000@cancersupportvvsb.org
SUMMARY:IN-PERSON GROUP: All Cancers Support Group
DESCRIPTION:  \n\nProgram Type: IN-PERSON Support GroupDay & Time: Thursday (Weekly)\, 10:00 am – 11:30 amLocation: 4195 E Thousand Oaks Blvd.\, #107 Westlake Village\, CA 91362Phone: 805-379-4777 \n\n\n\n  \n\n\n\nPlease contact Programs@cancersupportvvsb.org or 805-379-4777 to register. \n\n\n\n\n\n\n\n\n\n\n\n\n\n\n\n 
URL:https://cancersupportvvsb.org/event/online-group-all-cancers-support-group-4-2/2026-05-21/
CATEGORIES:Support Group
END:VEVENT
BEGIN:VEVENT
DTSTART;TZID=America/Los_Angeles:20260528T100000
DTEND;TZID=America/Los_Angeles:20260528T113000
DTSTAMP:20260420T084533
CREATED:20260105T194338Z
LAST-MODIFIED:20260105T194402Z
UID:10005948-1779962400-1779967800@cancersupportvvsb.org
SUMMARY:IN-PERSON GROUP: All Cancers Support Group
DESCRIPTION:  \n\nProgram Type: IN-PERSON Support GroupDay & Time: Thursday (Weekly)\, 10:00 am – 11:30 amLocation: 4195 E Thousand Oaks Blvd.\, #107 Westlake Village\, CA 91362Phone: 805-379-4777 \n\n\n\n  \n\n\n\nPlease contact Programs@cancersupportvvsb.org or 805-379-4777 to register. \n\n\n\n\n\n\n\n\n\n\n\n\n\n\n\n 
URL:https://cancersupportvvsb.org/event/online-group-all-cancers-support-group-4-2/2026-05-28/
CATEGORIES:Support Group
END:VEVENT
BEGIN:VEVENT
DTSTART;TZID=America/Los_Angeles:20260604T100000
DTEND;TZID=America/Los_Angeles:20260604T113000
DTSTAMP:20260420T084533
CREATED:20260105T194338Z
LAST-MODIFIED:20260105T194402Z
UID:10005949-1780567200-1780572600@cancersupportvvsb.org
SUMMARY:IN-PERSON GROUP: All Cancers Support Group
DESCRIPTION:  \n\nProgram Type: IN-PERSON Support GroupDay & Time: Thursday (Weekly)\, 10:00 am – 11:30 amLocation: 4195 E Thousand Oaks Blvd.\, #107 Westlake Village\, CA 91362Phone: 805-379-4777 \n\n\n\n  \n\n\n\nPlease contact Programs@cancersupportvvsb.org or 805-379-4777 to register. \n\n\n\n\n\n\n\n\n\n\n\n\n\n\n\n 
URL:https://cancersupportvvsb.org/event/online-group-all-cancers-support-group-4-2/2026-06-04/
CATEGORIES:Support Group
END:VEVENT
BEGIN:VEVENT
DTSTART;TZID=America/Los_Angeles:20260611T100000
DTEND;TZID=America/Los_Angeles:20260611T113000
DTSTAMP:20260420T084533
CREATED:20260105T194338Z
LAST-MODIFIED:20260105T194402Z
UID:10005950-1781172000-1781177400@cancersupportvvsb.org
SUMMARY:IN-PERSON GROUP: All Cancers Support Group
DESCRIPTION:  \n\nProgram Type: IN-PERSON Support GroupDay & Time: Thursday (Weekly)\, 10:00 am – 11:30 amLocation: 4195 E Thousand Oaks Blvd.\, #107 Westlake Village\, CA 91362Phone: 805-379-4777 \n\n\n\n  \n\n\n\nPlease contact Programs@cancersupportvvsb.org or 805-379-4777 to register. \n\n\n\n\n\n\n\n\n\n\n\n\n\n\n\n 
URL:https://cancersupportvvsb.org/event/online-group-all-cancers-support-group-4-2/2026-06-11/
CATEGORIES:Support Group
END:VEVENT
BEGIN:VEVENT
DTSTART;TZID=America/Los_Angeles:20260618T100000
DTEND;TZID=America/Los_Angeles:20260618T113000
DTSTAMP:20260420T084533
CREATED:20260105T194338Z
LAST-MODIFIED:20260105T194402Z
UID:10005951-1781776800-1781782200@cancersupportvvsb.org
SUMMARY:IN-PERSON GROUP: All Cancers Support Group
DESCRIPTION:  \n\nProgram Type: IN-PERSON Support GroupDay & Time: Thursday (Weekly)\, 10:00 am – 11:30 amLocation: 4195 E Thousand Oaks Blvd.\, #107 Westlake Village\, CA 91362Phone: 805-379-4777 \n\n\n\n  \n\n\n\nPlease contact Programs@cancersupportvvsb.org or 805-379-4777 to register. \n\n\n\n\n\n\n\n\n\n\n\n\n\n\n\n 
URL:https://cancersupportvvsb.org/event/online-group-all-cancers-support-group-4-2/2026-06-18/
CATEGORIES:Support Group
END:VEVENT
BEGIN:VEVENT
DTSTART;TZID=America/Los_Angeles:20260625T100000
DTEND;TZID=America/Los_Angeles:20260625T113000
DTSTAMP:20260420T084533
CREATED:20260105T194338Z
LAST-MODIFIED:20260105T194402Z
UID:10005952-1782381600-1782387000@cancersupportvvsb.org
SUMMARY:IN-PERSON GROUP: All Cancers Support Group
DESCRIPTION:  \n\nProgram Type: IN-PERSON Support GroupDay & Time: Thursday (Weekly)\, 10:00 am – 11:30 amLocation: 4195 E Thousand Oaks Blvd.\, #107 Westlake Village\, CA 91362Phone: 805-379-4777 \n\n\n\n  \n\n\n\nPlease contact Programs@cancersupportvvsb.org or 805-379-4777 to register. \n\n\n\n\n\n\n\n\n\n\n\n\n\n\n\n 
URL:https://cancersupportvvsb.org/event/online-group-all-cancers-support-group-4-2/2026-06-25/
CATEGORIES:Support Group
END:VEVENT
BEGIN:VEVENT
DTSTART;TZID=America/Los_Angeles:20260702T100000
DTEND;TZID=America/Los_Angeles:20260702T113000
DTSTAMP:20260420T084533
CREATED:20260105T194338Z
LAST-MODIFIED:20260105T194402Z
UID:10005953-1782986400-1782991800@cancersupportvvsb.org
SUMMARY:IN-PERSON GROUP: All Cancers Support Group
DESCRIPTION:  \n\nProgram Type: IN-PERSON Support GroupDay & Time: Thursday (Weekly)\, 10:00 am – 11:30 amLocation: 4195 E Thousand Oaks Blvd.\, #107 Westlake Village\, CA 91362Phone: 805-379-4777 \n\n\n\n  \n\n\n\nPlease contact Programs@cancersupportvvsb.org or 805-379-4777 to register. \n\n\n\n\n\n\n\n\n\n\n\n\n\n\n\n 
URL:https://cancersupportvvsb.org/event/online-group-all-cancers-support-group-4-2/2026-07-02/
CATEGORIES:Support Group
END:VEVENT
BEGIN:VEVENT
DTSTART;TZID=America/Los_Angeles:20260709T100000
DTEND;TZID=America/Los_Angeles:20260709T113000
DTSTAMP:20260420T084533
CREATED:20260105T194338Z
LAST-MODIFIED:20260105T194402Z
UID:10005954-1783591200-1783596600@cancersupportvvsb.org
SUMMARY:IN-PERSON GROUP: All Cancers Support Group
DESCRIPTION:  \n\nProgram Type: IN-PERSON Support GroupDay & Time: Thursday (Weekly)\, 10:00 am – 11:30 amLocation: 4195 E Thousand Oaks Blvd.\, #107 Westlake Village\, CA 91362Phone: 805-379-4777 \n\n\n\n  \n\n\n\nPlease contact Programs@cancersupportvvsb.org or 805-379-4777 to register. \n\n\n\n\n\n\n\n\n\n\n\n\n\n\n\n 
URL:https://cancersupportvvsb.org/event/online-group-all-cancers-support-group-4-2/2026-07-09/
CATEGORIES:Support Group
END:VEVENT
BEGIN:VEVENT
DTSTART;TZID=America/Los_Angeles:20260716T100000
DTEND;TZID=America/Los_Angeles:20260716T113000
DTSTAMP:20260420T084533
CREATED:20260105T194338Z
LAST-MODIFIED:20260105T194402Z
UID:10005955-1784196000-1784201400@cancersupportvvsb.org
SUMMARY:IN-PERSON GROUP: All Cancers Support Group
DESCRIPTION:  \n\nProgram Type: IN-PERSON Support GroupDay & Time: Thursday (Weekly)\, 10:00 am – 11:30 amLocation: 4195 E Thousand Oaks Blvd.\, #107 Westlake Village\, CA 91362Phone: 805-379-4777 \n\n\n\n  \n\n\n\nPlease contact Programs@cancersupportvvsb.org or 805-379-4777 to register. \n\n\n\n\n\n\n\n\n\n\n\n\n\n\n\n 
URL:https://cancersupportvvsb.org/event/online-group-all-cancers-support-group-4-2/2026-07-16/
CATEGORIES:Support Group
END:VEVENT
BEGIN:VEVENT
DTSTART;TZID=America/Los_Angeles:20260723T100000
DTEND;TZID=America/Los_Angeles:20260723T113000
DTSTAMP:20260420T084533
CREATED:20260105T194338Z
LAST-MODIFIED:20260105T194402Z
UID:10005956-1784800800-1784806200@cancersupportvvsb.org
SUMMARY:IN-PERSON GROUP: All Cancers Support Group
DESCRIPTION:  \n\nProgram Type: IN-PERSON Support GroupDay & Time: Thursday (Weekly)\, 10:00 am – 11:30 amLocation: 4195 E Thousand Oaks Blvd.\, #107 Westlake Village\, CA 91362Phone: 805-379-4777 \n\n\n\n  \n\n\n\nPlease contact Programs@cancersupportvvsb.org or 805-379-4777 to register. \n\n\n\n\n\n\n\n\n\n\n\n\n\n\n\n 
URL:https://cancersupportvvsb.org/event/online-group-all-cancers-support-group-4-2/2026-07-23/
CATEGORIES:Support Group
END:VEVENT
BEGIN:VEVENT
DTSTART;TZID=America/Los_Angeles:20260730T100000
DTEND;TZID=America/Los_Angeles:20260730T113000
DTSTAMP:20260420T084533
CREATED:20260105T194338Z
LAST-MODIFIED:20260105T194402Z
UID:10005957-1785405600-1785411000@cancersupportvvsb.org
SUMMARY:IN-PERSON GROUP: All Cancers Support Group
DESCRIPTION:  \n\nProgram Type: IN-PERSON Support GroupDay & Time: Thursday (Weekly)\, 10:00 am – 11:30 amLocation: 4195 E Thousand Oaks Blvd.\, #107 Westlake Village\, CA 91362Phone: 805-379-4777 \n\n\n\n  \n\n\n\nPlease contact Programs@cancersupportvvsb.org or 805-379-4777 to register. \n\n\n\n\n\n\n\n\n\n\n\n\n\n\n\n 
URL:https://cancersupportvvsb.org/event/online-group-all-cancers-support-group-4-2/2026-07-30/
CATEGORIES:Support Group
END:VEVENT
BEGIN:VEVENT
DTSTART;TZID=America/Los_Angeles:20260806T100000
DTEND;TZID=America/Los_Angeles:20260806T113000
DTSTAMP:20260420T084533
CREATED:20260105T194338Z
LAST-MODIFIED:20260105T194402Z
UID:10005958-1786010400-1786015800@cancersupportvvsb.org
SUMMARY:IN-PERSON GROUP: All Cancers Support Group
DESCRIPTION:  \n\nProgram Type: IN-PERSON Support GroupDay & Time: Thursday (Weekly)\, 10:00 am – 11:30 amLocation: 4195 E Thousand Oaks Blvd.\, #107 Westlake Village\, CA 91362Phone: 805-379-4777 \n\n\n\n  \n\n\n\nPlease contact Programs@cancersupportvvsb.org or 805-379-4777 to register. \n\n\n\n\n\n\n\n\n\n\n\n\n\n\n\n 
URL:https://cancersupportvvsb.org/event/online-group-all-cancers-support-group-4-2/2026-08-06/
CATEGORIES:Support Group
END:VEVENT
BEGIN:VEVENT
DTSTART;TZID=America/Los_Angeles:20260813T100000
DTEND;TZID=America/Los_Angeles:20260813T113000
DTSTAMP:20260420T084533
CREATED:20260105T194338Z
LAST-MODIFIED:20260105T194402Z
UID:10005959-1786615200-1786620600@cancersupportvvsb.org
SUMMARY:IN-PERSON GROUP: All Cancers Support Group
DESCRIPTION:  \n\nProgram Type: IN-PERSON Support GroupDay & Time: Thursday (Weekly)\, 10:00 am – 11:30 amLocation: 4195 E Thousand Oaks Blvd.\, #107 Westlake Village\, CA 91362Phone: 805-379-4777 \n\n\n\n  \n\n\n\nPlease contact Programs@cancersupportvvsb.org or 805-379-4777 to register. \n\n\n\n\n\n\n\n\n\n\n\n\n\n\n\n 
URL:https://cancersupportvvsb.org/event/online-group-all-cancers-support-group-4-2/2026-08-13/
CATEGORIES:Support Group
END:VEVENT
BEGIN:VEVENT
DTSTART;TZID=America/Los_Angeles:20260820T100000
DTEND;TZID=America/Los_Angeles:20260820T113000
DTSTAMP:20260420T084533
CREATED:20260105T194338Z
LAST-MODIFIED:20260105T194402Z
UID:10005960-1787220000-1787225400@cancersupportvvsb.org
SUMMARY:IN-PERSON GROUP: All Cancers Support Group
DESCRIPTION:  \n\nProgram Type: IN-PERSON Support GroupDay & Time: Thursday (Weekly)\, 10:00 am – 11:30 amLocation: 4195 E Thousand Oaks Blvd.\, #107 Westlake Village\, CA 91362Phone: 805-379-4777 \n\n\n\n  \n\n\n\nPlease contact Programs@cancersupportvvsb.org or 805-379-4777 to register. \n\n\n\n\n\n\n\n\n\n\n\n\n\n\n\n 
URL:https://cancersupportvvsb.org/event/online-group-all-cancers-support-group-4-2/2026-08-20/
CATEGORIES:Support Group
END:VEVENT
BEGIN:VEVENT
DTSTART;TZID=America/Los_Angeles:20260827T100000
DTEND;TZID=America/Los_Angeles:20260827T113000
DTSTAMP:20260420T084533
CREATED:20260105T194338Z
LAST-MODIFIED:20260105T194402Z
UID:10005961-1787824800-1787830200@cancersupportvvsb.org
SUMMARY:IN-PERSON GROUP: All Cancers Support Group
DESCRIPTION:  \n\nProgram Type: IN-PERSON Support GroupDay & Time: Thursday (Weekly)\, 10:00 am – 11:30 amLocation: 4195 E Thousand Oaks Blvd.\, #107 Westlake Village\, CA 91362Phone: 805-379-4777 \n\n\n\n  \n\n\n\nPlease contact Programs@cancersupportvvsb.org or 805-379-4777 to register. \n\n\n\n\n\n\n\n\n\n\n\n\n\n\n\n 
URL:https://cancersupportvvsb.org/event/online-group-all-cancers-support-group-4-2/2026-08-27/
CATEGORIES:Support Group
END:VEVENT
BEGIN:VEVENT
DTSTART;TZID=America/Los_Angeles:20260903T100000
DTEND;TZID=America/Los_Angeles:20260903T113000
DTSTAMP:20260420T084533
CREATED:20260105T194338Z
LAST-MODIFIED:20260105T194402Z
UID:10005962-1788429600-1788435000@cancersupportvvsb.org
SUMMARY:IN-PERSON GROUP: All Cancers Support Group
DESCRIPTION:  \n\nProgram Type: IN-PERSON Support GroupDay & Time: Thursday (Weekly)\, 10:00 am – 11:30 amLocation: 4195 E Thousand Oaks Blvd.\, #107 Westlake Village\, CA 91362Phone: 805-379-4777 \n\n\n\n  \n\n\n\nPlease contact Programs@cancersupportvvsb.org or 805-379-4777 to register. \n\n\n\n\n\n\n\n\n\n\n\n\n\n\n\n 
URL:https://cancersupportvvsb.org/event/online-group-all-cancers-support-group-4-2/2026-09-03/
CATEGORIES:Support Group
END:VEVENT
BEGIN:VEVENT
DTSTART;TZID=America/Los_Angeles:20260910T100000
DTEND;TZID=America/Los_Angeles:20260910T113000
DTSTAMP:20260420T084533
CREATED:20260105T194338Z
LAST-MODIFIED:20260105T194402Z
UID:10005963-1789034400-1789039800@cancersupportvvsb.org
SUMMARY:IN-PERSON GROUP: All Cancers Support Group
DESCRIPTION:  \n\nProgram Type: IN-PERSON Support GroupDay & Time: Thursday (Weekly)\, 10:00 am – 11:30 amLocation: 4195 E Thousand Oaks Blvd.\, #107 Westlake Village\, CA 91362Phone: 805-379-4777 \n\n\n\n  \n\n\n\nPlease contact Programs@cancersupportvvsb.org or 805-379-4777 to register. \n\n\n\n\n\n\n\n\n\n\n\n\n\n\n\n 
URL:https://cancersupportvvsb.org/event/online-group-all-cancers-support-group-4-2/2026-09-10/
CATEGORIES:Support Group
END:VEVENT
BEGIN:VEVENT
DTSTART;TZID=America/Los_Angeles:20260917T100000
DTEND;TZID=America/Los_Angeles:20260917T113000
DTSTAMP:20260420T084533
CREATED:20260105T194338Z
LAST-MODIFIED:20260105T194402Z
UID:10005964-1789639200-1789644600@cancersupportvvsb.org
SUMMARY:IN-PERSON GROUP: All Cancers Support Group
DESCRIPTION:  \n\nProgram Type: IN-PERSON Support GroupDay & Time: Thursday (Weekly)\, 10:00 am – 11:30 amLocation: 4195 E Thousand Oaks Blvd.\, #107 Westlake Village\, CA 91362Phone: 805-379-4777 \n\n\n\n  \n\n\n\nPlease contact Programs@cancersupportvvsb.org or 805-379-4777 to register. \n\n\n\n\n\n\n\n\n\n\n\n\n\n\n\n 
URL:https://cancersupportvvsb.org/event/online-group-all-cancers-support-group-4-2/2026-09-17/
CATEGORIES:Support Group
END:VEVENT
BEGIN:VEVENT
DTSTART;TZID=America/Los_Angeles:20260924T100000
DTEND;TZID=America/Los_Angeles:20260924T113000
DTSTAMP:20260420T084533
CREATED:20260105T194338Z
LAST-MODIFIED:20260105T194402Z
UID:10005965-1790244000-1790249400@cancersupportvvsb.org
SUMMARY:IN-PERSON GROUP: All Cancers Support Group
DESCRIPTION:  \n\nProgram Type: IN-PERSON Support GroupDay & Time: Thursday (Weekly)\, 10:00 am – 11:30 amLocation: 4195 E Thousand Oaks Blvd.\, #107 Westlake Village\, CA 91362Phone: 805-379-4777 \n\n\n\n  \n\n\n\nPlease contact Programs@cancersupportvvsb.org or 805-379-4777 to register. \n\n\n\n\n\n\n\n\n\n\n\n\n\n\n\n 
URL:https://cancersupportvvsb.org/event/online-group-all-cancers-support-group-4-2/2026-09-24/
CATEGORIES:Support Group
END:VEVENT
BEGIN:VEVENT
DTSTART;TZID=America/Los_Angeles:20261001T100000
DTEND;TZID=America/Los_Angeles:20261001T113000
DTSTAMP:20260420T084533
CREATED:20260105T194338Z
LAST-MODIFIED:20260105T194402Z
UID:10005966-1790848800-1790854200@cancersupportvvsb.org
SUMMARY:IN-PERSON GROUP: All Cancers Support Group
DESCRIPTION:  \n\nProgram Type: IN-PERSON Support GroupDay & Time: Thursday (Weekly)\, 10:00 am – 11:30 amLocation: 4195 E Thousand Oaks Blvd.\, #107 Westlake Village\, CA 91362Phone: 805-379-4777 \n\n\n\n  \n\n\n\nPlease contact Programs@cancersupportvvsb.org or 805-379-4777 to register. \n\n\n\n\n\n\n\n\n\n\n\n\n\n\n\n 
URL:https://cancersupportvvsb.org/event/online-group-all-cancers-support-group-4-2/2026-10-01/
CATEGORIES:Support Group
END:VEVENT
BEGIN:VEVENT
DTSTART;TZID=America/Los_Angeles:20261008T100000
DTEND;TZID=America/Los_Angeles:20261008T113000
DTSTAMP:20260420T084533
CREATED:20260105T194338Z
LAST-MODIFIED:20260105T194402Z
UID:10005967-1791453600-1791459000@cancersupportvvsb.org
SUMMARY:IN-PERSON GROUP: All Cancers Support Group
DESCRIPTION:  \n\nProgram Type: IN-PERSON Support GroupDay & Time: Thursday (Weekly)\, 10:00 am – 11:30 amLocation: 4195 E Thousand Oaks Blvd.\, #107 Westlake Village\, CA 91362Phone: 805-379-4777 \n\n\n\n  \n\n\n\nPlease contact Programs@cancersupportvvsb.org or 805-379-4777 to register. \n\n\n\n\n\n\n\n\n\n\n\n\n\n\n\n 
URL:https://cancersupportvvsb.org/event/online-group-all-cancers-support-group-4-2/2026-10-08/
CATEGORIES:Support Group
END:VEVENT
BEGIN:VEVENT
DTSTART;TZID=America/Los_Angeles:20261015T100000
DTEND;TZID=America/Los_Angeles:20261015T113000
DTSTAMP:20260420T084533
CREATED:20260105T194338Z
LAST-MODIFIED:20260105T194402Z
UID:10005968-1792058400-1792063800@cancersupportvvsb.org
SUMMARY:IN-PERSON GROUP: All Cancers Support Group
DESCRIPTION:  \n\nProgram Type: IN-PERSON Support GroupDay & Time: Thursday (Weekly)\, 10:00 am – 11:30 amLocation: 4195 E Thousand Oaks Blvd.\, #107 Westlake Village\, CA 91362Phone: 805-379-4777 \n\n\n\n  \n\n\n\nPlease contact Programs@cancersupportvvsb.org or 805-379-4777 to register. \n\n\n\n\n\n\n\n\n\n\n\n\n\n\n\n 
URL:https://cancersupportvvsb.org/event/online-group-all-cancers-support-group-4-2/2026-10-15/
CATEGORIES:Support Group
END:VEVENT
BEGIN:VEVENT
DTSTART;TZID=America/Los_Angeles:20261022T100000
DTEND;TZID=America/Los_Angeles:20261022T113000
DTSTAMP:20260420T084533
CREATED:20260105T194338Z
LAST-MODIFIED:20260105T194402Z
UID:10005969-1792663200-1792668600@cancersupportvvsb.org
SUMMARY:IN-PERSON GROUP: All Cancers Support Group
DESCRIPTION:  \n\nProgram Type: IN-PERSON Support GroupDay & Time: Thursday (Weekly)\, 10:00 am – 11:30 amLocation: 4195 E Thousand Oaks Blvd.\, #107 Westlake Village\, CA 91362Phone: 805-379-4777 \n\n\n\n  \n\n\n\nPlease contact Programs@cancersupportvvsb.org or 805-379-4777 to register. \n\n\n\n\n\n\n\n\n\n\n\n\n\n\n\n 
URL:https://cancersupportvvsb.org/event/online-group-all-cancers-support-group-4-2/2026-10-22/
CATEGORIES:Support Group
END:VEVENT
BEGIN:VEVENT
DTSTART;TZID=America/Los_Angeles:20261029T100000
DTEND;TZID=America/Los_Angeles:20261029T113000
DTSTAMP:20260420T084533
CREATED:20260105T194338Z
LAST-MODIFIED:20260105T194402Z
UID:10005970-1793268000-1793273400@cancersupportvvsb.org
SUMMARY:IN-PERSON GROUP: All Cancers Support Group
DESCRIPTION:  \n\nProgram Type: IN-PERSON Support GroupDay & Time: Thursday (Weekly)\, 10:00 am – 11:30 amLocation: 4195 E Thousand Oaks Blvd.\, #107 Westlake Village\, CA 91362Phone: 805-379-4777 \n\n\n\n  \n\n\n\nPlease contact Programs@cancersupportvvsb.org or 805-379-4777 to register. \n\n\n\n\n\n\n\n\n\n\n\n\n\n\n\n 
URL:https://cancersupportvvsb.org/event/online-group-all-cancers-support-group-4-2/2026-10-29/
CATEGORIES:Support Group
END:VEVENT
BEGIN:VEVENT
DTSTART;TZID=America/Los_Angeles:20261105T100000
DTEND;TZID=America/Los_Angeles:20261105T113000
DTSTAMP:20260420T084533
CREATED:20260105T194338Z
LAST-MODIFIED:20260105T194402Z
UID:10005971-1793872800-1793878200@cancersupportvvsb.org
SUMMARY:IN-PERSON GROUP: All Cancers Support Group
DESCRIPTION:  \n\nProgram Type: IN-PERSON Support GroupDay & Time: Thursday (Weekly)\, 10:00 am – 11:30 amLocation: 4195 E Thousand Oaks Blvd.\, #107 Westlake Village\, CA 91362Phone: 805-379-4777 \n\n\n\n  \n\n\n\nPlease contact Programs@cancersupportvvsb.org or 805-379-4777 to register. \n\n\n\n\n\n\n\n\n\n\n\n\n\n\n\n 
URL:https://cancersupportvvsb.org/event/online-group-all-cancers-support-group-4-2/2026-11-05/
CATEGORIES:Support Group
END:VEVENT
BEGIN:VEVENT
DTSTART;TZID=America/Los_Angeles:20261112T100000
DTEND;TZID=America/Los_Angeles:20261112T113000
DTSTAMP:20260420T084533
CREATED:20260105T194338Z
LAST-MODIFIED:20260105T194402Z
UID:10005972-1794477600-1794483000@cancersupportvvsb.org
SUMMARY:IN-PERSON GROUP: All Cancers Support Group
DESCRIPTION:  \n\nProgram Type: IN-PERSON Support GroupDay & Time: Thursday (Weekly)\, 10:00 am – 11:30 amLocation: 4195 E Thousand Oaks Blvd.\, #107 Westlake Village\, CA 91362Phone: 805-379-4777 \n\n\n\n  \n\n\n\nPlease contact Programs@cancersupportvvsb.org or 805-379-4777 to register. \n\n\n\n\n\n\n\n\n\n\n\n\n\n\n\n 
URL:https://cancersupportvvsb.org/event/online-group-all-cancers-support-group-4-2/2026-11-12/
CATEGORIES:Support Group
END:VEVENT
END:VCALENDAR