BEGIN:VCALENDAR
VERSION:2.0
PRODID:-//Cancer Support Community VVSB - ECPv6.15.18//NONSGML v1.0//EN
CALSCALE:GREGORIAN
METHOD:PUBLISH
X-WR-CALNAME:Cancer Support Community VVSB
X-ORIGINAL-URL:https://cancersupportvvsb.org
X-WR-CALDESC:Events for Cancer Support Community VVSB
REFRESH-INTERVAL;VALUE=DURATION:PT1H
X-Robots-Tag:noindex
X-PUBLISHED-TTL:PT1H
BEGIN:VTIMEZONE
TZID:America/Los_Angeles
BEGIN:DAYLIGHT
TZOFFSETFROM:-0800
TZOFFSETTO:-0700
TZNAME:PDT
DTSTART:20250309T100000
END:DAYLIGHT
BEGIN:STANDARD
TZOFFSETFROM:-0700
TZOFFSETTO:-0800
TZNAME:PST
DTSTART:20251102T090000
END:STANDARD
BEGIN:DAYLIGHT
TZOFFSETFROM:-0800
TZOFFSETTO:-0700
TZNAME:PDT
DTSTART:20260308T100000
END:DAYLIGHT
BEGIN:STANDARD
TZOFFSETFROM:-0700
TZOFFSETTO:-0800
TZNAME:PST
DTSTART:20261101T090000
END:STANDARD
BEGIN:DAYLIGHT
TZOFFSETFROM:-0800
TZOFFSETTO:-0700
TZNAME:PDT
DTSTART:20270314T100000
END:DAYLIGHT
BEGIN:STANDARD
TZOFFSETFROM:-0700
TZOFFSETTO:-0800
TZNAME:PST
DTSTART:20271107T090000
END:STANDARD
END:VTIMEZONE
BEGIN:VEVENT
DTSTART;TZID=America/Los_Angeles:20260428T123000
DTEND;TZID=America/Los_Angeles:20260428T140000
DTSTAMP:20260422T054911
CREATED:20260311T230836Z
LAST-MODIFIED:20260311T234916Z
UID:10014216-1777379400-1777384800@cancersupportvvsb.org
SUMMARY:IN-PERSON GROUP: Finding Calm During Cancer
DESCRIPTION:  \n\nProgram Type: Finding Calm During Cancer: Mindfulness & Emotion Coping Skills Support Group \nDay & Time: Tuesdays April 7th – May 26th from 12:30pm-2:00pm (8 sessions) \nLocation: Cancer Support Community Office 4195 Thousand Oaks Blvd.\, #107\, WLV 91362 \nCancer can bring overwhelming emotions — from fear and uncertainty to frustration and sadness. This supportive group helps participants build practical skills to manage intense feelings and reduce stress during the cancer journey. Using simple mindfulness exercises and tools from Dialectical Behavior Therapy (DBT)\, you’ll learn how to stay grounded\, communicate more effectively with loved ones and healthcare providers\, and respond to challenges with greater balance and confidence. Open to anyone impacted by cancer\, including patients\, survivors\, and caregivers. \nHannah Hoffman is a Licensed Clinical Social Worker with over 10 years of experience in the mental health field. In addition to facilitating caregiver support groups for the past 6 years\, she has led a wide variety of educational and therapeutic groups on topics such as stress management\, interpersonal skills\, and memory loss. \n\n\n\n\n\nClick here to view the flyer. Please email Programs@cancersupportvvsb.org to register. \n\n\n\n\n\n\n\n\n\n\n\n\n\n\n\n 
URL:https://cancersupportvvsb.org/event/in-person-group-finding-calm-during-cancer/2026-04-28/
CATEGORIES:Support Group
END:VEVENT
BEGIN:VEVENT
DTSTART;TZID=America/Los_Angeles:20260505T123000
DTEND;TZID=America/Los_Angeles:20260505T140000
DTSTAMP:20260422T054911
CREATED:20260311T230836Z
LAST-MODIFIED:20260311T234916Z
UID:10014217-1777984200-1777989600@cancersupportvvsb.org
SUMMARY:IN-PERSON GROUP: Finding Calm During Cancer
DESCRIPTION:  \n\nProgram Type: Finding Calm During Cancer: Mindfulness & Emotion Coping Skills Support Group \nDay & Time: Tuesdays April 7th – May 26th from 12:30pm-2:00pm (8 sessions) \nLocation: Cancer Support Community Office 4195 Thousand Oaks Blvd.\, #107\, WLV 91362 \nCancer can bring overwhelming emotions — from fear and uncertainty to frustration and sadness. This supportive group helps participants build practical skills to manage intense feelings and reduce stress during the cancer journey. Using simple mindfulness exercises and tools from Dialectical Behavior Therapy (DBT)\, you’ll learn how to stay grounded\, communicate more effectively with loved ones and healthcare providers\, and respond to challenges with greater balance and confidence. Open to anyone impacted by cancer\, including patients\, survivors\, and caregivers. \nHannah Hoffman is a Licensed Clinical Social Worker with over 10 years of experience in the mental health field. In addition to facilitating caregiver support groups for the past 6 years\, she has led a wide variety of educational and therapeutic groups on topics such as stress management\, interpersonal skills\, and memory loss. \n\n\n\n\n\nClick here to view the flyer. Please email Programs@cancersupportvvsb.org to register. \n\n\n\n\n\n\n\n\n\n\n\n\n\n\n\n 
URL:https://cancersupportvvsb.org/event/in-person-group-finding-calm-during-cancer/2026-05-05/
CATEGORIES:Support Group
END:VEVENT
BEGIN:VEVENT
DTSTART;TZID=America/Los_Angeles:20260512T123000
DTEND;TZID=America/Los_Angeles:20260512T140000
DTSTAMP:20260422T054911
CREATED:20260311T230836Z
LAST-MODIFIED:20260311T234916Z
UID:10014218-1778589000-1778594400@cancersupportvvsb.org
SUMMARY:IN-PERSON GROUP: Finding Calm During Cancer
DESCRIPTION:  \n\nProgram Type: Finding Calm During Cancer: Mindfulness & Emotion Coping Skills Support Group \nDay & Time: Tuesdays April 7th – May 26th from 12:30pm-2:00pm (8 sessions) \nLocation: Cancer Support Community Office 4195 Thousand Oaks Blvd.\, #107\, WLV 91362 \nCancer can bring overwhelming emotions — from fear and uncertainty to frustration and sadness. This supportive group helps participants build practical skills to manage intense feelings and reduce stress during the cancer journey. Using simple mindfulness exercises and tools from Dialectical Behavior Therapy (DBT)\, you’ll learn how to stay grounded\, communicate more effectively with loved ones and healthcare providers\, and respond to challenges with greater balance and confidence. Open to anyone impacted by cancer\, including patients\, survivors\, and caregivers. \nHannah Hoffman is a Licensed Clinical Social Worker with over 10 years of experience in the mental health field. In addition to facilitating caregiver support groups for the past 6 years\, she has led a wide variety of educational and therapeutic groups on topics such as stress management\, interpersonal skills\, and memory loss. \n\n\n\n\n\nClick here to view the flyer. Please email Programs@cancersupportvvsb.org to register. \n\n\n\n\n\n\n\n\n\n\n\n\n\n\n\n 
URL:https://cancersupportvvsb.org/event/in-person-group-finding-calm-during-cancer/2026-05-12/
CATEGORIES:Support Group
END:VEVENT
BEGIN:VEVENT
DTSTART;TZID=America/Los_Angeles:20260519T123000
DTEND;TZID=America/Los_Angeles:20260519T140000
DTSTAMP:20260422T054911
CREATED:20260311T230836Z
LAST-MODIFIED:20260311T234916Z
UID:10014219-1779193800-1779199200@cancersupportvvsb.org
SUMMARY:IN-PERSON GROUP: Finding Calm During Cancer
DESCRIPTION:  \n\nProgram Type: Finding Calm During Cancer: Mindfulness & Emotion Coping Skills Support Group \nDay & Time: Tuesdays April 7th – May 26th from 12:30pm-2:00pm (8 sessions) \nLocation: Cancer Support Community Office 4195 Thousand Oaks Blvd.\, #107\, WLV 91362 \nCancer can bring overwhelming emotions — from fear and uncertainty to frustration and sadness. This supportive group helps participants build practical skills to manage intense feelings and reduce stress during the cancer journey. Using simple mindfulness exercises and tools from Dialectical Behavior Therapy (DBT)\, you’ll learn how to stay grounded\, communicate more effectively with loved ones and healthcare providers\, and respond to challenges with greater balance and confidence. Open to anyone impacted by cancer\, including patients\, survivors\, and caregivers. \nHannah Hoffman is a Licensed Clinical Social Worker with over 10 years of experience in the mental health field. In addition to facilitating caregiver support groups for the past 6 years\, she has led a wide variety of educational and therapeutic groups on topics such as stress management\, interpersonal skills\, and memory loss. \n\n\n\n\n\nClick here to view the flyer. Please email Programs@cancersupportvvsb.org to register. \n\n\n\n\n\n\n\n\n\n\n\n\n\n\n\n 
URL:https://cancersupportvvsb.org/event/in-person-group-finding-calm-during-cancer/2026-05-19/
CATEGORIES:Support Group
END:VEVENT
BEGIN:VEVENT
DTSTART;TZID=America/Los_Angeles:20260526T123000
DTEND;TZID=America/Los_Angeles:20260526T140000
DTSTAMP:20260422T054911
CREATED:20260311T230836Z
LAST-MODIFIED:20260311T234916Z
UID:10014220-1779798600-1779804000@cancersupportvvsb.org
SUMMARY:IN-PERSON GROUP: Finding Calm During Cancer
DESCRIPTION:  \n\nProgram Type: Finding Calm During Cancer: Mindfulness & Emotion Coping Skills Support Group \nDay & Time: Tuesdays April 7th – May 26th from 12:30pm-2:00pm (8 sessions) \nLocation: Cancer Support Community Office 4195 Thousand Oaks Blvd.\, #107\, WLV 91362 \nCancer can bring overwhelming emotions — from fear and uncertainty to frustration and sadness. This supportive group helps participants build practical skills to manage intense feelings and reduce stress during the cancer journey. Using simple mindfulness exercises and tools from Dialectical Behavior Therapy (DBT)\, you’ll learn how to stay grounded\, communicate more effectively with loved ones and healthcare providers\, and respond to challenges with greater balance and confidence. Open to anyone impacted by cancer\, including patients\, survivors\, and caregivers. \nHannah Hoffman is a Licensed Clinical Social Worker with over 10 years of experience in the mental health field. In addition to facilitating caregiver support groups for the past 6 years\, she has led a wide variety of educational and therapeutic groups on topics such as stress management\, interpersonal skills\, and memory loss. \n\n\n\n\n\nClick here to view the flyer. Please email Programs@cancersupportvvsb.org to register. \n\n\n\n\n\n\n\n\n\n\n\n\n\n\n\n 
URL:https://cancersupportvvsb.org/event/in-person-group-finding-calm-during-cancer/2026-05-26/
CATEGORIES:Support Group
END:VEVENT
END:VCALENDAR