BEGIN:VCALENDAR
VERSION:2.0
PRODID:-//Cancer Support Community VVSB - ECPv6.15.18//NONSGML v1.0//EN
CALSCALE:GREGORIAN
METHOD:PUBLISH
X-ORIGINAL-URL:https://cancersupportvvsb.org
X-WR-CALDESC:Events for Cancer Support Community VVSB
REFRESH-INTERVAL;VALUE=DURATION:PT1H
X-Robots-Tag:noindex
X-PUBLISHED-TTL:PT1H
BEGIN:VTIMEZONE
TZID:America/Los_Angeles
BEGIN:DAYLIGHT
TZOFFSETFROM:-0800
TZOFFSETTO:-0700
TZNAME:PDT
DTSTART:20250309T100000
END:DAYLIGHT
BEGIN:STANDARD
TZOFFSETFROM:-0700
TZOFFSETTO:-0800
TZNAME:PST
DTSTART:20251102T090000
END:STANDARD
BEGIN:DAYLIGHT
TZOFFSETFROM:-0800
TZOFFSETTO:-0700
TZNAME:PDT
DTSTART:20260308T100000
END:DAYLIGHT
BEGIN:STANDARD
TZOFFSETFROM:-0700
TZOFFSETTO:-0800
TZNAME:PST
DTSTART:20261101T090000
END:STANDARD
BEGIN:DAYLIGHT
TZOFFSETFROM:-0800
TZOFFSETTO:-0700
TZNAME:PDT
DTSTART:20270314T100000
END:DAYLIGHT
BEGIN:STANDARD
TZOFFSETFROM:-0700
TZOFFSETTO:-0800
TZNAME:PST
DTSTART:20271107T090000
END:STANDARD
BEGIN:DAYLIGHT
TZOFFSETFROM:-0800
TZOFFSETTO:-0700
TZNAME:PDT
DTSTART:20280312T100000
END:DAYLIGHT
BEGIN:STANDARD
TZOFFSETFROM:-0700
TZOFFSETTO:-0800
TZNAME:PST
DTSTART:20281105T090000
END:STANDARD
END:VTIMEZONE
BEGIN:VEVENT
DTSTART;TZID=America/Los_Angeles:20261118T100000
DTEND;TZID=America/Los_Angeles:20261118T113000
DTSTAMP:20260421T110306
CREATED:20240802T201643Z
LAST-MODIFIED:20240802T202441Z
UID:10010116-1794996000-1795001400@cancersupportvvsb.org
SUMMARY:IN-PERSON GROUP: Caregivers- Family & Friends
DESCRIPTION:Program Type: IN-PERSON Support GroupDay & Time: Wednesday Weekly\, 10:00 pm – 11:30 pmLocation: CSCVVSB: 4195 E Thousand Oaks Blvd.\, #107 Westlake Village\, CA 91362Phone: 805-379-4777 \n\n\n\n\n\nPlease contact Programs@cancersupportvvsb.org or 805-379-4777 to register. \n\n\n\n\n\n\n\n\n\n\n\n\n\n\n\n 
URL:https://cancersupportvvsb.org/event/in-person-group-caregivers-family-friends/2026-11-18/
CATEGORIES:Support Group
END:VEVENT
BEGIN:VEVENT
DTSTART;TZID=America/Los_Angeles:20261123T100000
DTEND;TZID=America/Los_Angeles:20261123T113000
DTSTAMP:20260421T110306
CREATED:20230908T223246Z
LAST-MODIFIED:20251021T200643Z
UID:10005676-1795428000-1795433400@cancersupportvvsb.org
SUMMARY:IN-PERSON GROUP: Life after Cancer\, Survivorship Group for all Cancers
DESCRIPTION:Program Type: IN-PERSON Support GroupDay & Time: 2nd & 4th Mondays\, 10:00 am – 11:30 amLocation: CSCVVSB OfficePhone: 805-379-4777 \n\n\n\n\n\nPlease contact Programs@cancersupportvvsb.org or 805-379-4777 to register. \n\n\n\n\n\n\n\n\n\n\n\n\n\n\n\n 
URL:https://cancersupportvvsb.org/event/in-person-group-life-after-cancer-survivorship-group-for-all-cancers-2/2026-11-23/
CATEGORIES:Support Group
END:VEVENT
BEGIN:VEVENT
DTSTART;TZID=America/Los_Angeles:20261124T100000
DTEND;TZID=America/Los_Angeles:20261124T113000
DTSTAMP:20260421T110306
CREATED:20241220T013303Z
LAST-MODIFIED:20241220T013303Z
UID:10011499-1795514400-1795519800@cancersupportvvsb.org
SUMMARY:IN-PERSON GROUP: All Cancer
DESCRIPTION:  \n\nProgram Type: IN-PERSON All Cancer Support GroupDay & Time: Tuesday Weekly\, 10:00 am – 11:30 amLocation: Rancho Simi Activity Center 4201 Guardian Street Simi Valley\, CA 93063Phone: 805-379-4777 \n\n\n\n\n\nPlease contact Programs@cancersupportvvsb.org or 805-379-4777 to register. \n\n\n\n\n\n\n\n\n\n\n\n\n\n\n\n 
URL:https://cancersupportvvsb.org/event/in-person-group-all-cancer/2026-11-24/
CATEGORIES:Support Group
END:VEVENT
BEGIN:VEVENT
DTSTART;TZID=America/Los_Angeles:20261124T110000
DTEND;TZID=America/Los_Angeles:20261124T123000
DTSTAMP:20260421T110306
CREATED:20240213T225247Z
LAST-MODIFIED:20240213T225247Z
UID:10008526-1795518000-1795523400@cancersupportvvsb.org
SUMMARY:IN-PERSON GROUP: All Women’s All Cancers Support Group
DESCRIPTION:Program Type: IN-PERSON Support GroupDay & Time: 2nd & 4th Tuesdays\, 11:00 am – 12:30 pmLocation: Cancer Resource Center St. John’s Camarillo 2309 Antonio Ave. Camarillo\, CA 93010 \n\n\n\n\n\nPlease contact Programs@cancersupportvvsb.org or 805-988-2641 to register. \n\n\n\n\n\n\n\n\n\n\n\n\n\n\n\n 
URL:https://cancersupportvvsb.org/event/in-person-group-all-womens-all-cancers-support-group-2/2026-11-24/
CATEGORIES:Support Group
END:VEVENT
BEGIN:VEVENT
DTSTART;TZID=America/Los_Angeles:20261125T100000
DTEND;TZID=America/Los_Angeles:20261125T113000
DTSTAMP:20260421T110306
CREATED:20240802T201643Z
LAST-MODIFIED:20240802T202441Z
UID:10010117-1795600800-1795606200@cancersupportvvsb.org
SUMMARY:IN-PERSON GROUP: Caregivers- Family & Friends
DESCRIPTION:Program Type: IN-PERSON Support GroupDay & Time: Wednesday Weekly\, 10:00 pm – 11:30 pmLocation: CSCVVSB: 4195 E Thousand Oaks Blvd.\, #107 Westlake Village\, CA 91362Phone: 805-379-4777 \n\n\n\n\n\nPlease contact Programs@cancersupportvvsb.org or 805-379-4777 to register. \n\n\n\n\n\n\n\n\n\n\n\n\n\n\n\n 
URL:https://cancersupportvvsb.org/event/in-person-group-caregivers-family-friends/2026-11-25/
CATEGORIES:Support Group
END:VEVENT
BEGIN:VEVENT
DTSTART;TZID=America/Los_Angeles:20261201T100000
DTEND;TZID=America/Los_Angeles:20261201T113000
DTSTAMP:20260421T110306
CREATED:20241220T013303Z
LAST-MODIFIED:20241220T013303Z
UID:10011500-1796119200-1796124600@cancersupportvvsb.org
SUMMARY:IN-PERSON GROUP: All Cancer
DESCRIPTION:  \n\nProgram Type: IN-PERSON All Cancer Support GroupDay & Time: Tuesday Weekly\, 10:00 am – 11:30 amLocation: Rancho Simi Activity Center 4201 Guardian Street Simi Valley\, CA 93063Phone: 805-379-4777 \n\n\n\n\n\nPlease contact Programs@cancersupportvvsb.org or 805-379-4777 to register. \n\n\n\n\n\n\n\n\n\n\n\n\n\n\n\n 
URL:https://cancersupportvvsb.org/event/in-person-group-all-cancer/2026-12-01/
CATEGORIES:Support Group
END:VEVENT
BEGIN:VEVENT
DTSTART;TZID=America/Los_Angeles:20261202T100000
DTEND;TZID=America/Los_Angeles:20261202T113000
DTSTAMP:20260421T110306
CREATED:20240802T201643Z
LAST-MODIFIED:20240802T202441Z
UID:10010118-1796205600-1796211000@cancersupportvvsb.org
SUMMARY:IN-PERSON GROUP: Caregivers- Family & Friends
DESCRIPTION:Program Type: IN-PERSON Support GroupDay & Time: Wednesday Weekly\, 10:00 pm – 11:30 pmLocation: CSCVVSB: 4195 E Thousand Oaks Blvd.\, #107 Westlake Village\, CA 91362Phone: 805-379-4777 \n\n\n\n\n\nPlease contact Programs@cancersupportvvsb.org or 805-379-4777 to register. \n\n\n\n\n\n\n\n\n\n\n\n\n\n\n\n 
URL:https://cancersupportvvsb.org/event/in-person-group-caregivers-family-friends/2026-12-02/
CATEGORIES:Support Group
END:VEVENT
BEGIN:VEVENT
DTSTART;TZID=America/Los_Angeles:20261208T100000
DTEND;TZID=America/Los_Angeles:20261208T113000
DTSTAMP:20260421T110306
CREATED:20241220T013303Z
LAST-MODIFIED:20241220T013303Z
UID:10011501-1796724000-1796729400@cancersupportvvsb.org
SUMMARY:IN-PERSON GROUP: All Cancer
DESCRIPTION:  \n\nProgram Type: IN-PERSON All Cancer Support GroupDay & Time: Tuesday Weekly\, 10:00 am – 11:30 amLocation: Rancho Simi Activity Center 4201 Guardian Street Simi Valley\, CA 93063Phone: 805-379-4777 \n\n\n\n\n\nPlease contact Programs@cancersupportvvsb.org or 805-379-4777 to register. \n\n\n\n\n\n\n\n\n\n\n\n\n\n\n\n 
URL:https://cancersupportvvsb.org/event/in-person-group-all-cancer/2026-12-08/
CATEGORIES:Support Group
END:VEVENT
BEGIN:VEVENT
DTSTART;TZID=America/Los_Angeles:20261208T110000
DTEND;TZID=America/Los_Angeles:20261208T123000
DTSTAMP:20260421T110306
CREATED:20240213T225147Z
LAST-MODIFIED:20240213T225147Z
UID:10008407-1796727600-1796733000@cancersupportvvsb.org
SUMMARY:IN-PERSON GROUP: All Women’s All Cancers Support Group
DESCRIPTION:Program Type: IN-PERSON Support GroupDay & Time: 2nd & 4th Tuesdays\, 11:00 am – 12:30 pmLocation: Cancer Resource Center St. John’s Camarillo 2309 Antonio Ave. Camarillo\, CA 93010 \n\n\n\n\n\nPlease contact Programs@cancersupportvvsb.org or 805-988-2641 to register. \n\n\n\n\n\n\n\n\n\n\n\n\n\n\n\n 
URL:https://cancersupportvvsb.org/event/in-person-group-all-womens-all-cancers-support-group/2026-12-08/
CATEGORIES:Support Group
END:VEVENT
BEGIN:VEVENT
DTSTART;TZID=America/Los_Angeles:20261209T100000
DTEND;TZID=America/Los_Angeles:20261209T113000
DTSTAMP:20260421T110306
CREATED:20240802T201643Z
LAST-MODIFIED:20240802T202441Z
UID:10010119-1796810400-1796815800@cancersupportvvsb.org
SUMMARY:IN-PERSON GROUP: Caregivers- Family & Friends
DESCRIPTION:Program Type: IN-PERSON Support GroupDay & Time: Wednesday Weekly\, 10:00 pm – 11:30 pmLocation: CSCVVSB: 4195 E Thousand Oaks Blvd.\, #107 Westlake Village\, CA 91362Phone: 805-379-4777 \n\n\n\n\n\nPlease contact Programs@cancersupportvvsb.org or 805-379-4777 to register. \n\n\n\n\n\n\n\n\n\n\n\n\n\n\n\n 
URL:https://cancersupportvvsb.org/event/in-person-group-caregivers-family-friends/2026-12-09/
CATEGORIES:Support Group
END:VEVENT
BEGIN:VEVENT
DTSTART;TZID=America/Los_Angeles:20261214T100000
DTEND;TZID=America/Los_Angeles:20261214T113000
DTSTAMP:20260421T110306
CREATED:20230908T223118Z
LAST-MODIFIED:20251021T200724Z
UID:10005559-1797242400-1797247800@cancersupportvvsb.org
SUMMARY:IN-PERSON GROUP: Life after Cancer\, Survivorship Group for all Cancers
DESCRIPTION:Program Type: IN-PERSON Support GroupDay & Time: 2nd & 4th Mondays\, 10:00 am – 11:30 amLocation: CSCVVSB OfficePhone: 805-379-4777 \n\n\n\n\n\nPlease contact Programs@cancersupportvvsb.org or 805-379-4777 to register. \n\n\n\n\n\n\n\n\n\n\n\n\n\n\n\n 
URL:https://cancersupportvvsb.org/event/in-person-group-life-after-cancer-survivorship-group-for-all-cancers/2026-12-14/
CATEGORIES:Support Group
END:VEVENT
BEGIN:VEVENT
DTSTART;TZID=America/Los_Angeles:20261214T170000
DTEND;TZID=America/Los_Angeles:20261214T183000
DTSTAMP:20260421T110306
CREATED:20251103T184533Z
LAST-MODIFIED:20251103T184534Z
UID:10000476-1797267600-1797273000@cancersupportvvsb.org
SUMMARY:ONLINE GROUP: Life after Breast Cancer – Survivorship Support Group
DESCRIPTION:Program Type: ONLINE Support GroupDay & Time: 2nd & 4th Mondays\, 5:00 pm -6:30 pmLocation: ONLINE (Zoom)Phone: 805-379-4777 \n\n\n\n\n\nPlease contact Programs@cancersupportvvsb.org or 805-379-4777 to register. \n\n\n\n\n\n\n\n\n\n\n\n\n\n\n\n 
URL:https://cancersupportvvsb.org/event/online-group-life-after-breast-cancer-survivorship-support-group-2-2/2026-12-14/
CATEGORIES:Support Group
END:VEVENT
BEGIN:VEVENT
DTSTART;TZID=America/Los_Angeles:20261215T100000
DTEND;TZID=America/Los_Angeles:20261215T113000
DTSTAMP:20260421T110306
CREATED:20241220T013303Z
LAST-MODIFIED:20241220T013303Z
UID:10011502-1797328800-1797334200@cancersupportvvsb.org
SUMMARY:IN-PERSON GROUP: All Cancer
DESCRIPTION:  \n\nProgram Type: IN-PERSON All Cancer Support GroupDay & Time: Tuesday Weekly\, 10:00 am – 11:30 amLocation: Rancho Simi Activity Center 4201 Guardian Street Simi Valley\, CA 93063Phone: 805-379-4777 \n\n\n\n\n\nPlease contact Programs@cancersupportvvsb.org or 805-379-4777 to register. \n\n\n\n\n\n\n\n\n\n\n\n\n\n\n\n 
URL:https://cancersupportvvsb.org/event/in-person-group-all-cancer/2026-12-15/
CATEGORIES:Support Group
END:VEVENT
BEGIN:VEVENT
DTSTART;TZID=America/Los_Angeles:20261216T100000
DTEND;TZID=America/Los_Angeles:20261216T113000
DTSTAMP:20260421T110306
CREATED:20240802T201643Z
LAST-MODIFIED:20240802T202441Z
UID:10010120-1797415200-1797420600@cancersupportvvsb.org
SUMMARY:IN-PERSON GROUP: Caregivers- Family & Friends
DESCRIPTION:Program Type: IN-PERSON Support GroupDay & Time: Wednesday Weekly\, 10:00 pm – 11:30 pmLocation: CSCVVSB: 4195 E Thousand Oaks Blvd.\, #107 Westlake Village\, CA 91362Phone: 805-379-4777 \n\n\n\n\n\nPlease contact Programs@cancersupportvvsb.org or 805-379-4777 to register. \n\n\n\n\n\n\n\n\n\n\n\n\n\n\n\n 
URL:https://cancersupportvvsb.org/event/in-person-group-caregivers-family-friends/2026-12-16/
CATEGORIES:Support Group
END:VEVENT
BEGIN:VEVENT
DTSTART;TZID=America/Los_Angeles:20261222T100000
DTEND;TZID=America/Los_Angeles:20261222T113000
DTSTAMP:20260421T110306
CREATED:20241220T013303Z
LAST-MODIFIED:20241220T013303Z
UID:10011503-1797933600-1797939000@cancersupportvvsb.org
SUMMARY:IN-PERSON GROUP: All Cancer
DESCRIPTION:  \n\nProgram Type: IN-PERSON All Cancer Support GroupDay & Time: Tuesday Weekly\, 10:00 am – 11:30 amLocation: Rancho Simi Activity Center 4201 Guardian Street Simi Valley\, CA 93063Phone: 805-379-4777 \n\n\n\n\n\nPlease contact Programs@cancersupportvvsb.org or 805-379-4777 to register. \n\n\n\n\n\n\n\n\n\n\n\n\n\n\n\n 
URL:https://cancersupportvvsb.org/event/in-person-group-all-cancer/2026-12-22/
CATEGORIES:Support Group
END:VEVENT
BEGIN:VEVENT
DTSTART;TZID=America/Los_Angeles:20261222T110000
DTEND;TZID=America/Los_Angeles:20261222T123000
DTSTAMP:20260421T110306
CREATED:20240213T225247Z
LAST-MODIFIED:20240213T225247Z
UID:10008527-1797937200-1797942600@cancersupportvvsb.org
SUMMARY:IN-PERSON GROUP: All Women’s All Cancers Support Group
DESCRIPTION:Program Type: IN-PERSON Support GroupDay & Time: 2nd & 4th Tuesdays\, 11:00 am – 12:30 pmLocation: Cancer Resource Center St. John’s Camarillo 2309 Antonio Ave. Camarillo\, CA 93010 \n\n\n\n\n\nPlease contact Programs@cancersupportvvsb.org or 805-988-2641 to register. \n\n\n\n\n\n\n\n\n\n\n\n\n\n\n\n 
URL:https://cancersupportvvsb.org/event/in-person-group-all-womens-all-cancers-support-group-2/2026-12-22/
CATEGORIES:Support Group
END:VEVENT
BEGIN:VEVENT
DTSTART;TZID=America/Los_Angeles:20261223T100000
DTEND;TZID=America/Los_Angeles:20261223T113000
DTSTAMP:20260421T110306
CREATED:20240802T201643Z
LAST-MODIFIED:20240802T202441Z
UID:10010121-1798020000-1798025400@cancersupportvvsb.org
SUMMARY:IN-PERSON GROUP: Caregivers- Family & Friends
DESCRIPTION:Program Type: IN-PERSON Support GroupDay & Time: Wednesday Weekly\, 10:00 pm – 11:30 pmLocation: CSCVVSB: 4195 E Thousand Oaks Blvd.\, #107 Westlake Village\, CA 91362Phone: 805-379-4777 \n\n\n\n\n\nPlease contact Programs@cancersupportvvsb.org or 805-379-4777 to register. \n\n\n\n\n\n\n\n\n\n\n\n\n\n\n\n 
URL:https://cancersupportvvsb.org/event/in-person-group-caregivers-family-friends/2026-12-23/
CATEGORIES:Support Group
END:VEVENT
BEGIN:VEVENT
DTSTART;TZID=America/Los_Angeles:20261228T100000
DTEND;TZID=America/Los_Angeles:20261228T113000
DTSTAMP:20260421T110306
CREATED:20230908T223246Z
LAST-MODIFIED:20251021T200643Z
UID:10005677-1798452000-1798457400@cancersupportvvsb.org
SUMMARY:IN-PERSON GROUP: Life after Cancer\, Survivorship Group for all Cancers
DESCRIPTION:Program Type: IN-PERSON Support GroupDay & Time: 2nd & 4th Mondays\, 10:00 am – 11:30 amLocation: CSCVVSB OfficePhone: 805-379-4777 \n\n\n\n\n\nPlease contact Programs@cancersupportvvsb.org or 805-379-4777 to register. \n\n\n\n\n\n\n\n\n\n\n\n\n\n\n\n 
URL:https://cancersupportvvsb.org/event/in-person-group-life-after-cancer-survivorship-group-for-all-cancers-2/2026-12-28/
CATEGORIES:Support Group
END:VEVENT
BEGIN:VEVENT
DTSTART;TZID=America/Los_Angeles:20261229T100000
DTEND;TZID=America/Los_Angeles:20261229T113000
DTSTAMP:20260421T110306
CREATED:20241220T013303Z
LAST-MODIFIED:20241220T013303Z
UID:10011504-1798538400-1798543800@cancersupportvvsb.org
SUMMARY:IN-PERSON GROUP: All Cancer
DESCRIPTION:  \n\nProgram Type: IN-PERSON All Cancer Support GroupDay & Time: Tuesday Weekly\, 10:00 am – 11:30 amLocation: Rancho Simi Activity Center 4201 Guardian Street Simi Valley\, CA 93063Phone: 805-379-4777 \n\n\n\n\n\nPlease contact Programs@cancersupportvvsb.org or 805-379-4777 to register. \n\n\n\n\n\n\n\n\n\n\n\n\n\n\n\n 
URL:https://cancersupportvvsb.org/event/in-person-group-all-cancer/2026-12-29/
CATEGORIES:Support Group
END:VEVENT
BEGIN:VEVENT
DTSTART;TZID=America/Los_Angeles:20261230T100000
DTEND;TZID=America/Los_Angeles:20261230T113000
DTSTAMP:20260421T110306
CREATED:20240802T201643Z
LAST-MODIFIED:20240802T202441Z
UID:10010122-1798624800-1798630200@cancersupportvvsb.org
SUMMARY:IN-PERSON GROUP: Caregivers- Family & Friends
DESCRIPTION:Program Type: IN-PERSON Support GroupDay & Time: Wednesday Weekly\, 10:00 pm – 11:30 pmLocation: CSCVVSB: 4195 E Thousand Oaks Blvd.\, #107 Westlake Village\, CA 91362Phone: 805-379-4777 \n\n\n\n\n\nPlease contact Programs@cancersupportvvsb.org or 805-379-4777 to register. \n\n\n\n\n\n\n\n\n\n\n\n\n\n\n\n 
URL:https://cancersupportvvsb.org/event/in-person-group-caregivers-family-friends/2026-12-30/
CATEGORIES:Support Group
END:VEVENT
BEGIN:VEVENT
DTSTART;TZID=America/Los_Angeles:20270105T100000
DTEND;TZID=America/Los_Angeles:20270105T113000
DTSTAMP:20260421T110306
CREATED:20241220T013303Z
LAST-MODIFIED:20241220T013303Z
UID:10011505-1799143200-1799148600@cancersupportvvsb.org
SUMMARY:IN-PERSON GROUP: All Cancer
DESCRIPTION:  \n\nProgram Type: IN-PERSON All Cancer Support GroupDay & Time: Tuesday Weekly\, 10:00 am – 11:30 amLocation: Rancho Simi Activity Center 4201 Guardian Street Simi Valley\, CA 93063Phone: 805-379-4777 \n\n\n\n\n\nPlease contact Programs@cancersupportvvsb.org or 805-379-4777 to register. \n\n\n\n\n\n\n\n\n\n\n\n\n\n\n\n 
URL:https://cancersupportvvsb.org/event/in-person-group-all-cancer/2027-01-05/
CATEGORIES:Support Group
END:VEVENT
BEGIN:VEVENT
DTSTART;TZID=America/Los_Angeles:20270106T100000
DTEND;TZID=America/Los_Angeles:20270106T113000
DTSTAMP:20260421T110306
CREATED:20240802T201643Z
LAST-MODIFIED:20240802T202441Z
UID:10010123-1799229600-1799235000@cancersupportvvsb.org
SUMMARY:IN-PERSON GROUP: Caregivers- Family & Friends
DESCRIPTION:Program Type: IN-PERSON Support GroupDay & Time: Wednesday Weekly\, 10:00 pm – 11:30 pmLocation: CSCVVSB: 4195 E Thousand Oaks Blvd.\, #107 Westlake Village\, CA 91362Phone: 805-379-4777 \n\n\n\n\n\nPlease contact Programs@cancersupportvvsb.org or 805-379-4777 to register. \n\n\n\n\n\n\n\n\n\n\n\n\n\n\n\n 
URL:https://cancersupportvvsb.org/event/in-person-group-caregivers-family-friends/2027-01-06/
CATEGORIES:Support Group
END:VEVENT
BEGIN:VEVENT
DTSTART;TZID=America/Los_Angeles:20270111T100000
DTEND;TZID=America/Los_Angeles:20270111T113000
DTSTAMP:20260421T110306
CREATED:20230908T223118Z
LAST-MODIFIED:20251021T200724Z
UID:10005560-1799661600-1799667000@cancersupportvvsb.org
SUMMARY:IN-PERSON GROUP: Life after Cancer\, Survivorship Group for all Cancers
DESCRIPTION:Program Type: IN-PERSON Support GroupDay & Time: 2nd & 4th Mondays\, 10:00 am – 11:30 amLocation: CSCVVSB OfficePhone: 805-379-4777 \n\n\n\n\n\nPlease contact Programs@cancersupportvvsb.org or 805-379-4777 to register. \n\n\n\n\n\n\n\n\n\n\n\n\n\n\n\n 
URL:https://cancersupportvvsb.org/event/in-person-group-life-after-cancer-survivorship-group-for-all-cancers/2027-01-11/
CATEGORIES:Support Group
END:VEVENT
BEGIN:VEVENT
DTSTART;TZID=America/Los_Angeles:20270111T170000
DTEND;TZID=America/Los_Angeles:20270111T183000
DTSTAMP:20260421T110306
CREATED:20251103T184533Z
LAST-MODIFIED:20251103T184534Z
UID:10000477-1799686800-1799692200@cancersupportvvsb.org
SUMMARY:ONLINE GROUP: Life after Breast Cancer – Survivorship Support Group
DESCRIPTION:Program Type: ONLINE Support GroupDay & Time: 2nd & 4th Mondays\, 5:00 pm -6:30 pmLocation: ONLINE (Zoom)Phone: 805-379-4777 \n\n\n\n\n\nPlease contact Programs@cancersupportvvsb.org or 805-379-4777 to register. \n\n\n\n\n\n\n\n\n\n\n\n\n\n\n\n 
URL:https://cancersupportvvsb.org/event/online-group-life-after-breast-cancer-survivorship-support-group-2-2/2027-01-11/
CATEGORIES:Support Group
END:VEVENT
BEGIN:VEVENT
DTSTART;TZID=America/Los_Angeles:20270112T100000
DTEND;TZID=America/Los_Angeles:20270112T113000
DTSTAMP:20260421T110306
CREATED:20241220T013303Z
LAST-MODIFIED:20241220T013303Z
UID:10011506-1799748000-1799753400@cancersupportvvsb.org
SUMMARY:IN-PERSON GROUP: All Cancer
DESCRIPTION:  \n\nProgram Type: IN-PERSON All Cancer Support GroupDay & Time: Tuesday Weekly\, 10:00 am – 11:30 amLocation: Rancho Simi Activity Center 4201 Guardian Street Simi Valley\, CA 93063Phone: 805-379-4777 \n\n\n\n\n\nPlease contact Programs@cancersupportvvsb.org or 805-379-4777 to register. \n\n\n\n\n\n\n\n\n\n\n\n\n\n\n\n 
URL:https://cancersupportvvsb.org/event/in-person-group-all-cancer/2027-01-12/
CATEGORIES:Support Group
END:VEVENT
BEGIN:VEVENT
DTSTART;TZID=America/Los_Angeles:20270112T110000
DTEND;TZID=America/Los_Angeles:20270112T123000
DTSTAMP:20260421T110306
CREATED:20240213T225147Z
LAST-MODIFIED:20240213T225147Z
UID:10008408-1799751600-1799757000@cancersupportvvsb.org
SUMMARY:IN-PERSON GROUP: All Women’s All Cancers Support Group
DESCRIPTION:Program Type: IN-PERSON Support GroupDay & Time: 2nd & 4th Tuesdays\, 11:00 am – 12:30 pmLocation: Cancer Resource Center St. John’s Camarillo 2309 Antonio Ave. Camarillo\, CA 93010 \n\n\n\n\n\nPlease contact Programs@cancersupportvvsb.org or 805-988-2641 to register. \n\n\n\n\n\n\n\n\n\n\n\n\n\n\n\n 
URL:https://cancersupportvvsb.org/event/in-person-group-all-womens-all-cancers-support-group/2027-01-12/
CATEGORIES:Support Group
END:VEVENT
BEGIN:VEVENT
DTSTART;TZID=America/Los_Angeles:20270113T100000
DTEND;TZID=America/Los_Angeles:20270113T113000
DTSTAMP:20260421T110306
CREATED:20240802T201643Z
LAST-MODIFIED:20240802T202441Z
UID:10010124-1799834400-1799839800@cancersupportvvsb.org
SUMMARY:IN-PERSON GROUP: Caregivers- Family & Friends
DESCRIPTION:Program Type: IN-PERSON Support GroupDay & Time: Wednesday Weekly\, 10:00 pm – 11:30 pmLocation: CSCVVSB: 4195 E Thousand Oaks Blvd.\, #107 Westlake Village\, CA 91362Phone: 805-379-4777 \n\n\n\n\n\nPlease contact Programs@cancersupportvvsb.org or 805-379-4777 to register. \n\n\n\n\n\n\n\n\n\n\n\n\n\n\n\n 
URL:https://cancersupportvvsb.org/event/in-person-group-caregivers-family-friends/2027-01-13/
CATEGORIES:Support Group
END:VEVENT
BEGIN:VEVENT
DTSTART;TZID=America/Los_Angeles:20270119T100000
DTEND;TZID=America/Los_Angeles:20270119T113000
DTSTAMP:20260421T110306
CREATED:20241220T013303Z
LAST-MODIFIED:20241220T013303Z
UID:10011507-1800352800-1800358200@cancersupportvvsb.org
SUMMARY:IN-PERSON GROUP: All Cancer
DESCRIPTION:  \n\nProgram Type: IN-PERSON All Cancer Support GroupDay & Time: Tuesday Weekly\, 10:00 am – 11:30 amLocation: Rancho Simi Activity Center 4201 Guardian Street Simi Valley\, CA 93063Phone: 805-379-4777 \n\n\n\n\n\nPlease contact Programs@cancersupportvvsb.org or 805-379-4777 to register. \n\n\n\n\n\n\n\n\n\n\n\n\n\n\n\n 
URL:https://cancersupportvvsb.org/event/in-person-group-all-cancer/2027-01-19/
CATEGORIES:Support Group
END:VEVENT
BEGIN:VEVENT
DTSTART;TZID=America/Los_Angeles:20270120T100000
DTEND;TZID=America/Los_Angeles:20270120T113000
DTSTAMP:20260421T110306
CREATED:20240802T201643Z
LAST-MODIFIED:20240802T202441Z
UID:10010125-1800439200-1800444600@cancersupportvvsb.org
SUMMARY:IN-PERSON GROUP: Caregivers- Family & Friends
DESCRIPTION:Program Type: IN-PERSON Support GroupDay & Time: Wednesday Weekly\, 10:00 pm – 11:30 pmLocation: CSCVVSB: 4195 E Thousand Oaks Blvd.\, #107 Westlake Village\, CA 91362Phone: 805-379-4777 \n\n\n\n\n\nPlease contact Programs@cancersupportvvsb.org or 805-379-4777 to register. \n\n\n\n\n\n\n\n\n\n\n\n\n\n\n\n 
URL:https://cancersupportvvsb.org/event/in-person-group-caregivers-family-friends/2027-01-20/
CATEGORIES:Support Group
END:VEVENT
BEGIN:VEVENT
DTSTART;TZID=America/Los_Angeles:20270125T100000
DTEND;TZID=America/Los_Angeles:20270125T113000
DTSTAMP:20260421T110306
CREATED:20230908T223246Z
LAST-MODIFIED:20251021T200643Z
UID:10005678-1800871200-1800876600@cancersupportvvsb.org
SUMMARY:IN-PERSON GROUP: Life after Cancer\, Survivorship Group for all Cancers
DESCRIPTION:Program Type: IN-PERSON Support GroupDay & Time: 2nd & 4th Mondays\, 10:00 am – 11:30 amLocation: CSCVVSB OfficePhone: 805-379-4777 \n\n\n\n\n\nPlease contact Programs@cancersupportvvsb.org or 805-379-4777 to register. \n\n\n\n\n\n\n\n\n\n\n\n\n\n\n\n 
URL:https://cancersupportvvsb.org/event/in-person-group-life-after-cancer-survivorship-group-for-all-cancers-2/2027-01-25/
CATEGORIES:Support Group
END:VEVENT
END:VCALENDAR