BEGIN:VCALENDAR
VERSION:2.0
PRODID:-//Cancer Support Community VVSB - ECPv6.15.18//NONSGML v1.0//EN
CALSCALE:GREGORIAN
METHOD:PUBLISH
X-ORIGINAL-URL:https://cancersupportvvsb.org
X-WR-CALDESC:Events for Cancer Support Community VVSB
REFRESH-INTERVAL;VALUE=DURATION:PT1H
X-Robots-Tag:noindex
X-PUBLISHED-TTL:PT1H
BEGIN:VTIMEZONE
TZID:America/Los_Angeles
BEGIN:DAYLIGHT
TZOFFSETFROM:-0800
TZOFFSETTO:-0700
TZNAME:PDT
DTSTART:20270314T100000
END:DAYLIGHT
BEGIN:STANDARD
TZOFFSETFROM:-0700
TZOFFSETTO:-0800
TZNAME:PST
DTSTART:20271107T090000
END:STANDARD
BEGIN:DAYLIGHT
TZOFFSETFROM:-0800
TZOFFSETTO:-0700
TZNAME:PDT
DTSTART:20280312T100000
END:DAYLIGHT
BEGIN:STANDARD
TZOFFSETFROM:-0700
TZOFFSETTO:-0800
TZNAME:PST
DTSTART:20281105T090000
END:STANDARD
BEGIN:DAYLIGHT
TZOFFSETFROM:-0800
TZOFFSETTO:-0700
TZNAME:PDT
DTSTART:20290311T100000
END:DAYLIGHT
BEGIN:STANDARD
TZOFFSETFROM:-0700
TZOFFSETTO:-0800
TZNAME:PST
DTSTART:20291104T090000
END:STANDARD
BEGIN:DAYLIGHT
TZOFFSETFROM:-0800
TZOFFSETTO:-0700
TZNAME:PDT
DTSTART:20300310T100000
END:DAYLIGHT
BEGIN:STANDARD
TZOFFSETFROM:-0700
TZOFFSETTO:-0800
TZNAME:PST
DTSTART:20301103T090000
END:STANDARD
BEGIN:DAYLIGHT
TZOFFSETFROM:-0800
TZOFFSETTO:-0700
TZNAME:PDT
DTSTART:20310309T100000
END:DAYLIGHT
BEGIN:STANDARD
TZOFFSETFROM:-0700
TZOFFSETTO:-0800
TZNAME:PST
DTSTART:20311102T090000
END:STANDARD
END:VTIMEZONE
BEGIN:VEVENT
DTSTART;TZID=America/Los_Angeles:20280521T103000
DTEND;TZID=America/Los_Angeles:20280521T123000
DTSTAMP:20260422T111328
CREATED:20250513T161711Z
LAST-MODIFIED:20250513T162158Z
UID:10012935-1842517800-1842525000@cancersupportvvsb.org
SUMMARY:HYBRID GROUP: Prostate Cancer Networking Group
DESCRIPTION:Program Type: ONLINE Support GroupDay & Time: 3rd Sunday (Monthly)\, 10:30 am-12:30 pm Location: ONLINE (Zoom) or CSCVVSB OfficePhone: 805-379-4777 \n\n\n\nPLEASE NOTE: Support Groups conducted online use a HIPAA compliant online video conferencing format and are facilitated by a licensed mental health professional. \n\n\n\nPlease contact Programs@cancersupportvvsb.org or 805-379-4777 to register. \n\n\n\n\n\n\n\n\n\n\n\n\n\n\n\n 
URL:https://cancersupportvvsb.org/event/online-group-prostate-cancer-networking-group-3-3/2028-05-21/
CATEGORIES:Support Group
END:VEVENT
BEGIN:VEVENT
DTSTART;TZID=America/Los_Angeles:20280618T103000
DTEND;TZID=America/Los_Angeles:20280618T123000
DTSTAMP:20260422T111328
CREATED:20250513T161711Z
LAST-MODIFIED:20250513T162158Z
UID:10012936-1844937000-1844944200@cancersupportvvsb.org
SUMMARY:HYBRID GROUP: Prostate Cancer Networking Group
DESCRIPTION:Program Type: ONLINE Support GroupDay & Time: 3rd Sunday (Monthly)\, 10:30 am-12:30 pm Location: ONLINE (Zoom) or CSCVVSB OfficePhone: 805-379-4777 \n\n\n\nPLEASE NOTE: Support Groups conducted online use a HIPAA compliant online video conferencing format and are facilitated by a licensed mental health professional. \n\n\n\nPlease contact Programs@cancersupportvvsb.org or 805-379-4777 to register. \n\n\n\n\n\n\n\n\n\n\n\n\n\n\n\n 
URL:https://cancersupportvvsb.org/event/online-group-prostate-cancer-networking-group-3-3/2028-06-18/
CATEGORIES:Support Group
END:VEVENT
BEGIN:VEVENT
DTSTART;TZID=America/Los_Angeles:20280716T103000
DTEND;TZID=America/Los_Angeles:20280716T123000
DTSTAMP:20260422T111328
CREATED:20250513T161711Z
LAST-MODIFIED:20250513T162158Z
UID:10012937-1847356200-1847363400@cancersupportvvsb.org
SUMMARY:HYBRID GROUP: Prostate Cancer Networking Group
DESCRIPTION:Program Type: ONLINE Support GroupDay & Time: 3rd Sunday (Monthly)\, 10:30 am-12:30 pm Location: ONLINE (Zoom) or CSCVVSB OfficePhone: 805-379-4777 \n\n\n\nPLEASE NOTE: Support Groups conducted online use a HIPAA compliant online video conferencing format and are facilitated by a licensed mental health professional. \n\n\n\nPlease contact Programs@cancersupportvvsb.org or 805-379-4777 to register. \n\n\n\n\n\n\n\n\n\n\n\n\n\n\n\n 
URL:https://cancersupportvvsb.org/event/online-group-prostate-cancer-networking-group-3-3/2028-07-16/
CATEGORIES:Support Group
END:VEVENT
BEGIN:VEVENT
DTSTART;TZID=America/Los_Angeles:20280820T103000
DTEND;TZID=America/Los_Angeles:20280820T123000
DTSTAMP:20260422T111328
CREATED:20250513T161711Z
LAST-MODIFIED:20250513T162158Z
UID:10012938-1850380200-1850387400@cancersupportvvsb.org
SUMMARY:HYBRID GROUP: Prostate Cancer Networking Group
DESCRIPTION:Program Type: ONLINE Support GroupDay & Time: 3rd Sunday (Monthly)\, 10:30 am-12:30 pm Location: ONLINE (Zoom) or CSCVVSB OfficePhone: 805-379-4777 \n\n\n\nPLEASE NOTE: Support Groups conducted online use a HIPAA compliant online video conferencing format and are facilitated by a licensed mental health professional. \n\n\n\nPlease contact Programs@cancersupportvvsb.org or 805-379-4777 to register. \n\n\n\n\n\n\n\n\n\n\n\n\n\n\n\n 
URL:https://cancersupportvvsb.org/event/online-group-prostate-cancer-networking-group-3-3/2028-08-20/
CATEGORIES:Support Group
END:VEVENT
BEGIN:VEVENT
DTSTART;TZID=America/Los_Angeles:20280917T103000
DTEND;TZID=America/Los_Angeles:20280917T123000
DTSTAMP:20260422T111328
CREATED:20250513T161711Z
LAST-MODIFIED:20250513T162158Z
UID:10012939-1852799400-1852806600@cancersupportvvsb.org
SUMMARY:HYBRID GROUP: Prostate Cancer Networking Group
DESCRIPTION:Program Type: ONLINE Support GroupDay & Time: 3rd Sunday (Monthly)\, 10:30 am-12:30 pm Location: ONLINE (Zoom) or CSCVVSB OfficePhone: 805-379-4777 \n\n\n\nPLEASE NOTE: Support Groups conducted online use a HIPAA compliant online video conferencing format and are facilitated by a licensed mental health professional. \n\n\n\nPlease contact Programs@cancersupportvvsb.org or 805-379-4777 to register. \n\n\n\n\n\n\n\n\n\n\n\n\n\n\n\n 
URL:https://cancersupportvvsb.org/event/online-group-prostate-cancer-networking-group-3-3/2028-09-17/
CATEGORIES:Support Group
END:VEVENT
BEGIN:VEVENT
DTSTART;TZID=America/Los_Angeles:20281015T103000
DTEND;TZID=America/Los_Angeles:20281015T123000
DTSTAMP:20260422T111328
CREATED:20250513T161711Z
LAST-MODIFIED:20250513T162158Z
UID:10012940-1855218600-1855225800@cancersupportvvsb.org
SUMMARY:HYBRID GROUP: Prostate Cancer Networking Group
DESCRIPTION:Program Type: ONLINE Support GroupDay & Time: 3rd Sunday (Monthly)\, 10:30 am-12:30 pm Location: ONLINE (Zoom) or CSCVVSB OfficePhone: 805-379-4777 \n\n\n\nPLEASE NOTE: Support Groups conducted online use a HIPAA compliant online video conferencing format and are facilitated by a licensed mental health professional. \n\n\n\nPlease contact Programs@cancersupportvvsb.org or 805-379-4777 to register. \n\n\n\n\n\n\n\n\n\n\n\n\n\n\n\n 
URL:https://cancersupportvvsb.org/event/online-group-prostate-cancer-networking-group-3-3/2028-10-15/
CATEGORIES:Support Group
END:VEVENT
BEGIN:VEVENT
DTSTART;TZID=America/Los_Angeles:20281119T103000
DTEND;TZID=America/Los_Angeles:20281119T123000
DTSTAMP:20260422T111328
CREATED:20250513T161711Z
LAST-MODIFIED:20250513T162158Z
UID:10012941-1858242600-1858249800@cancersupportvvsb.org
SUMMARY:HYBRID GROUP: Prostate Cancer Networking Group
DESCRIPTION:Program Type: ONLINE Support GroupDay & Time: 3rd Sunday (Monthly)\, 10:30 am-12:30 pm Location: ONLINE (Zoom) or CSCVVSB OfficePhone: 805-379-4777 \n\n\n\nPLEASE NOTE: Support Groups conducted online use a HIPAA compliant online video conferencing format and are facilitated by a licensed mental health professional. \n\n\n\nPlease contact Programs@cancersupportvvsb.org or 805-379-4777 to register. \n\n\n\n\n\n\n\n\n\n\n\n\n\n\n\n 
URL:https://cancersupportvvsb.org/event/online-group-prostate-cancer-networking-group-3-3/2028-11-19/
CATEGORIES:Support Group
END:VEVENT
BEGIN:VEVENT
DTSTART;TZID=America/Los_Angeles:20281217T103000
DTEND;TZID=America/Los_Angeles:20281217T123000
DTSTAMP:20260422T111328
CREATED:20250513T161711Z
LAST-MODIFIED:20250513T162158Z
UID:10012942-1860661800-1860669000@cancersupportvvsb.org
SUMMARY:HYBRID GROUP: Prostate Cancer Networking Group
DESCRIPTION:Program Type: ONLINE Support GroupDay & Time: 3rd Sunday (Monthly)\, 10:30 am-12:30 pm Location: ONLINE (Zoom) or CSCVVSB OfficePhone: 805-379-4777 \n\n\n\nPLEASE NOTE: Support Groups conducted online use a HIPAA compliant online video conferencing format and are facilitated by a licensed mental health professional. \n\n\n\nPlease contact Programs@cancersupportvvsb.org or 805-379-4777 to register. \n\n\n\n\n\n\n\n\n\n\n\n\n\n\n\n 
URL:https://cancersupportvvsb.org/event/online-group-prostate-cancer-networking-group-3-3/2028-12-17/
CATEGORIES:Support Group
END:VEVENT
BEGIN:VEVENT
DTSTART;TZID=America/Los_Angeles:20290121T103000
DTEND;TZID=America/Los_Angeles:20290121T123000
DTSTAMP:20260422T111328
CREATED:20250513T161711Z
LAST-MODIFIED:20250513T162158Z
UID:10012943-1863685800-1863693000@cancersupportvvsb.org
SUMMARY:HYBRID GROUP: Prostate Cancer Networking Group
DESCRIPTION:Program Type: ONLINE Support GroupDay & Time: 3rd Sunday (Monthly)\, 10:30 am-12:30 pm Location: ONLINE (Zoom) or CSCVVSB OfficePhone: 805-379-4777 \n\n\n\nPLEASE NOTE: Support Groups conducted online use a HIPAA compliant online video conferencing format and are facilitated by a licensed mental health professional. \n\n\n\nPlease contact Programs@cancersupportvvsb.org or 805-379-4777 to register. \n\n\n\n\n\n\n\n\n\n\n\n\n\n\n\n 
URL:https://cancersupportvvsb.org/event/online-group-prostate-cancer-networking-group-3-3/2029-01-21/
CATEGORIES:Support Group
END:VEVENT
BEGIN:VEVENT
DTSTART;TZID=America/Los_Angeles:20290218T103000
DTEND;TZID=America/Los_Angeles:20290218T123000
DTSTAMP:20260422T111328
CREATED:20250513T161711Z
LAST-MODIFIED:20250513T162158Z
UID:10012944-1866105000-1866112200@cancersupportvvsb.org
SUMMARY:HYBRID GROUP: Prostate Cancer Networking Group
DESCRIPTION:Program Type: ONLINE Support GroupDay & Time: 3rd Sunday (Monthly)\, 10:30 am-12:30 pm Location: ONLINE (Zoom) or CSCVVSB OfficePhone: 805-379-4777 \n\n\n\nPLEASE NOTE: Support Groups conducted online use a HIPAA compliant online video conferencing format and are facilitated by a licensed mental health professional. \n\n\n\nPlease contact Programs@cancersupportvvsb.org or 805-379-4777 to register. \n\n\n\n\n\n\n\n\n\n\n\n\n\n\n\n 
URL:https://cancersupportvvsb.org/event/online-group-prostate-cancer-networking-group-3-3/2029-02-18/
CATEGORIES:Support Group
END:VEVENT
BEGIN:VEVENT
DTSTART;TZID=America/Los_Angeles:20290318T103000
DTEND;TZID=America/Los_Angeles:20290318T123000
DTSTAMP:20260422T111328
CREATED:20250513T161711Z
LAST-MODIFIED:20250513T162158Z
UID:10012945-1868524200-1868531400@cancersupportvvsb.org
SUMMARY:HYBRID GROUP: Prostate Cancer Networking Group
DESCRIPTION:Program Type: ONLINE Support GroupDay & Time: 3rd Sunday (Monthly)\, 10:30 am-12:30 pm Location: ONLINE (Zoom) or CSCVVSB OfficePhone: 805-379-4777 \n\n\n\nPLEASE NOTE: Support Groups conducted online use a HIPAA compliant online video conferencing format and are facilitated by a licensed mental health professional. \n\n\n\nPlease contact Programs@cancersupportvvsb.org or 805-379-4777 to register. \n\n\n\n\n\n\n\n\n\n\n\n\n\n\n\n 
URL:https://cancersupportvvsb.org/event/online-group-prostate-cancer-networking-group-3-3/2029-03-18/
CATEGORIES:Support Group
END:VEVENT
BEGIN:VEVENT
DTSTART;TZID=America/Los_Angeles:20290415T103000
DTEND;TZID=America/Los_Angeles:20290415T123000
DTSTAMP:20260422T111328
CREATED:20250513T161711Z
LAST-MODIFIED:20250513T162158Z
UID:10012946-1870943400-1870950600@cancersupportvvsb.org
SUMMARY:HYBRID GROUP: Prostate Cancer Networking Group
DESCRIPTION:Program Type: ONLINE Support GroupDay & Time: 3rd Sunday (Monthly)\, 10:30 am-12:30 pm Location: ONLINE (Zoom) or CSCVVSB OfficePhone: 805-379-4777 \n\n\n\nPLEASE NOTE: Support Groups conducted online use a HIPAA compliant online video conferencing format and are facilitated by a licensed mental health professional. \n\n\n\nPlease contact Programs@cancersupportvvsb.org or 805-379-4777 to register. \n\n\n\n\n\n\n\n\n\n\n\n\n\n\n\n 
URL:https://cancersupportvvsb.org/event/online-group-prostate-cancer-networking-group-3-3/2029-04-15/
CATEGORIES:Support Group
END:VEVENT
BEGIN:VEVENT
DTSTART;TZID=America/Los_Angeles:20290520T103000
DTEND;TZID=America/Los_Angeles:20290520T123000
DTSTAMP:20260422T111328
CREATED:20250513T161711Z
LAST-MODIFIED:20250513T162158Z
UID:10012947-1873967400-1873974600@cancersupportvvsb.org
SUMMARY:HYBRID GROUP: Prostate Cancer Networking Group
DESCRIPTION:Program Type: ONLINE Support GroupDay & Time: 3rd Sunday (Monthly)\, 10:30 am-12:30 pm Location: ONLINE (Zoom) or CSCVVSB OfficePhone: 805-379-4777 \n\n\n\nPLEASE NOTE: Support Groups conducted online use a HIPAA compliant online video conferencing format and are facilitated by a licensed mental health professional. \n\n\n\nPlease contact Programs@cancersupportvvsb.org or 805-379-4777 to register. \n\n\n\n\n\n\n\n\n\n\n\n\n\n\n\n 
URL:https://cancersupportvvsb.org/event/online-group-prostate-cancer-networking-group-3-3/2029-05-20/
CATEGORIES:Support Group
END:VEVENT
BEGIN:VEVENT
DTSTART;TZID=America/Los_Angeles:20290617T103000
DTEND;TZID=America/Los_Angeles:20290617T123000
DTSTAMP:20260422T111328
CREATED:20250513T161711Z
LAST-MODIFIED:20250513T162158Z
UID:10012948-1876386600-1876393800@cancersupportvvsb.org
SUMMARY:HYBRID GROUP: Prostate Cancer Networking Group
DESCRIPTION:Program Type: ONLINE Support GroupDay & Time: 3rd Sunday (Monthly)\, 10:30 am-12:30 pm Location: ONLINE (Zoom) or CSCVVSB OfficePhone: 805-379-4777 \n\n\n\nPLEASE NOTE: Support Groups conducted online use a HIPAA compliant online video conferencing format and are facilitated by a licensed mental health professional. \n\n\n\nPlease contact Programs@cancersupportvvsb.org or 805-379-4777 to register. \n\n\n\n\n\n\n\n\n\n\n\n\n\n\n\n 
URL:https://cancersupportvvsb.org/event/online-group-prostate-cancer-networking-group-3-3/2029-06-17/
CATEGORIES:Support Group
END:VEVENT
BEGIN:VEVENT
DTSTART;TZID=America/Los_Angeles:20290715T103000
DTEND;TZID=America/Los_Angeles:20290715T123000
DTSTAMP:20260422T111328
CREATED:20250513T161711Z
LAST-MODIFIED:20250513T162158Z
UID:10012949-1878805800-1878813000@cancersupportvvsb.org
SUMMARY:HYBRID GROUP: Prostate Cancer Networking Group
DESCRIPTION:Program Type: ONLINE Support GroupDay & Time: 3rd Sunday (Monthly)\, 10:30 am-12:30 pm Location: ONLINE (Zoom) or CSCVVSB OfficePhone: 805-379-4777 \n\n\n\nPLEASE NOTE: Support Groups conducted online use a HIPAA compliant online video conferencing format and are facilitated by a licensed mental health professional. \n\n\n\nPlease contact Programs@cancersupportvvsb.org or 805-379-4777 to register. \n\n\n\n\n\n\n\n\n\n\n\n\n\n\n\n 
URL:https://cancersupportvvsb.org/event/online-group-prostate-cancer-networking-group-3-3/2029-07-15/
CATEGORIES:Support Group
END:VEVENT
BEGIN:VEVENT
DTSTART;TZID=America/Los_Angeles:20290819T103000
DTEND;TZID=America/Los_Angeles:20290819T123000
DTSTAMP:20260422T111328
CREATED:20250513T161711Z
LAST-MODIFIED:20250513T162158Z
UID:10012950-1881829800-1881837000@cancersupportvvsb.org
SUMMARY:HYBRID GROUP: Prostate Cancer Networking Group
DESCRIPTION:Program Type: ONLINE Support GroupDay & Time: 3rd Sunday (Monthly)\, 10:30 am-12:30 pm Location: ONLINE (Zoom) or CSCVVSB OfficePhone: 805-379-4777 \n\n\n\nPLEASE NOTE: Support Groups conducted online use a HIPAA compliant online video conferencing format and are facilitated by a licensed mental health professional. \n\n\n\nPlease contact Programs@cancersupportvvsb.org or 805-379-4777 to register. \n\n\n\n\n\n\n\n\n\n\n\n\n\n\n\n 
URL:https://cancersupportvvsb.org/event/online-group-prostate-cancer-networking-group-3-3/2029-08-19/
CATEGORIES:Support Group
END:VEVENT
BEGIN:VEVENT
DTSTART;TZID=America/Los_Angeles:20290916T103000
DTEND;TZID=America/Los_Angeles:20290916T123000
DTSTAMP:20260422T111328
CREATED:20250513T161711Z
LAST-MODIFIED:20250513T162158Z
UID:10012951-1884249000-1884256200@cancersupportvvsb.org
SUMMARY:HYBRID GROUP: Prostate Cancer Networking Group
DESCRIPTION:Program Type: ONLINE Support GroupDay & Time: 3rd Sunday (Monthly)\, 10:30 am-12:30 pm Location: ONLINE (Zoom) or CSCVVSB OfficePhone: 805-379-4777 \n\n\n\nPLEASE NOTE: Support Groups conducted online use a HIPAA compliant online video conferencing format and are facilitated by a licensed mental health professional. \n\n\n\nPlease contact Programs@cancersupportvvsb.org or 805-379-4777 to register. \n\n\n\n\n\n\n\n\n\n\n\n\n\n\n\n 
URL:https://cancersupportvvsb.org/event/online-group-prostate-cancer-networking-group-3-3/2029-09-16/
CATEGORIES:Support Group
END:VEVENT
BEGIN:VEVENT
DTSTART;TZID=America/Los_Angeles:20291021T103000
DTEND;TZID=America/Los_Angeles:20291021T123000
DTSTAMP:20260422T111328
CREATED:20250513T161711Z
LAST-MODIFIED:20250513T162158Z
UID:10012952-1887273000-1887280200@cancersupportvvsb.org
SUMMARY:HYBRID GROUP: Prostate Cancer Networking Group
DESCRIPTION:Program Type: ONLINE Support GroupDay & Time: 3rd Sunday (Monthly)\, 10:30 am-12:30 pm Location: ONLINE (Zoom) or CSCVVSB OfficePhone: 805-379-4777 \n\n\n\nPLEASE NOTE: Support Groups conducted online use a HIPAA compliant online video conferencing format and are facilitated by a licensed mental health professional. \n\n\n\nPlease contact Programs@cancersupportvvsb.org or 805-379-4777 to register. \n\n\n\n\n\n\n\n\n\n\n\n\n\n\n\n 
URL:https://cancersupportvvsb.org/event/online-group-prostate-cancer-networking-group-3-3/2029-10-21/
CATEGORIES:Support Group
END:VEVENT
BEGIN:VEVENT
DTSTART;TZID=America/Los_Angeles:20291118T103000
DTEND;TZID=America/Los_Angeles:20291118T123000
DTSTAMP:20260422T111328
CREATED:20250513T161711Z
LAST-MODIFIED:20250513T162158Z
UID:10012953-1889692200-1889699400@cancersupportvvsb.org
SUMMARY:HYBRID GROUP: Prostate Cancer Networking Group
DESCRIPTION:Program Type: ONLINE Support GroupDay & Time: 3rd Sunday (Monthly)\, 10:30 am-12:30 pm Location: ONLINE (Zoom) or CSCVVSB OfficePhone: 805-379-4777 \n\n\n\nPLEASE NOTE: Support Groups conducted online use a HIPAA compliant online video conferencing format and are facilitated by a licensed mental health professional. \n\n\n\nPlease contact Programs@cancersupportvvsb.org or 805-379-4777 to register. \n\n\n\n\n\n\n\n\n\n\n\n\n\n\n\n 
URL:https://cancersupportvvsb.org/event/online-group-prostate-cancer-networking-group-3-3/2029-11-18/
CATEGORIES:Support Group
END:VEVENT
BEGIN:VEVENT
DTSTART;TZID=America/Los_Angeles:20291216T103000
DTEND;TZID=America/Los_Angeles:20291216T123000
DTSTAMP:20260422T111328
CREATED:20250513T161711Z
LAST-MODIFIED:20250513T162158Z
UID:10012954-1892111400-1892118600@cancersupportvvsb.org
SUMMARY:HYBRID GROUP: Prostate Cancer Networking Group
DESCRIPTION:Program Type: ONLINE Support GroupDay & Time: 3rd Sunday (Monthly)\, 10:30 am-12:30 pm Location: ONLINE (Zoom) or CSCVVSB OfficePhone: 805-379-4777 \n\n\n\nPLEASE NOTE: Support Groups conducted online use a HIPAA compliant online video conferencing format and are facilitated by a licensed mental health professional. \n\n\n\nPlease contact Programs@cancersupportvvsb.org or 805-379-4777 to register. \n\n\n\n\n\n\n\n\n\n\n\n\n\n\n\n 
URL:https://cancersupportvvsb.org/event/online-group-prostate-cancer-networking-group-3-3/2029-12-16/
CATEGORIES:Support Group
END:VEVENT
BEGIN:VEVENT
DTSTART;TZID=America/Los_Angeles:20300120T103000
DTEND;TZID=America/Los_Angeles:20300120T123000
DTSTAMP:20260422T111328
CREATED:20250513T161711Z
LAST-MODIFIED:20250513T162158Z
UID:10012955-1895135400-1895142600@cancersupportvvsb.org
SUMMARY:HYBRID GROUP: Prostate Cancer Networking Group
DESCRIPTION:Program Type: ONLINE Support GroupDay & Time: 3rd Sunday (Monthly)\, 10:30 am-12:30 pm Location: ONLINE (Zoom) or CSCVVSB OfficePhone: 805-379-4777 \n\n\n\nPLEASE NOTE: Support Groups conducted online use a HIPAA compliant online video conferencing format and are facilitated by a licensed mental health professional. \n\n\n\nPlease contact Programs@cancersupportvvsb.org or 805-379-4777 to register. \n\n\n\n\n\n\n\n\n\n\n\n\n\n\n\n 
URL:https://cancersupportvvsb.org/event/online-group-prostate-cancer-networking-group-3-3/2030-01-20/
CATEGORIES:Support Group
END:VEVENT
BEGIN:VEVENT
DTSTART;TZID=America/Los_Angeles:20300217T103000
DTEND;TZID=America/Los_Angeles:20300217T123000
DTSTAMP:20260422T111328
CREATED:20250513T161711Z
LAST-MODIFIED:20250513T162158Z
UID:10012956-1897554600-1897561800@cancersupportvvsb.org
SUMMARY:HYBRID GROUP: Prostate Cancer Networking Group
DESCRIPTION:Program Type: ONLINE Support GroupDay & Time: 3rd Sunday (Monthly)\, 10:30 am-12:30 pm Location: ONLINE (Zoom) or CSCVVSB OfficePhone: 805-379-4777 \n\n\n\nPLEASE NOTE: Support Groups conducted online use a HIPAA compliant online video conferencing format and are facilitated by a licensed mental health professional. \n\n\n\nPlease contact Programs@cancersupportvvsb.org or 805-379-4777 to register. \n\n\n\n\n\n\n\n\n\n\n\n\n\n\n\n 
URL:https://cancersupportvvsb.org/event/online-group-prostate-cancer-networking-group-3-3/2030-02-17/
CATEGORIES:Support Group
END:VEVENT
BEGIN:VEVENT
DTSTART;TZID=America/Los_Angeles:20300317T103000
DTEND;TZID=America/Los_Angeles:20300317T123000
DTSTAMP:20260422T111328
CREATED:20250513T161711Z
LAST-MODIFIED:20250513T162158Z
UID:10012957-1899973800-1899981000@cancersupportvvsb.org
SUMMARY:HYBRID GROUP: Prostate Cancer Networking Group
DESCRIPTION:Program Type: ONLINE Support GroupDay & Time: 3rd Sunday (Monthly)\, 10:30 am-12:30 pm Location: ONLINE (Zoom) or CSCVVSB OfficePhone: 805-379-4777 \n\n\n\nPLEASE NOTE: Support Groups conducted online use a HIPAA compliant online video conferencing format and are facilitated by a licensed mental health professional. \n\n\n\nPlease contact Programs@cancersupportvvsb.org or 805-379-4777 to register. \n\n\n\n\n\n\n\n\n\n\n\n\n\n\n\n 
URL:https://cancersupportvvsb.org/event/online-group-prostate-cancer-networking-group-3-3/2030-03-17/
CATEGORIES:Support Group
END:VEVENT
BEGIN:VEVENT
DTSTART;TZID=America/Los_Angeles:20300421T103000
DTEND;TZID=America/Los_Angeles:20300421T123000
DTSTAMP:20260422T111328
CREATED:20250513T161711Z
LAST-MODIFIED:20250513T162158Z
UID:10012958-1902997800-1903005000@cancersupportvvsb.org
SUMMARY:HYBRID GROUP: Prostate Cancer Networking Group
DESCRIPTION:Program Type: ONLINE Support GroupDay & Time: 3rd Sunday (Monthly)\, 10:30 am-12:30 pm Location: ONLINE (Zoom) or CSCVVSB OfficePhone: 805-379-4777 \n\n\n\nPLEASE NOTE: Support Groups conducted online use a HIPAA compliant online video conferencing format and are facilitated by a licensed mental health professional. \n\n\n\nPlease contact Programs@cancersupportvvsb.org or 805-379-4777 to register. \n\n\n\n\n\n\n\n\n\n\n\n\n\n\n\n 
URL:https://cancersupportvvsb.org/event/online-group-prostate-cancer-networking-group-3-3/2030-04-21/
CATEGORIES:Support Group
END:VEVENT
END:VCALENDAR