BEGIN:VCALENDAR
VERSION:2.0
PRODID:-//Cancer Support Community VVSB - ECPv6.15.18//NONSGML v1.0//EN
CALSCALE:GREGORIAN
METHOD:PUBLISH
X-WR-CALNAME:Cancer Support Community VVSB
X-ORIGINAL-URL:https://cancersupportvvsb.org
X-WR-CALDESC:Events for Cancer Support Community VVSB
REFRESH-INTERVAL;VALUE=DURATION:PT1H
X-Robots-Tag:noindex
X-PUBLISHED-TTL:PT1H
BEGIN:VTIMEZONE
TZID:America/Los_Angeles
BEGIN:DAYLIGHT
TZOFFSETFROM:-0800
TZOFFSETTO:-0700
TZNAME:PDT
DTSTART:20250309T100000
END:DAYLIGHT
BEGIN:STANDARD
TZOFFSETFROM:-0700
TZOFFSETTO:-0800
TZNAME:PST
DTSTART:20251102T090000
END:STANDARD
BEGIN:DAYLIGHT
TZOFFSETFROM:-0800
TZOFFSETTO:-0700
TZNAME:PDT
DTSTART:20260308T100000
END:DAYLIGHT
BEGIN:STANDARD
TZOFFSETFROM:-0700
TZOFFSETTO:-0800
TZNAME:PST
DTSTART:20261101T090000
END:STANDARD
BEGIN:DAYLIGHT
TZOFFSETFROM:-0800
TZOFFSETTO:-0700
TZNAME:PDT
DTSTART:20270314T100000
END:DAYLIGHT
BEGIN:STANDARD
TZOFFSETFROM:-0700
TZOFFSETTO:-0800
TZNAME:PST
DTSTART:20271107T090000
END:STANDARD
BEGIN:DAYLIGHT
TZOFFSETFROM:-0800
TZOFFSETTO:-0700
TZNAME:PDT
DTSTART:20280312T100000
END:DAYLIGHT
BEGIN:STANDARD
TZOFFSETFROM:-0700
TZOFFSETTO:-0800
TZNAME:PST
DTSTART:20281105T090000
END:STANDARD
END:VTIMEZONE
BEGIN:VEVENT
DTSTART;TZID=America/Los_Angeles:20260715T100000
DTEND;TZID=America/Los_Angeles:20260715T113000
DTSTAMP:20260422T095429
CREATED:20220916T235030Z
LAST-MODIFIED:20240802T202329Z
UID:10001588-1784109600-1784115000@cancersupportvvsb.org
SUMMARY:ONLINE GROUP: All Cancers Support Group
DESCRIPTION:  \n\nProgram Type: ONLINE Support GroupDay & Time: Wednesday (Weekly)\, 10:00 am-11:30 amLocation: ONLINE (Zoom)Phone: 805-379-4777 \n\n\n\n\n\nPlease contact Programs@cancersupportvvsb.org or 805-379-4777 to register. \n\n\n\n\n\n\n\n\n\n\n\n\n\n\n\n 
URL:https://cancersupportvvsb.org/event/online-group-all-cancers-support-group-2/2026-07-15/
CATEGORIES:Support Group
END:VEVENT
BEGIN:VEVENT
DTSTART;TZID=America/Los_Angeles:20260722T100000
DTEND;TZID=America/Los_Angeles:20260722T113000
DTSTAMP:20260422T095429
CREATED:20220916T235030Z
LAST-MODIFIED:20240802T202329Z
UID:10001589-1784714400-1784719800@cancersupportvvsb.org
SUMMARY:ONLINE GROUP: All Cancers Support Group
DESCRIPTION:  \n\nProgram Type: ONLINE Support GroupDay & Time: Wednesday (Weekly)\, 10:00 am-11:30 amLocation: ONLINE (Zoom)Phone: 805-379-4777 \n\n\n\n\n\nPlease contact Programs@cancersupportvvsb.org or 805-379-4777 to register. \n\n\n\n\n\n\n\n\n\n\n\n\n\n\n\n 
URL:https://cancersupportvvsb.org/event/online-group-all-cancers-support-group-2/2026-07-22/
CATEGORIES:Support Group
END:VEVENT
BEGIN:VEVENT
DTSTART;TZID=America/Los_Angeles:20260729T100000
DTEND;TZID=America/Los_Angeles:20260729T113000
DTSTAMP:20260422T095429
CREATED:20220916T235030Z
LAST-MODIFIED:20240802T202329Z
UID:10001590-1785319200-1785324600@cancersupportvvsb.org
SUMMARY:ONLINE GROUP: All Cancers Support Group
DESCRIPTION:  \n\nProgram Type: ONLINE Support GroupDay & Time: Wednesday (Weekly)\, 10:00 am-11:30 amLocation: ONLINE (Zoom)Phone: 805-379-4777 \n\n\n\n\n\nPlease contact Programs@cancersupportvvsb.org or 805-379-4777 to register. \n\n\n\n\n\n\n\n\n\n\n\n\n\n\n\n 
URL:https://cancersupportvvsb.org/event/online-group-all-cancers-support-group-2/2026-07-29/
CATEGORIES:Support Group
END:VEVENT
BEGIN:VEVENT
DTSTART;TZID=America/Los_Angeles:20260805T100000
DTEND;TZID=America/Los_Angeles:20260805T113000
DTSTAMP:20260422T095429
CREATED:20220916T235030Z
LAST-MODIFIED:20240802T202329Z
UID:10001591-1785924000-1785929400@cancersupportvvsb.org
SUMMARY:ONLINE GROUP: All Cancers Support Group
DESCRIPTION:  \n\nProgram Type: ONLINE Support GroupDay & Time: Wednesday (Weekly)\, 10:00 am-11:30 amLocation: ONLINE (Zoom)Phone: 805-379-4777 \n\n\n\n\n\nPlease contact Programs@cancersupportvvsb.org or 805-379-4777 to register. \n\n\n\n\n\n\n\n\n\n\n\n\n\n\n\n 
URL:https://cancersupportvvsb.org/event/online-group-all-cancers-support-group-2/2026-08-05/
CATEGORIES:Support Group
END:VEVENT
BEGIN:VEVENT
DTSTART;TZID=America/Los_Angeles:20260812T100000
DTEND;TZID=America/Los_Angeles:20260812T113000
DTSTAMP:20260422T095429
CREATED:20220916T235030Z
LAST-MODIFIED:20240802T202329Z
UID:10001592-1786528800-1786534200@cancersupportvvsb.org
SUMMARY:ONLINE GROUP: All Cancers Support Group
DESCRIPTION:  \n\nProgram Type: ONLINE Support GroupDay & Time: Wednesday (Weekly)\, 10:00 am-11:30 amLocation: ONLINE (Zoom)Phone: 805-379-4777 \n\n\n\n\n\nPlease contact Programs@cancersupportvvsb.org or 805-379-4777 to register. \n\n\n\n\n\n\n\n\n\n\n\n\n\n\n\n 
URL:https://cancersupportvvsb.org/event/online-group-all-cancers-support-group-2/2026-08-12/
CATEGORIES:Support Group
END:VEVENT
BEGIN:VEVENT
DTSTART;TZID=America/Los_Angeles:20260819T100000
DTEND;TZID=America/Los_Angeles:20260819T113000
DTSTAMP:20260422T095429
CREATED:20220916T235030Z
LAST-MODIFIED:20240802T202329Z
UID:10001593-1787133600-1787139000@cancersupportvvsb.org
SUMMARY:ONLINE GROUP: All Cancers Support Group
DESCRIPTION:  \n\nProgram Type: ONLINE Support GroupDay & Time: Wednesday (Weekly)\, 10:00 am-11:30 amLocation: ONLINE (Zoom)Phone: 805-379-4777 \n\n\n\n\n\nPlease contact Programs@cancersupportvvsb.org or 805-379-4777 to register. \n\n\n\n\n\n\n\n\n\n\n\n\n\n\n\n 
URL:https://cancersupportvvsb.org/event/online-group-all-cancers-support-group-2/2026-08-19/
CATEGORIES:Support Group
END:VEVENT
BEGIN:VEVENT
DTSTART;TZID=America/Los_Angeles:20260826T100000
DTEND;TZID=America/Los_Angeles:20260826T113000
DTSTAMP:20260422T095429
CREATED:20220916T235030Z
LAST-MODIFIED:20240802T202329Z
UID:10001594-1787738400-1787743800@cancersupportvvsb.org
SUMMARY:ONLINE GROUP: All Cancers Support Group
DESCRIPTION:  \n\nProgram Type: ONLINE Support GroupDay & Time: Wednesday (Weekly)\, 10:00 am-11:30 amLocation: ONLINE (Zoom)Phone: 805-379-4777 \n\n\n\n\n\nPlease contact Programs@cancersupportvvsb.org or 805-379-4777 to register. \n\n\n\n\n\n\n\n\n\n\n\n\n\n\n\n 
URL:https://cancersupportvvsb.org/event/online-group-all-cancers-support-group-2/2026-08-26/
CATEGORIES:Support Group
END:VEVENT
BEGIN:VEVENT
DTSTART;TZID=America/Los_Angeles:20260902T100000
DTEND;TZID=America/Los_Angeles:20260902T113000
DTSTAMP:20260422T095429
CREATED:20220916T235030Z
LAST-MODIFIED:20240802T202329Z
UID:10001595-1788343200-1788348600@cancersupportvvsb.org
SUMMARY:ONLINE GROUP: All Cancers Support Group
DESCRIPTION:  \n\nProgram Type: ONLINE Support GroupDay & Time: Wednesday (Weekly)\, 10:00 am-11:30 amLocation: ONLINE (Zoom)Phone: 805-379-4777 \n\n\n\n\n\nPlease contact Programs@cancersupportvvsb.org or 805-379-4777 to register. \n\n\n\n\n\n\n\n\n\n\n\n\n\n\n\n 
URL:https://cancersupportvvsb.org/event/online-group-all-cancers-support-group-2/2026-09-02/
CATEGORIES:Support Group
END:VEVENT
BEGIN:VEVENT
DTSTART;TZID=America/Los_Angeles:20260909T100000
DTEND;TZID=America/Los_Angeles:20260909T113000
DTSTAMP:20260422T095429
CREATED:20220916T235030Z
LAST-MODIFIED:20240802T202329Z
UID:10001596-1788948000-1788953400@cancersupportvvsb.org
SUMMARY:ONLINE GROUP: All Cancers Support Group
DESCRIPTION:  \n\nProgram Type: ONLINE Support GroupDay & Time: Wednesday (Weekly)\, 10:00 am-11:30 amLocation: ONLINE (Zoom)Phone: 805-379-4777 \n\n\n\n\n\nPlease contact Programs@cancersupportvvsb.org or 805-379-4777 to register. \n\n\n\n\n\n\n\n\n\n\n\n\n\n\n\n 
URL:https://cancersupportvvsb.org/event/online-group-all-cancers-support-group-2/2026-09-09/
CATEGORIES:Support Group
END:VEVENT
BEGIN:VEVENT
DTSTART;TZID=America/Los_Angeles:20260916T100000
DTEND;TZID=America/Los_Angeles:20260916T113000
DTSTAMP:20260422T095429
CREATED:20220916T235030Z
LAST-MODIFIED:20240802T202329Z
UID:10001597-1789552800-1789558200@cancersupportvvsb.org
SUMMARY:ONLINE GROUP: All Cancers Support Group
DESCRIPTION:  \n\nProgram Type: ONLINE Support GroupDay & Time: Wednesday (Weekly)\, 10:00 am-11:30 amLocation: ONLINE (Zoom)Phone: 805-379-4777 \n\n\n\n\n\nPlease contact Programs@cancersupportvvsb.org or 805-379-4777 to register. \n\n\n\n\n\n\n\n\n\n\n\n\n\n\n\n 
URL:https://cancersupportvvsb.org/event/online-group-all-cancers-support-group-2/2026-09-16/
CATEGORIES:Support Group
END:VEVENT
BEGIN:VEVENT
DTSTART;TZID=America/Los_Angeles:20260923T100000
DTEND;TZID=America/Los_Angeles:20260923T113000
DTSTAMP:20260422T095429
CREATED:20220916T235030Z
LAST-MODIFIED:20240802T202329Z
UID:10001598-1790157600-1790163000@cancersupportvvsb.org
SUMMARY:ONLINE GROUP: All Cancers Support Group
DESCRIPTION:  \n\nProgram Type: ONLINE Support GroupDay & Time: Wednesday (Weekly)\, 10:00 am-11:30 amLocation: ONLINE (Zoom)Phone: 805-379-4777 \n\n\n\n\n\nPlease contact Programs@cancersupportvvsb.org or 805-379-4777 to register. \n\n\n\n\n\n\n\n\n\n\n\n\n\n\n\n 
URL:https://cancersupportvvsb.org/event/online-group-all-cancers-support-group-2/2026-09-23/
CATEGORIES:Support Group
END:VEVENT
BEGIN:VEVENT
DTSTART;TZID=America/Los_Angeles:20260930T100000
DTEND;TZID=America/Los_Angeles:20260930T113000
DTSTAMP:20260422T095429
CREATED:20220916T235030Z
LAST-MODIFIED:20240802T202329Z
UID:10001599-1790762400-1790767800@cancersupportvvsb.org
SUMMARY:ONLINE GROUP: All Cancers Support Group
DESCRIPTION:  \n\nProgram Type: ONLINE Support GroupDay & Time: Wednesday (Weekly)\, 10:00 am-11:30 amLocation: ONLINE (Zoom)Phone: 805-379-4777 \n\n\n\n\n\nPlease contact Programs@cancersupportvvsb.org or 805-379-4777 to register. \n\n\n\n\n\n\n\n\n\n\n\n\n\n\n\n 
URL:https://cancersupportvvsb.org/event/online-group-all-cancers-support-group-2/2026-09-30/
CATEGORIES:Support Group
END:VEVENT
BEGIN:VEVENT
DTSTART;TZID=America/Los_Angeles:20261007T100000
DTEND;TZID=America/Los_Angeles:20261007T113000
DTSTAMP:20260422T095429
CREATED:20220916T235030Z
LAST-MODIFIED:20240802T202329Z
UID:10001600-1791367200-1791372600@cancersupportvvsb.org
SUMMARY:ONLINE GROUP: All Cancers Support Group
DESCRIPTION:  \n\nProgram Type: ONLINE Support GroupDay & Time: Wednesday (Weekly)\, 10:00 am-11:30 amLocation: ONLINE (Zoom)Phone: 805-379-4777 \n\n\n\n\n\nPlease contact Programs@cancersupportvvsb.org or 805-379-4777 to register. \n\n\n\n\n\n\n\n\n\n\n\n\n\n\n\n 
URL:https://cancersupportvvsb.org/event/online-group-all-cancers-support-group-2/2026-10-07/
CATEGORIES:Support Group
END:VEVENT
BEGIN:VEVENT
DTSTART;TZID=America/Los_Angeles:20261014T100000
DTEND;TZID=America/Los_Angeles:20261014T113000
DTSTAMP:20260422T095429
CREATED:20220916T235030Z
LAST-MODIFIED:20240802T202329Z
UID:10001601-1791972000-1791977400@cancersupportvvsb.org
SUMMARY:ONLINE GROUP: All Cancers Support Group
DESCRIPTION:  \n\nProgram Type: ONLINE Support GroupDay & Time: Wednesday (Weekly)\, 10:00 am-11:30 amLocation: ONLINE (Zoom)Phone: 805-379-4777 \n\n\n\n\n\nPlease contact Programs@cancersupportvvsb.org or 805-379-4777 to register. \n\n\n\n\n\n\n\n\n\n\n\n\n\n\n\n 
URL:https://cancersupportvvsb.org/event/online-group-all-cancers-support-group-2/2026-10-14/
CATEGORIES:Support Group
END:VEVENT
BEGIN:VEVENT
DTSTART;TZID=America/Los_Angeles:20261021T100000
DTEND;TZID=America/Los_Angeles:20261021T113000
DTSTAMP:20260422T095429
CREATED:20220916T235030Z
LAST-MODIFIED:20240802T202329Z
UID:10001602-1792576800-1792582200@cancersupportvvsb.org
SUMMARY:ONLINE GROUP: All Cancers Support Group
DESCRIPTION:  \n\nProgram Type: ONLINE Support GroupDay & Time: Wednesday (Weekly)\, 10:00 am-11:30 amLocation: ONLINE (Zoom)Phone: 805-379-4777 \n\n\n\n\n\nPlease contact Programs@cancersupportvvsb.org or 805-379-4777 to register. \n\n\n\n\n\n\n\n\n\n\n\n\n\n\n\n 
URL:https://cancersupportvvsb.org/event/online-group-all-cancers-support-group-2/2026-10-21/
CATEGORIES:Support Group
END:VEVENT
BEGIN:VEVENT
DTSTART;TZID=America/Los_Angeles:20261028T100000
DTEND;TZID=America/Los_Angeles:20261028T113000
DTSTAMP:20260422T095429
CREATED:20220916T235030Z
LAST-MODIFIED:20240802T202329Z
UID:10001603-1793181600-1793187000@cancersupportvvsb.org
SUMMARY:ONLINE GROUP: All Cancers Support Group
DESCRIPTION:  \n\nProgram Type: ONLINE Support GroupDay & Time: Wednesday (Weekly)\, 10:00 am-11:30 amLocation: ONLINE (Zoom)Phone: 805-379-4777 \n\n\n\n\n\nPlease contact Programs@cancersupportvvsb.org or 805-379-4777 to register. \n\n\n\n\n\n\n\n\n\n\n\n\n\n\n\n 
URL:https://cancersupportvvsb.org/event/online-group-all-cancers-support-group-2/2026-10-28/
CATEGORIES:Support Group
END:VEVENT
BEGIN:VEVENT
DTSTART;TZID=America/Los_Angeles:20261104T100000
DTEND;TZID=America/Los_Angeles:20261104T113000
DTSTAMP:20260422T095429
CREATED:20220916T235030Z
LAST-MODIFIED:20240802T202329Z
UID:10001604-1793786400-1793791800@cancersupportvvsb.org
SUMMARY:ONLINE GROUP: All Cancers Support Group
DESCRIPTION:  \n\nProgram Type: ONLINE Support GroupDay & Time: Wednesday (Weekly)\, 10:00 am-11:30 amLocation: ONLINE (Zoom)Phone: 805-379-4777 \n\n\n\n\n\nPlease contact Programs@cancersupportvvsb.org or 805-379-4777 to register. \n\n\n\n\n\n\n\n\n\n\n\n\n\n\n\n 
URL:https://cancersupportvvsb.org/event/online-group-all-cancers-support-group-2/2026-11-04/
CATEGORIES:Support Group
END:VEVENT
BEGIN:VEVENT
DTSTART;TZID=America/Los_Angeles:20261111T100000
DTEND;TZID=America/Los_Angeles:20261111T113000
DTSTAMP:20260422T095429
CREATED:20220916T235030Z
LAST-MODIFIED:20240802T202329Z
UID:10001605-1794391200-1794396600@cancersupportvvsb.org
SUMMARY:ONLINE GROUP: All Cancers Support Group
DESCRIPTION:  \n\nProgram Type: ONLINE Support GroupDay & Time: Wednesday (Weekly)\, 10:00 am-11:30 amLocation: ONLINE (Zoom)Phone: 805-379-4777 \n\n\n\n\n\nPlease contact Programs@cancersupportvvsb.org or 805-379-4777 to register. \n\n\n\n\n\n\n\n\n\n\n\n\n\n\n\n 
URL:https://cancersupportvvsb.org/event/online-group-all-cancers-support-group-2/2026-11-11/
CATEGORIES:Support Group
END:VEVENT
BEGIN:VEVENT
DTSTART;TZID=America/Los_Angeles:20261118T100000
DTEND;TZID=America/Los_Angeles:20261118T113000
DTSTAMP:20260422T095429
CREATED:20220916T235030Z
LAST-MODIFIED:20240802T202329Z
UID:10001606-1794996000-1795001400@cancersupportvvsb.org
SUMMARY:ONLINE GROUP: All Cancers Support Group
DESCRIPTION:  \n\nProgram Type: ONLINE Support GroupDay & Time: Wednesday (Weekly)\, 10:00 am-11:30 amLocation: ONLINE (Zoom)Phone: 805-379-4777 \n\n\n\n\n\nPlease contact Programs@cancersupportvvsb.org or 805-379-4777 to register. \n\n\n\n\n\n\n\n\n\n\n\n\n\n\n\n 
URL:https://cancersupportvvsb.org/event/online-group-all-cancers-support-group-2/2026-11-18/
CATEGORIES:Support Group
END:VEVENT
BEGIN:VEVENT
DTSTART;TZID=America/Los_Angeles:20261125T100000
DTEND;TZID=America/Los_Angeles:20261125T113000
DTSTAMP:20260422T095429
CREATED:20220916T235030Z
LAST-MODIFIED:20240802T202329Z
UID:10001607-1795600800-1795606200@cancersupportvvsb.org
SUMMARY:ONLINE GROUP: All Cancers Support Group
DESCRIPTION:  \n\nProgram Type: ONLINE Support GroupDay & Time: Wednesday (Weekly)\, 10:00 am-11:30 amLocation: ONLINE (Zoom)Phone: 805-379-4777 \n\n\n\n\n\nPlease contact Programs@cancersupportvvsb.org or 805-379-4777 to register. \n\n\n\n\n\n\n\n\n\n\n\n\n\n\n\n 
URL:https://cancersupportvvsb.org/event/online-group-all-cancers-support-group-2/2026-11-25/
CATEGORIES:Support Group
END:VEVENT
BEGIN:VEVENT
DTSTART;TZID=America/Los_Angeles:20261202T100000
DTEND;TZID=America/Los_Angeles:20261202T113000
DTSTAMP:20260422T095429
CREATED:20220916T235030Z
LAST-MODIFIED:20240802T202329Z
UID:10001608-1796205600-1796211000@cancersupportvvsb.org
SUMMARY:ONLINE GROUP: All Cancers Support Group
DESCRIPTION:  \n\nProgram Type: ONLINE Support GroupDay & Time: Wednesday (Weekly)\, 10:00 am-11:30 amLocation: ONLINE (Zoom)Phone: 805-379-4777 \n\n\n\n\n\nPlease contact Programs@cancersupportvvsb.org or 805-379-4777 to register. \n\n\n\n\n\n\n\n\n\n\n\n\n\n\n\n 
URL:https://cancersupportvvsb.org/event/online-group-all-cancers-support-group-2/2026-12-02/
CATEGORIES:Support Group
END:VEVENT
BEGIN:VEVENT
DTSTART;TZID=America/Los_Angeles:20261209T100000
DTEND;TZID=America/Los_Angeles:20261209T113000
DTSTAMP:20260422T095429
CREATED:20220916T235030Z
LAST-MODIFIED:20240802T202329Z
UID:10001609-1796810400-1796815800@cancersupportvvsb.org
SUMMARY:ONLINE GROUP: All Cancers Support Group
DESCRIPTION:  \n\nProgram Type: ONLINE Support GroupDay & Time: Wednesday (Weekly)\, 10:00 am-11:30 amLocation: ONLINE (Zoom)Phone: 805-379-4777 \n\n\n\n\n\nPlease contact Programs@cancersupportvvsb.org or 805-379-4777 to register. \n\n\n\n\n\n\n\n\n\n\n\n\n\n\n\n 
URL:https://cancersupportvvsb.org/event/online-group-all-cancers-support-group-2/2026-12-09/
CATEGORIES:Support Group
END:VEVENT
BEGIN:VEVENT
DTSTART;TZID=America/Los_Angeles:20261216T100000
DTEND;TZID=America/Los_Angeles:20261216T113000
DTSTAMP:20260422T095429
CREATED:20220916T235030Z
LAST-MODIFIED:20240802T202329Z
UID:10001610-1797415200-1797420600@cancersupportvvsb.org
SUMMARY:ONLINE GROUP: All Cancers Support Group
DESCRIPTION:  \n\nProgram Type: ONLINE Support GroupDay & Time: Wednesday (Weekly)\, 10:00 am-11:30 amLocation: ONLINE (Zoom)Phone: 805-379-4777 \n\n\n\n\n\nPlease contact Programs@cancersupportvvsb.org or 805-379-4777 to register. \n\n\n\n\n\n\n\n\n\n\n\n\n\n\n\n 
URL:https://cancersupportvvsb.org/event/online-group-all-cancers-support-group-2/2026-12-16/
CATEGORIES:Support Group
END:VEVENT
BEGIN:VEVENT
DTSTART;TZID=America/Los_Angeles:20261223T100000
DTEND;TZID=America/Los_Angeles:20261223T113000
DTSTAMP:20260422T095429
CREATED:20220916T235030Z
LAST-MODIFIED:20240802T202329Z
UID:10001611-1798020000-1798025400@cancersupportvvsb.org
SUMMARY:ONLINE GROUP: All Cancers Support Group
DESCRIPTION:  \n\nProgram Type: ONLINE Support GroupDay & Time: Wednesday (Weekly)\, 10:00 am-11:30 amLocation: ONLINE (Zoom)Phone: 805-379-4777 \n\n\n\n\n\nPlease contact Programs@cancersupportvvsb.org or 805-379-4777 to register. \n\n\n\n\n\n\n\n\n\n\n\n\n\n\n\n 
URL:https://cancersupportvvsb.org/event/online-group-all-cancers-support-group-2/2026-12-23/
CATEGORIES:Support Group
END:VEVENT
BEGIN:VEVENT
DTSTART;TZID=America/Los_Angeles:20261230T100000
DTEND;TZID=America/Los_Angeles:20261230T113000
DTSTAMP:20260422T095429
CREATED:20220916T235030Z
LAST-MODIFIED:20240802T202329Z
UID:10001612-1798624800-1798630200@cancersupportvvsb.org
SUMMARY:ONLINE GROUP: All Cancers Support Group
DESCRIPTION:  \n\nProgram Type: ONLINE Support GroupDay & Time: Wednesday (Weekly)\, 10:00 am-11:30 amLocation: ONLINE (Zoom)Phone: 805-379-4777 \n\n\n\n\n\nPlease contact Programs@cancersupportvvsb.org or 805-379-4777 to register. \n\n\n\n\n\n\n\n\n\n\n\n\n\n\n\n 
URL:https://cancersupportvvsb.org/event/online-group-all-cancers-support-group-2/2026-12-30/
CATEGORIES:Support Group
END:VEVENT
BEGIN:VEVENT
DTSTART;TZID=America/Los_Angeles:20270106T100000
DTEND;TZID=America/Los_Angeles:20270106T113000
DTSTAMP:20260422T095429
CREATED:20220916T235030Z
LAST-MODIFIED:20240802T202329Z
UID:10001613-1799229600-1799235000@cancersupportvvsb.org
SUMMARY:ONLINE GROUP: All Cancers Support Group
DESCRIPTION:  \n\nProgram Type: ONLINE Support GroupDay & Time: Wednesday (Weekly)\, 10:00 am-11:30 amLocation: ONLINE (Zoom)Phone: 805-379-4777 \n\n\n\n\n\nPlease contact Programs@cancersupportvvsb.org or 805-379-4777 to register. \n\n\n\n\n\n\n\n\n\n\n\n\n\n\n\n 
URL:https://cancersupportvvsb.org/event/online-group-all-cancers-support-group-2/2027-01-06/
CATEGORIES:Support Group
END:VEVENT
BEGIN:VEVENT
DTSTART;TZID=America/Los_Angeles:20270113T100000
DTEND;TZID=America/Los_Angeles:20270113T113000
DTSTAMP:20260422T095429
CREATED:20220916T235030Z
LAST-MODIFIED:20240802T202329Z
UID:10001614-1799834400-1799839800@cancersupportvvsb.org
SUMMARY:ONLINE GROUP: All Cancers Support Group
DESCRIPTION:  \n\nProgram Type: ONLINE Support GroupDay & Time: Wednesday (Weekly)\, 10:00 am-11:30 amLocation: ONLINE (Zoom)Phone: 805-379-4777 \n\n\n\n\n\nPlease contact Programs@cancersupportvvsb.org or 805-379-4777 to register. \n\n\n\n\n\n\n\n\n\n\n\n\n\n\n\n 
URL:https://cancersupportvvsb.org/event/online-group-all-cancers-support-group-2/2027-01-13/
CATEGORIES:Support Group
END:VEVENT
BEGIN:VEVENT
DTSTART;TZID=America/Los_Angeles:20270120T100000
DTEND;TZID=America/Los_Angeles:20270120T113000
DTSTAMP:20260422T095429
CREATED:20220916T235030Z
LAST-MODIFIED:20240802T202329Z
UID:10001615-1800439200-1800444600@cancersupportvvsb.org
SUMMARY:ONLINE GROUP: All Cancers Support Group
DESCRIPTION:  \n\nProgram Type: ONLINE Support GroupDay & Time: Wednesday (Weekly)\, 10:00 am-11:30 amLocation: ONLINE (Zoom)Phone: 805-379-4777 \n\n\n\n\n\nPlease contact Programs@cancersupportvvsb.org or 805-379-4777 to register. \n\n\n\n\n\n\n\n\n\n\n\n\n\n\n\n 
URL:https://cancersupportvvsb.org/event/online-group-all-cancers-support-group-2/2027-01-20/
CATEGORIES:Support Group
END:VEVENT
BEGIN:VEVENT
DTSTART;TZID=America/Los_Angeles:20270127T100000
DTEND;TZID=America/Los_Angeles:20270127T113000
DTSTAMP:20260422T095429
CREATED:20220916T235030Z
LAST-MODIFIED:20240802T202329Z
UID:10001616-1801044000-1801049400@cancersupportvvsb.org
SUMMARY:ONLINE GROUP: All Cancers Support Group
DESCRIPTION:  \n\nProgram Type: ONLINE Support GroupDay & Time: Wednesday (Weekly)\, 10:00 am-11:30 amLocation: ONLINE (Zoom)Phone: 805-379-4777 \n\n\n\n\n\nPlease contact Programs@cancersupportvvsb.org or 805-379-4777 to register. \n\n\n\n\n\n\n\n\n\n\n\n\n\n\n\n 
URL:https://cancersupportvvsb.org/event/online-group-all-cancers-support-group-2/2027-01-27/
CATEGORIES:Support Group
END:VEVENT
BEGIN:VEVENT
DTSTART;TZID=America/Los_Angeles:20270203T100000
DTEND;TZID=America/Los_Angeles:20270203T113000
DTSTAMP:20260422T095429
CREATED:20220916T235030Z
LAST-MODIFIED:20240802T202329Z
UID:10001617-1801648800-1801654200@cancersupportvvsb.org
SUMMARY:ONLINE GROUP: All Cancers Support Group
DESCRIPTION:  \n\nProgram Type: ONLINE Support GroupDay & Time: Wednesday (Weekly)\, 10:00 am-11:30 amLocation: ONLINE (Zoom)Phone: 805-379-4777 \n\n\n\n\n\nPlease contact Programs@cancersupportvvsb.org or 805-379-4777 to register. \n\n\n\n\n\n\n\n\n\n\n\n\n\n\n\n 
URL:https://cancersupportvvsb.org/event/online-group-all-cancers-support-group-2/2027-02-03/
CATEGORIES:Support Group
END:VEVENT
END:VCALENDAR