BEGIN:VCALENDAR
VERSION:2.0
PRODID:-//Cancer Support Community VVSB - ECPv6.15.18//NONSGML v1.0//EN
CALSCALE:GREGORIAN
METHOD:PUBLISH
X-WR-CALNAME:Cancer Support Community VVSB
X-ORIGINAL-URL:https://cancersupportvvsb.org
X-WR-CALDESC:Events for Cancer Support Community VVSB
REFRESH-INTERVAL;VALUE=DURATION:PT1H
X-Robots-Tag:noindex
X-PUBLISHED-TTL:PT1H
BEGIN:VTIMEZONE
TZID:America/Los_Angeles
BEGIN:DAYLIGHT
TZOFFSETFROM:-0800
TZOFFSETTO:-0700
TZNAME:PDT
DTSTART:20220313T100000
END:DAYLIGHT
BEGIN:STANDARD
TZOFFSETFROM:-0700
TZOFFSETTO:-0800
TZNAME:PST
DTSTART:20221106T090000
END:STANDARD
BEGIN:DAYLIGHT
TZOFFSETFROM:-0800
TZOFFSETTO:-0700
TZNAME:PDT
DTSTART:20230312T100000
END:DAYLIGHT
BEGIN:STANDARD
TZOFFSETFROM:-0700
TZOFFSETTO:-0800
TZNAME:PST
DTSTART:20231105T090000
END:STANDARD
BEGIN:DAYLIGHT
TZOFFSETFROM:-0800
TZOFFSETTO:-0700
TZNAME:PDT
DTSTART:20240310T100000
END:DAYLIGHT
BEGIN:STANDARD
TZOFFSETFROM:-0700
TZOFFSETTO:-0800
TZNAME:PST
DTSTART:20241103T090000
END:STANDARD
END:VTIMEZONE
BEGIN:VEVENT
DTSTART;TZID=America/Los_Angeles:20230227T120000
DTEND;TZID=America/Los_Angeles:20230227T130000
DTSTAMP:20260423T195902
CREATED:20221216T182135Z
LAST-MODIFIED:20250825T154144Z
UID:10002919-1677499200-1677502800@cancersupportvvsb.org
SUMMARY:ONLINE: Orientation/Newcomer Meeting
DESCRIPTION:  \n\nEvery Monday at 12pm Online (Zoom) \n\n\n\nOne on One Orientation and In-Person upon request.RSVP: Form below \n\n\n\n\n\n\n                \n                        \n                            Orientation\n                             \n                        \n                        Please select the Monday of your chosen OrientationDate\n                            \n                            MM slash DD slash YYYY\n                        \n                        Personal InformationThe following information will ONLY be used for funding purposes and program assessment with NO identifying information.Name(Required)\n                            \n                            \n                                                    \n                                                    First\n                                                \n                            \n                            \n                                                    \n                                                    Last\n                                                \n                            \n                        Phone(Required)Email(Required)\n                            \n                        Zip Code(Required)I am a(Required)Person who has cancerPerson who had cancerSupport person/family memberBereaved person (who has lost a loved one to cancer)Healthcare professionalOtherGender Identity(Required)ManNonbinaryTransmanTranswomanWomanOtherRace/Ethnicity(Required)\n								\n								Asian/Pacific Islander\n							\n								\n								Black/African American (non-Hispanic)\n							\n								\n								Black-Hispanic\n							\n								\n								American Indian/Alaska Native/First Nations\n							\n								\n								White-Hispanic\n							\n								\n								White (non-Hispanic)\n							\n								\n								Other\n							\n          \n            \n            \n            \n            \n            \n            \n            \n            \n            \n            \n            \n            \n            \n        \n                        \n                        \n\n\n\n\n\n\n\n\n\n\n\n\n\nNeed a different date/time or in-person?\nEmail: programs@cancersupportvvsb.org\nCall: 805-379-4777
URL:https://cancersupportvvsb.org/event/online-orientation-newcomer-meeting/2023-02-27/
CATEGORIES:Orientation/Newcomer Meeting
END:VEVENT
BEGIN:VEVENT
DTSTART;TZID=America/Los_Angeles:20230227T170000
DTEND;TZID=America/Los_Angeles:20230227T183000
DTSTAMP:20260423T195902
CREATED:20220916T205559Z
LAST-MODIFIED:20251103T185751Z
UID:10000396-1677517200-1677522600@cancersupportvvsb.org
SUMMARY:ONLINE GROUP: Life after Breast Cancer – Survivorship Support Group
DESCRIPTION:Program Type: ONLINE Support GroupDay & Time: 2nd & 4th Mondays\, 5:00 pm -6:30 pmLocation: ONLINE (Zoom)Phone: 805-379-4777 \n\n\n\n\n\nPlease contact Programs@cancersupportvvsb.org or 805-379-4777 to register. \n\n\n\n\n\n\n\n\n\n\n\n\n\n\n\n 
URL:https://cancersupportvvsb.org/event/online-group-life-after-breast-cancer-survivorship-support-group/2023-02-27/
CATEGORIES:Support Group
END:VEVENT
BEGIN:VEVENT
DTSTART;TZID=America/Los_Angeles:20230228T093000
DTEND;TZID=America/Los_Angeles:20230228T103000
DTSTAMP:20260423T195902
CREATED:20230119T172940Z
LAST-MODIFIED:20230123T181643Z
UID:10003012-1677576600-1677580200@cancersupportvvsb.org
SUMMARY:Coffee with the ED
DESCRIPTION:Date: Tuesday\, February 28\, 2023Time: 9:30 – 10:30 amLocation: Cancer Support Community VVSB office – 530 Hampshire Road\, Westlake Village\, CA 91361 \n\n\n\nEvent Description: \n\n\n\nPlease join us for coffee and conversation with Executive Director Monica Merryman\, including 2023 updates and plans\, followed by a Q&A session.
URL:https://cancersupportvvsb.org/event/coffee-with-the-ed/
CATEGORIES:Special Event
END:VEVENT
BEGIN:VEVENT
DTSTART;TZID=America/Los_Angeles:20230228T113000
DTEND;TZID=America/Los_Angeles:20230228T130000
DTSTAMP:20260423T195902
CREATED:20220916T233614Z
LAST-MODIFIED:20241030T211537Z
UID:10000629-1677583800-1677589200@cancersupportvvsb.org
SUMMARY:ONLINE GROUP: Advanced Stage Breast Cancer Support Group
DESCRIPTION:Program Type: ONLINE Support GroupDay & Time: Tuesday (Weekly)\, 11:30 am-1:00 pmLocation: ONLINE (Zoom)Phone: 805-379-4777 \n\n\n\n\n\nPlease contact Programs@cancersupportvvsb.org or 805-379-4777 to register. \n\n\n\n\n\n\n\n\n\n\n\n\n\n\n\n 
URL:https://cancersupportvvsb.org/event/online-group-advanced-stage-breast-cancer-support-group/2023-02-28/
CATEGORIES:Support Group
END:VEVENT
BEGIN:VEVENT
DTSTART;TZID=America/Los_Angeles:20230228T133000
DTEND;TZID=America/Los_Angeles:20230228T143000
DTSTAMP:20260423T195902
CREATED:20220919T210632Z
LAST-MODIFIED:20251124T213748Z
UID:10002710-1677591000-1677594600@cancersupportvvsb.org
SUMMARY:ONLINE CLASS: Guided Imagery
DESCRIPTION:Program Type: Guided ImageryDay & Time: Tuesdays (Weekly)\, 1:30 pm -2:30 pmLocation: ONLINE (Zoom)Phone: 805-379-4777 \n\n\n\nVisualization has been shown to be effective in reducing pain\, decreasing anxiety\, and boosting the immune system. The facilitator will guide you through a relaxation and guided imagery process that is tailor-made to meet the needs and requests of the members that are present at that particular session. \n\n\n\nPlease fill out the form below. Should you have any questions please email programs@cancersupportvvsb.org or call the office at 805-379-4777 \n\n\n\n\n\n                \n                        \n                            Guided Imagery Class Registration\n                             \n                        \n                        Personal InformationThe following information will ONLY be used for funding purposes and program assessment with NO identifying informationName(Required)\n                            \n                            \n                                                    \n                                                    First\n                                                \n                            \n                            \n                                                    \n                                                    Last\n                                                \n                            \n                        Email(Required)\n                            \n                        Phone(Required)Zip Code(Required)I am a CSCVVSB Member(Required)YesNoPlease Fill out our New Visitor Form\n\nNew Visitor Form.I am a(Required)I am a person that has cancerI am a person that had cancerSupport person/family memberBereaved person (who has lost a loved one to cancer)Healthcare professionalOtherGender Identity(Required)ManNonbinaryTransmanTranswomanWomanOtherRace/Ethnicity(Required)\n								\n								Asian/Pacific Islander\n							\n								\n								Black/African American (non-Hispanic)\n							\n								\n								Black-Hispanic\n							\n								\n								American Indian/Alaska Native/First Nations\n							\n								\n								White-Hispanic\n							\n								\n								White (non-Hispanic)\n							\n								\n								Other\n							\n          \n            \n            \n            \n            \n            \n            \n            \n            \n            \n            \n            \n            \n            \n        \n                        \n                        \n\n\n\n\n\n\n\n\n\n\n\n\n\n 
URL:https://cancersupportvvsb.org/event/online-class-guided-imagery/2023-02-28/
CATEGORIES:Healthy Lifestyle Class
END:VEVENT
BEGIN:VEVENT
DTSTART;TZID=America/Los_Angeles:20230228T170000
DTEND;TZID=America/Los_Angeles:20230228T183000
DTSTAMP:20260423T195902
CREATED:20220916T233839Z
LAST-MODIFIED:20251103T185537Z
UID:10000890-1677603600-1677609000@cancersupportvvsb.org
SUMMARY:ONLINE GROUP: Newly Diagnosed Early Stage Breast Cancer Support Group
DESCRIPTION:Program Type: ONLINE Support GroupDay & Time: Tuesday (Weekly)\, 5:00 pm-6:30 pmLocation: ONLINE (Zoom)Phone: 805-379-4777 \n\n\n\n\n\nPlease contact Programs@cancersupportvvsb.org or 805-379-4777 to register. \n\n\n\n\n\n\n\n\n\n\n\n\n\n\n\n 
URL:https://cancersupportvvsb.org/event/online-group-newly-diagnosed-early-stage-breast-cancer-support-group/2023-02-28/
CATEGORIES:Support Group
END:VEVENT
BEGIN:VEVENT
DTSTART;TZID=America/Los_Angeles:20230228T170000
DTEND;TZID=America/Los_Angeles:20230228T183000
DTSTAMP:20260423T195902
CREATED:20220916T234419Z
LAST-MODIFIED:20251103T185722Z
UID:10001151-1677603600-1677609000@cancersupportvvsb.org
SUMMARY:ONLINE GROUP: All Cancers Support Group
DESCRIPTION:Program Type: ONLINE Support GroupDay & Time: Tuesday (Weekly)\, 5:00 pm-6:30 pmLocation: ONLINE (Zoom)Phone: 805-379-4777 \n\n\n\n\n\nPlease contact Programs@cancersupportvvsb.org or 805-379-4777 to register. \n\n\n\n\n\n\n\n\n\n\n\n\n\n\n\n 
URL:https://cancersupportvvsb.org/event/online-group-all-cancers-support-group/2023-02-28/
CATEGORIES:Support Group
END:VEVENT
BEGIN:VEVENT
DTSTART;TZID=America/Los_Angeles:20230301T100000
DTEND;TZID=America/Los_Angeles:20230301T113000
DTSTAMP:20260423T195902
CREATED:20220916T235030Z
LAST-MODIFIED:20240802T202329Z
UID:10001412-1677664800-1677670200@cancersupportvvsb.org
SUMMARY:ONLINE GROUP: All Cancers Support Group
DESCRIPTION:  \n\nProgram Type: ONLINE Support GroupDay & Time: Wednesday (Weekly)\, 10:00 am-11:30 amLocation: ONLINE (Zoom)Phone: 805-379-4777 \n\n\n\n\n\nPlease contact Programs@cancersupportvvsb.org or 805-379-4777 to register. \n\n\n\n\n\n\n\n\n\n\n\n\n\n\n\n 
URL:https://cancersupportvvsb.org/event/online-group-all-cancers-support-group-2/2023-03-01/
CATEGORIES:Support Group
END:VEVENT
BEGIN:VEVENT
DTSTART;TZID=America/Los_Angeles:20230301T170000
DTEND;TZID=America/Los_Angeles:20230301T183000
DTSTAMP:20260423T195902
CREATED:20221216T001345Z
LAST-MODIFIED:20251103T185046Z
UID:10003523-1677690000-1677695400@cancersupportvvsb.org
SUMMARY:HYBRID GROUP: All Cancers Support Group
DESCRIPTION:Program Type: HYBRID Support GroupDay & Time: Wednesday (Weekly)\, 5:00 pm-6:30 pmLocation: ONLINE (Zoom) OR In-Person at Westlake Village OfficePhone: 805-379-4777 \n\n\n\n \nPlease contact Programs@cancersupportvvsb.org or 805-379-4777 to register. \n \n\n\n\n\n\n\n\n\n\n\n\n\n\n 
URL:https://cancersupportvvsb.org/event/hybrid-group-all-cancers-support-group/2023-03-01/
CATEGORIES:Support Group
END:VEVENT
BEGIN:VEVENT
DTSTART;TZID=America/Los_Angeles:20230302T100000
DTEND;TZID=America/Los_Angeles:20230302T113000
DTSTAMP:20260423T195902
CREATED:20220916T235558Z
LAST-MODIFIED:20240828T215534Z
UID:10001934-1677751200-1677756600@cancersupportvvsb.org
SUMMARY:ONLINE GROUP: All Cancers Support Group
DESCRIPTION:  \n\nProgram Type: ONLINE Support GroupDay & Time: Thursday (Weekly)\, 10:00 am – 11:30 amLocation: ONLINE (Zoom)Phone: 805-379-4777 \n\n\n\n  \n\n\n\nPlease contact Programs@cancersupportvvsb.org or 805-379-4777 to register. \n\n\n\n\n\n\n\n\n\n\n\n\n\n\n\n 
URL:https://cancersupportvvsb.org/event/online-group-all-cancers-support-group-4/2023-03-02/
CATEGORIES:Support Group
END:VEVENT
BEGIN:VEVENT
DTSTART;TZID=America/Los_Angeles:20230302T180000
DTEND;TZID=America/Los_Angeles:20230302T193000
DTSTAMP:20260423T195902
CREATED:20220919T205317Z
LAST-MODIFIED:20251103T185126Z
UID:10002599-1677780000-1677785400@cancersupportvvsb.org
SUMMARY:ONLINE GROUP: Bereavement Support Group
DESCRIPTION:Program Type: ONLINE Support GroupDay & Time: Thursdays (Weekly)\, 6:00 pm – 7:30 pmLocation: ONLINE (Zoom)Phone: 805-379-4777 \n\n\n\n\n\nThis is a Support Group for those who have experienced the loss of someone from cancer. Facilitated by a licensed mental health professional\, family and friends who have lost loved ones to cancer\, come together to practice self-care. \n\n\n\nPlease contact Programs@cancersupportvvsb.org or 805-379-4777 to register. \n\n\n\n\n\n\n\n\n\n\n\n\n\n\n\n 
URL:https://cancersupportvvsb.org/event/online-group-bereavement-support-group-3/2023-03-02/
CATEGORIES:Support Group
END:VEVENT
END:VCALENDAR