BEGIN:VCALENDAR
VERSION:2.0
PRODID:-//Cancer Support Community VVSB - ECPv6.15.18//NONSGML v1.0//EN
CALSCALE:GREGORIAN
METHOD:PUBLISH
X-ORIGINAL-URL:https://cancersupportvvsb.org
X-WR-CALDESC:Events for Cancer Support Community VVSB
REFRESH-INTERVAL;VALUE=DURATION:PT1H
X-Robots-Tag:noindex
X-PUBLISHED-TTL:PT1H
BEGIN:VTIMEZONE
TZID:America/Los_Angeles
BEGIN:DAYLIGHT
TZOFFSETFROM:-0800
TZOFFSETTO:-0700
TZNAME:PDT
DTSTART:20240310T100000
END:DAYLIGHT
BEGIN:STANDARD
TZOFFSETFROM:-0700
TZOFFSETTO:-0800
TZNAME:PST
DTSTART:20241103T090000
END:STANDARD
BEGIN:DAYLIGHT
TZOFFSETFROM:-0800
TZOFFSETTO:-0700
TZNAME:PDT
DTSTART:20250309T100000
END:DAYLIGHT
BEGIN:STANDARD
TZOFFSETFROM:-0700
TZOFFSETTO:-0800
TZNAME:PST
DTSTART:20251102T090000
END:STANDARD
BEGIN:DAYLIGHT
TZOFFSETFROM:-0800
TZOFFSETTO:-0700
TZNAME:PDT
DTSTART:20260308T100000
END:DAYLIGHT
BEGIN:STANDARD
TZOFFSETFROM:-0700
TZOFFSETTO:-0800
TZNAME:PST
DTSTART:20261101T090000
END:STANDARD
END:VTIMEZONE
BEGIN:VEVENT
DTSTART;TZID=America/Los_Angeles:20250531T090000
DTEND;TZID=America/Los_Angeles:20250531T120000
DTSTAMP:20260424T112828
CREATED:20250501T222300Z
LAST-MODIFIED:20250505T153532Z
UID:10012814-1748682000-1748692800@cancersupportvvsb.org
SUMMARY:Hope Walk Social!
DESCRIPTION:Join us on Saturday\, May 31st for the last Hope Walk Social before the walk! Come for breakfast\, make your team signs or other crafts\, pick up your fundraising incentive prize\, and socialize with other participants. All attendees will be entered in a fun raffle!
URL:https://cancersupportvvsb.org/event/hope-walk-social-final/
LOCATION:Cancer Support Community\, 4195 E Thousand Oaks Blvd #107\, Westlake Village\, CA\, 91362\, United States
CATEGORIES:Special Event
ATTACH;FMTTYPE=image/png:https://cancersupportvvsb.org/wp-content/uploads/2025/01/HopeWalk2025-e1746459321620.png
END:VEVENT
BEGIN:VEVENT
DTSTART;TZID=America/Los_Angeles:20250512T160000
DTEND;TZID=America/Los_Angeles:20250512T180000
DTSTAMP:20260424T112828
CREATED:20250422T213102Z
LAST-MODIFIED:20250422T213259Z
UID:10012812-1747065600-1747072800@cancersupportvvsb.org
SUMMARY:Tacos and Trivia – May Hope Walk Social!
DESCRIPTION:Interested in learning more about the Hope Walk\, want to meet fellow walkers\, or just enjoy Tacos and Trivia?! Join us at the next Hope Walk Social\, Tacos and Trivia! RSVP today!
URL:https://cancersupportvvsb.org/event/may-hope-walk-social/
LOCATION:Cancer Support Community\, 4195 E Thousand Oaks Blvd #107\, Westlake Village\, CA\, 91362\, United States
CATEGORIES:Special Event
END:VEVENT
BEGIN:VEVENT
DTSTART;TZID=America/Los_Angeles:20250407T160000
DTEND;TZID=America/Los_Angeles:20250407T180000
DTSTAMP:20260424T112828
CREATED:20250312T185811Z
LAST-MODIFIED:20250312T185811Z
UID:10012278-1744041600-1744048800@cancersupportvvsb.org
SUMMARY:April Hope Walk Social!
DESCRIPTION:Interested in learning more about the Hope Walk\, want to meet fellow walkers\, or just enjoy pizza and bingo?! Join us at the next Hope Walk Social\, Pizza Party! RSVP today!
URL:https://cancersupportvvsb.org/event/april-hope-walk-social/
LOCATION:Cancer Support Community\, 4195 E Thousand Oaks Blvd #107\, Westlake Village\, CA\, 91362\, United States
CATEGORIES:Special Event
END:VEVENT
END:VCALENDAR